BEGIN:VCALENDAR
VERSION:2.0
PRODID:-//Conejo Church - ECPv6.15.20//NONSGML v1.0//EN
CALSCALE:GREGORIAN
METHOD:PUBLISH
X-ORIGINAL-URL:https://www.conejochurch.com
X-WR-CALDESC:Events for Conejo Church
REFRESH-INTERVAL;VALUE=DURATION:PT1H
X-Robots-Tag:noindex
X-PUBLISHED-TTL:PT1H
BEGIN:VTIMEZONE
TZID:America/Los_Angeles
BEGIN:DAYLIGHT
TZOFFSETFROM:-0800
TZOFFSETTO:-0700
TZNAME:PDT
DTSTART:20240310T100000
END:DAYLIGHT
BEGIN:STANDARD
TZOFFSETFROM:-0700
TZOFFSETTO:-0800
TZNAME:PST
DTSTART:20241103T090000
END:STANDARD
BEGIN:DAYLIGHT
TZOFFSETFROM:-0800
TZOFFSETTO:-0700
TZNAME:PDT
DTSTART:20250309T100000
END:DAYLIGHT
BEGIN:STANDARD
TZOFFSETFROM:-0700
TZOFFSETTO:-0800
TZNAME:PST
DTSTART:20251102T090000
END:STANDARD
BEGIN:DAYLIGHT
TZOFFSETFROM:-0800
TZOFFSETTO:-0700
TZNAME:PDT
DTSTART:20260308T100000
END:DAYLIGHT
BEGIN:STANDARD
TZOFFSETFROM:-0700
TZOFFSETTO:-0800
TZNAME:PST
DTSTART:20261101T090000
END:STANDARD
END:VTIMEZONE
BEGIN:VEVENT
DTSTART;TZID=America/Los_Angeles:20250725T180000
DTEND;TZID=America/Los_Angeles:20250725T203000
DTSTAMP:20260423T154100
CREATED:20250703T050607Z
LAST-MODIFIED:20250703T050658Z
UID:142798-1753466400-1753475400@www.conejochurch.com
SUMMARY:WOC Girl's Night Out
DESCRIPTION:
URL:https://www.conejochurch.com/event-archive/woc-ladies-night-out/
CATEGORIES:Women of Conejo
ATTACH;FMTTYPE=image/png:https://www.conejochurch.com/wp-content/uploads/2025/07/WOC-Girls-Night-Out-072525-Presentation.png
ORGANIZER;CN="Conejo Women's Ministry":MAILTO:women@conejochurch.com
END:VEVENT
BEGIN:VEVENT
DTSTART;TZID=America/Los_Angeles:20250720T120000
DTEND;TZID=America/Los_Angeles:20250720T123000
DTSTAMP:20260423T154100
CREATED:20250625T030435Z
LAST-MODIFIED:20250625T030435Z
UID:142788-1753012800-1753014600@www.conejochurch.com
SUMMARY:Family Chat
DESCRIPTION:
URL:https://www.conejochurch.com/event-archive/family-chat-8/
LOCATION:Conejo Church\, 480 West Gainsborough\, Thousand Oaks\, CA\, 91360
CATEGORIES:Special Events
ATTACH;FMTTYPE=image/png:https://www.conejochurch.com/wp-content/uploads/2025/06/Conejo-Family-Chat-Presentation-169.png
ORGANIZER;CN="Conejo Church":MAILTO:info@conejochurch.com
END:VEVENT
BEGIN:VEVENT
DTSTART;TZID=America/Los_Angeles:20250718T180000
DTEND;TZID=America/Los_Angeles:20250718T210000
DTSTAMP:20260423T154100
CREATED:20250625T030049Z
LAST-MODIFIED:20250625T030049Z
UID:142783-1752861600-1752872400@www.conejochurch.com
SUMMARY:Swing Dance Fundraiser For Summer Camp
DESCRIPTION:
URL:https://www.conejochurch.com/event-archive/swing-dance-fundraiser-for-summer-camp/
LOCATION:Community Room\, 1555 Simi Town Center Way\, Simi Valley\, CA
CATEGORIES:Conejo Youth
ATTACH;FMTTYPE=image/png:https://www.conejochurch.com/wp-content/uploads/2025/06/Swing-Dance-Fundraiser.png
ORGANIZER;CN="Conejo Youth":MAILTO:youth@conejochurch.com
END:VEVENT
BEGIN:VEVENT
DTSTART;TZID=America/Los_Angeles:20250715T173000
DTEND;TZID=America/Los_Angeles:20250715T193000
DTSTAMP:20260423T154100
CREATED:20250610T185922Z
LAST-MODIFIED:20250610T193017Z
UID:142754-1752600600-1752607800@www.conejochurch.com
SUMMARY:WOC Dinner Crew
DESCRIPTION:Ladies\, join us at Urban Plates\, in the T.O. Mall\, the third Tuesday of every month for dinner with the amazing women of Conejo. You’re invited to be part of the Dinner Crew!
URL:https://www.conejochurch.com/event-archive/woc-dinner-crew-2/
LOCATION:Urban Plates\, 162 W Hillcrest Dr #100\, Thousand Oaks\, 91360
CATEGORIES:Women of Conejo
ATTACH;FMTTYPE=image/png:https://www.conejochurch.com/wp-content/uploads/2025/06/WOC-Dinner-Crew-vs2.png
ORGANIZER;CN="Conejo Women's Ministry":MAILTO:women@conejochurch.com
END:VEVENT
BEGIN:VEVENT
DTSTART;TZID=America/Los_Angeles:20250714T183000
DTEND;TZID=America/Los_Angeles:20250714T200000
DTSTAMP:20260423T154100
CREATED:20250610T194454Z
LAST-MODIFIED:20250704T142704Z
UID:142762-1752517800-1752523200@www.conejochurch.com
SUMMARY:Prayer Night
DESCRIPTION:
URL:https://www.conejochurch.com/event-archive/prayer-night-12/
LOCATION:Conejo Church\, 480 West Gainsborough\, Thousand Oaks\, CA\, 91360
CATEGORIES:Prayer Meetings
ATTACH;FMTTYPE=image/png:https://www.conejochurch.com/wp-content/uploads/2025/06/Prayer-Night-71425.png
ORGANIZER;CN="Conejo Church":MAILTO:info@conejochurch.com
END:VEVENT
BEGIN:VEVENT
DTSTART;TZID=America/Los_Angeles:20250713T120000
DTEND;TZID=America/Los_Angeles:20250713T130000
DTSTAMP:20260423T154100
CREATED:20250610T203605Z
LAST-MODIFIED:20250610T203605Z
UID:142766-1752408000-1752411600@www.conejochurch.com
SUMMARY:Conejo Sunday Lunch
DESCRIPTION:
URL:https://www.conejochurch.com/event-archive/conejo-sunday-lunch/
LOCATION:Conejo Church\, 480 West Gainsborough\, Thousand Oaks\, CA\, 91360
CATEGORIES:Special Events
ATTACH;FMTTYPE=image/png:https://www.conejochurch.com/wp-content/uploads/2025/06/BBQ-Sunday-Lunch-July-13.png
ORGANIZER;CN="Conejo Church":MAILTO:info@conejochurch.com
END:VEVENT
BEGIN:VEVENT
DTSTART;TZID=America/Los_Angeles:20250704T190000
DTEND;TZID=America/Los_Angeles:20250704T213000
DTSTAMP:20260423T154100
CREATED:20250610T204523Z
LAST-MODIFIED:20250629T014029Z
UID:142772-1751655600-1751664600@www.conejochurch.com
SUMMARY:4th of July
DESCRIPTION:
URL:https://www.conejochurch.com/event-archive/4th-of-july/
LOCATION:Dover Hendricks Park\, Dover Ave\, Thousand Oaks\, CA\, 91360
CATEGORIES:Special Events
ATTACH;FMTTYPE=image/png:https://www.conejochurch.com/wp-content/uploads/2025/06/July-4-23-Celebration-vs-3.0.png
ORGANIZER;CN="Conejo Church":MAILTO:info@conejochurch.com
END:VEVENT
BEGIN:VEVENT
DTSTART;TZID=America/Los_Angeles:20250629T113000
DTEND;TZID=America/Los_Angeles:20250629T123000
DTSTAMP:20260423T154100
CREATED:20250604T213957Z
LAST-MODIFIED:20250625T024442Z
UID:142732-1751196600-1751200200@www.conejochurch.com
SUMMARY:Youth Summer Camp Burrito Fundraiser
DESCRIPTION:
URL:https://www.conejochurch.com/event-archive/youth-camp-burrito-fundraiser/
LOCATION:Conejo Church\, 480 West Gainsborough\, Thousand Oaks\, CA\, 91360
CATEGORIES:Conejo Youth
ATTACH;FMTTYPE=image/png:https://www.conejochurch.com/wp-content/uploads/2025/06/Burritos-Fund-Raiser-29-June.png
ORGANIZER;CN="Conejo Youth":MAILTO:youth@conejochurch.com
END:VEVENT
BEGIN:VEVENT
DTSTART;TZID=America/Los_Angeles:20250622T190000
DTEND;TZID=America/Los_Angeles:20250622T210000
DTSTAMP:20260423T154100
CREATED:20250610T182447Z
LAST-MODIFIED:20250610T182447Z
UID:142744-1750618800-1750626000@www.conejochurch.com
SUMMARY:Men's Bowling Night
DESCRIPTION:
URL:https://www.conejochurch.com/event-archive/mens-bowling-night-2/
LOCATION:Sunset Bowling Lanes\, 235 N Moorpark Rd Suite H\, Thousand Oaks\, 91360
CATEGORIES:Conejo Men
ATTACH;FMTTYPE=image/png:https://www.conejochurch.com/wp-content/uploads/2025/06/Conejo-Men-Bowling.png
ORGANIZER;CN="Men's Ministries":MAILTO:lenkrukowski@yahoo.com
END:VEVENT
BEGIN:VEVENT
DTSTART;VALUE=DATE:20250621
DTEND;VALUE=DATE:20250622
DTSTAMP:20260423T154100
CREATED:20250604T215414Z
LAST-MODIFIED:20250604T215431Z
UID:142736-1750464000-1750550399@www.conejochurch.com
SUMMARY:Conejo Youth Beach Day
DESCRIPTION:
URL:https://www.conejochurch.com/event-archive/conejo-youth-beach-day/
LOCATION:Mondos Beach\, 3674 Pacific Coast Hwy\, Ventura\, 93001\, United States
CATEGORIES:Conejo Youth
ATTACH;FMTTYPE=image/png:https://www.conejochurch.com/wp-content/uploads/2025/06/Youth-Beach-Day-Presentation-169-June-21.png
ORGANIZER;CN="Conejo Youth":MAILTO:youth@conejochurch.com
END:VEVENT
BEGIN:VEVENT
DTSTART;TZID=America/Los_Angeles:20250619T183000
DTEND;TZID=America/Los_Angeles:20250619T193000
DTSTAMP:20260423T154100
CREATED:20250607T171709Z
LAST-MODIFIED:20250610T195009Z
UID:142741-1750357800-1750361400@www.conejochurch.com
SUMMARY:Night of Prayer
DESCRIPTION:
URL:https://www.conejochurch.com/event-archive/night-of-prayer-2/
LOCATION:Conejo Church\, 480 West Gainsborough\, Thousand Oaks\, CA\, 91360
CATEGORIES:Prayer Meetings
ATTACH;FMTTYPE=image/png:https://www.conejochurch.com/wp-content/uploads/2025/06/June-19-Prayer.png
ORGANIZER;CN="Conejo Church":MAILTO:info@conejochurch.com
END:VEVENT
BEGIN:VEVENT
DTSTART;TZID=America/Los_Angeles:20250617T173000
DTEND;TZID=America/Los_Angeles:20250617T193000
DTSTAMP:20260423T154100
CREATED:20250610T185137Z
LAST-MODIFIED:20250610T192927Z
UID:142748-1750181400-1750188600@www.conejochurch.com
SUMMARY:WOC Dinner Crew
DESCRIPTION:Ladies\, join us at Urban Plates\, in the T.O. Mall\, the third Tuesday of every month for dinner with the amazing women of Conejo. You’re invited to be part of the Dinner Crew!
URL:https://www.conejochurch.com/event-archive/woc-dinner-crew/
LOCATION:Urban Plates\, 162 W Hillcrest Dr #100\, Thousand Oaks\, 91360
CATEGORIES:Women of Conejo
ATTACH;FMTTYPE=image/png:https://www.conejochurch.com/wp-content/uploads/2025/06/WOC-Dinner-Crew-vs2.png
ORGANIZER;CN="Conejo Women's Ministry":MAILTO:women@conejochurch.com
END:VEVENT
BEGIN:VEVENT
DTSTART;TZID=America/Los_Angeles:20250608T114500
DTEND;TZID=America/Los_Angeles:20250608T123000
DTSTAMP:20260423T154100
CREATED:20250528T094337Z
LAST-MODIFIED:20250528T094337Z
UID:142726-1749383100-1749385800@www.conejochurch.com
SUMMARY:Family Chat
DESCRIPTION:
URL:https://www.conejochurch.com/event-archive/family-chat-7/
LOCATION:Conejo Church\, 480 West Gainsborough\, Thousand Oaks\, CA\, 91360
CATEGORIES:Special Events
ATTACH;FMTTYPE=image/png:https://www.conejochurch.com/wp-content/uploads/2025/05/Family-Chat.png
ORGANIZER;CN="Conejo Church":MAILTO:info@conejochurch.com
END:VEVENT
BEGIN:VEVENT
DTSTART;TZID=America/Los_Angeles:20250518T130000
DTEND;TZID=America/Los_Angeles:20250518T150000
DTSTAMP:20260423T154100
CREATED:20250318T225713Z
LAST-MODIFIED:20250318T232013Z
UID:142643-1747573200-1747580400@www.conejochurch.com
SUMMARY:James Storehouse Annual Fundraiser
DESCRIPTION:Click here to purchase your tickets to attend the JS 2025 fundraiser. See you May 18th at 1 PM.
URL:https://www.conejochurch.com/event-archive/james-storehouse-annual-fundraiser/
LOCATION:Westlake Village Inn\, 31943 Agoura Road\, Westlake Village\, CA\, 91361\, United States
CATEGORIES:Foster Care
ATTACH;FMTTYPE=image/png:https://www.conejochurch.com/wp-content/uploads/2025/03/JS-Fundraiser-2025-vs2.png
END:VEVENT
BEGIN:VEVENT
DTSTART;TZID=America/Los_Angeles:20250509T190000
DTEND;TZID=America/Los_Angeles:20250509T203000
DTSTAMP:20260423T154100
CREATED:20250507T003052Z
LAST-MODIFIED:20250507T003212Z
UID:142706-1746817200-1746822600@www.conejochurch.com
SUMMARY:Missions Update on Romania
DESCRIPTION:Tavi Berechet is a church planter in southern Romania\, a region with a very small percentage of evangelical believers. He and his co-pastor Alecs are here in the US for a few weeks and are eager to share with American brothers and sisters about what God has done and is doing in their corner of the world. Ryan Mayfield is hosting them in his home May 09\, 7 PM. Please reach out to Ryan if you would like to attend: missions@conejochurch.com.
URL:https://www.conejochurch.com/event-archive/missions-update-on-romania/
CATEGORIES:Global Missions
ATTACH;FMTTYPE=image/jpeg:https://www.conejochurch.com/wp-content/uploads/2025/05/image000001.jpg
ORGANIZER;CN="Conejo Missions":MAILTO:missions@conejochurch.com
END:VEVENT
BEGIN:VEVENT
DTSTART;TZID=America/Los_Angeles:20250504T090000
DTEND;TZID=America/Los_Angeles:20250504T200000
DTSTAMP:20260423T154100
CREATED:20250402T211613Z
LAST-MODIFIED:20250405T212503Z
UID:142676-1746349200-1746388800@www.conejochurch.com
SUMMARY:Magic Mountain | Conejo Youth
DESCRIPTION:
URL:https://www.conejochurch.com/event-archive/magic-mountain-conejo-youth/
LOCATION:Magic Mountain Valencia\, 26101 Magic Mountain Pkwy\, Valencia\, CA\, 91355
CATEGORIES:Conejo Youth
ATTACH;FMTTYPE=image/png:https://www.conejochurch.com/wp-content/uploads/2025/04/6-flags-MM-Conejo-Youth-vs-2.png
ORGANIZER;CN="Conejo Youth":MAILTO:youth@conejochurch.com
END:VEVENT
BEGIN:VEVENT
DTSTART;TZID=America/Los_Angeles:20250501T180000
DTEND;TZID=America/Los_Angeles:20250501T190000
DTSTAMP:20260423T154100
CREATED:20250429T012944Z
LAST-MODIFIED:20250429T012944Z
UID:142691-1746122400-1746126000@www.conejochurch.com
SUMMARY:National Day of Prayer
DESCRIPTION:
URL:https://www.conejochurch.com/event-archive/national-day-of-prayer-3/
LOCATION:Newbury Park First Christian Church\, 801 Knollwood Dr\, NEWBURY PARK\, CA\, 91320-5042\, United States
CATEGORIES:Prayer Meetings
ATTACH;FMTTYPE=image/png:https://www.conejochurch.com/wp-content/uploads/2025/04/National-Day-of-Prayer-25-Presentation.png
ORGANIZER;CN="Conejo Church":MAILTO:info@conejochurch.com
END:VEVENT
BEGIN:VEVENT
DTSTART;TZID=America/Los_Angeles:20250427T100000
DTEND;TZID=America/Los_Angeles:20250427T113000
DTSTAMP:20260423T154100
CREATED:20250319T013939Z
LAST-MODIFIED:20250319T013939Z
UID:142647-1745748000-1745753400@www.conejochurch.com
SUMMARY:Family Style Service
DESCRIPTION:
URL:https://www.conejochurch.com/event-archive/family-style-service-4/
LOCATION:Conejo Church\, 480 West Gainsborough\, Thousand Oaks\, CA\, 91360
CATEGORIES:Special Events
ATTACH;FMTTYPE=image/png:https://www.conejochurch.com/wp-content/uploads/2025/03/Family-Style-Service-042725.png
ORGANIZER;CN="Conejo Church":MAILTO:info@conejochurch.com
END:VEVENT
BEGIN:VEVENT
DTSTART;TZID=America/Los_Angeles:20250426T100000
DTEND;TZID=America/Los_Angeles:20250426T140000
DTSTAMP:20260423T154100
CREATED:20250317T231301Z
LAST-MODIFIED:20250317T231301Z
UID:142640-1745661600-1745676000@www.conejochurch.com
SUMMARY:2025 Beautiful You
DESCRIPTION:It’s time to start bringing in your items for the 2025 Beautiful You event. You can either drop them off at JS as per the graphic\, or bring them with you on Sunday mornings. Use the link or QR to volunteer. You will be amazed at the day the Lord will give to YOU as you serve these amazing young ladies.
URL:https://www.conejochurch.com/event-archive/2025-beautiful-you/
CATEGORIES:Foster Care
ATTACH;FMTTYPE=image/png:https://www.conejochurch.com/wp-content/uploads/2025/03/JS-Beautiful-You-2025.png
END:VEVENT
BEGIN:VEVENT
DTSTART;TZID=America/Los_Angeles:20250420T100000
DTEND;TZID=America/Los_Angeles:20250420T233000
DTSTAMP:20260423T154100
CREATED:20250321T011255Z
LAST-MODIFIED:20250321T011255Z
UID:142659-1745143200-1745191800@www.conejochurch.com
SUMMARY:Easter Sunday
DESCRIPTION:
URL:https://www.conejochurch.com/event-archive/easter-sunday-3/
LOCATION:Conejo Church\, 480 West Gainsborough\, Thousand Oaks\, CA\, 91360
CATEGORIES:Special Events
ATTACH;FMTTYPE=image/png:https://www.conejochurch.com/wp-content/uploads/2025/03/Easter-24.png
ORGANIZER;CN="Conejo Church":MAILTO:info@conejochurch.com
END:VEVENT
BEGIN:VEVENT
DTSTART;TZID=America/Los_Angeles:20250418T150000
DTEND;TZID=America/Los_Angeles:20250418T180000
DTSTAMP:20260423T154100
CREATED:20250321T011150Z
LAST-MODIFIED:20250325T190930Z
UID:142656-1744988400-1744999200@www.conejochurch.com
SUMMARY:Good Friday | Stations of the Cross
DESCRIPTION:
URL:https://www.conejochurch.com/event-archive/good-friday-stations-of-the-cross-2/
LOCATION:Conejo Church\, 480 West Gainsborough\, Thousand Oaks\, CA\, 91360
CATEGORIES:Special Events
ATTACH;FMTTYPE=image/png:https://www.conejochurch.com/wp-content/uploads/2025/03/Stations-of-the-Cross-25-vs2.png
ORGANIZER;CN="Conejo Church":MAILTO:info@conejochurch.com
END:VEVENT
BEGIN:VEVENT
DTSTART;TZID=America/Los_Angeles:20250413T100000
DTEND;TZID=America/Los_Angeles:20250413T113000
DTSTAMP:20260423T154100
CREATED:20250325T191215Z
LAST-MODIFIED:20250325T191215Z
UID:142663-1744538400-1744543800@www.conejochurch.com
SUMMARY:Palm Sunday
DESCRIPTION:
URL:https://www.conejochurch.com/event-archive/palm-sunday/
LOCATION:Conejo Church\, 480 West Gainsborough\, Thousand Oaks\, CA\, 91360
CATEGORIES:Special Events
ATTACH;FMTTYPE=image/png:https://www.conejochurch.com/wp-content/uploads/2025/03/1-1.png
ORGANIZER;CN="Conejo Church":MAILTO:info@conejochurch.com
END:VEVENT
BEGIN:VEVENT
DTSTART;TZID=America/Los_Angeles:20250413T080000
DTEND;TZID=America/Los_Angeles:20250413T170000
DTSTAMP:20260423T154100
CREATED:20250313T004641Z
LAST-MODIFIED:20250325T193033Z
UID:142635-1744531200-1744563600@www.conejochurch.com
SUMMARY:Baptism
DESCRIPTION:Please let us know of you are interested in being Baptized. Reach out to Pastor Kirk at info@conejochurch.come and we’ll set up a time for you to speak with him.
URL:https://www.conejochurch.com/event-archive/baptism/
LOCATION:Conejo Church\, 480 West Gainsborough\, Thousand Oaks\, CA\, 91360
CATEGORIES:Special Events
ATTACH;FMTTYPE=image/png:https://www.conejochurch.com/wp-content/uploads/2025/03/Baptism-Invitation-32325.png
ORGANIZER;CN="Conejo Church":MAILTO:info@conejochurch.com
END:VEVENT
BEGIN:VEVENT
DTSTART;TZID=America/Los_Angeles:20250412T183000
DTEND;TZID=America/Los_Angeles:20250412T203000
DTSTAMP:20260423T154100
CREATED:20250130T015144Z
LAST-MODIFIED:20250304T173437Z
UID:142575-1744482600-1744489800@www.conejochurch.com
SUMMARY:Sound of Hope | Movie Screening and Q&A
DESCRIPTION:James Storehouse’s Executive Director\, Stacy DeWitt will be part of our Q&A following the screening of Sound of Hope\, the Possum Trot Story. This is community-wide event so please feel free to invite friends and neighbors. Admission is free.
URL:https://www.conejochurch.com/event-archive/sound-of-hope-movie-screening-and-qa/
LOCATION:Conejo Church\, 480 West Gainsborough\, Thousand Oaks\, CA\, 91360
CATEGORIES:Foster Care
ATTACH;FMTTYPE=image/png:https://www.conejochurch.com/wp-content/uploads/2025/01/Sound-of-Hope-Movie-April-12-25.png
ORGANIZER;CN="Conejo Church":MAILTO:info@conejochurch.com
END:VEVENT
BEGIN:VEVENT
DTSTART;TZID=America/Los_Angeles:20250323T120000
DTEND;TZID=America/Los_Angeles:20250323T133000
DTSTAMP:20260423T154100
CREATED:20250212T175425Z
LAST-MODIFIED:20250212T180328Z
UID:142610-1742731200-1742736600@www.conejochurch.com
SUMMARY:Volunteer Lunch
DESCRIPTION:
URL:https://www.conejochurch.com/event-archive/volunteer-lunch/
LOCATION:Conejo Church\, 480 West Gainsborough\, Thousand Oaks\, CA\, 91360
CATEGORIES:Special Events
ATTACH;FMTTYPE=image/png:https://www.conejochurch.com/wp-content/uploads/2025/02/Volunteer-Lunch-vs2.png
ORGANIZER;CN="Conejo Church":MAILTO:info@conejochurch.com
END:VEVENT
BEGIN:VEVENT
DTSTART;TZID=America/Los_Angeles:20250316T120000
DTEND;TZID=America/Los_Angeles:20250316T133000
DTSTAMP:20260423T154100
CREATED:20250121T000320Z
LAST-MODIFIED:20250121T000320Z
UID:142579-1742126400-1742131800@www.conejochurch.com
SUMMARY:Conejo Sunday Lunch | St. Patrick's Day
DESCRIPTION:
URL:https://www.conejochurch.com/event-archive/conejo-sunday-lunch-st-patricks-day/
LOCATION:Conejo Church\, 480 West Gainsborough\, Thousand Oaks\, CA\, 91360
ATTACH;FMTTYPE=image/png:https://www.conejochurch.com/wp-content/uploads/2025/01/St.-Patricks-Day-25.png
ORGANIZER;CN="Conejo Church":MAILTO:info@conejochurch.com
END:VEVENT
BEGIN:VEVENT
DTSTART;TZID=America/Los_Angeles:20250307T180000
DTEND;TZID=America/Los_Angeles:20250307T203000
DTSTAMP:20260423T154100
CREATED:20250205T221116Z
LAST-MODIFIED:20250205T221116Z
UID:142604-1741370400-1741379400@www.conejochurch.com
SUMMARY:WOC Bunco Night
DESCRIPTION:
URL:https://www.conejochurch.com/event-archive/woc-bunco-night-3/
CATEGORIES:Women of Conejo
ATTACH;FMTTYPE=image/png:https://www.conejochurch.com/wp-content/uploads/2025/02/WOC-Bunco-2.png
ORGANIZER;CN="Conejo Women's Ministry":MAILTO:women@conejochurch.com
END:VEVENT
BEGIN:VEVENT
DTSTART;TZID=America/Los_Angeles:20250225T183000
DTEND;TZID=America/Los_Angeles:20250225T200000
DTSTAMP:20260423T154100
CREATED:20250108T181832Z
LAST-MODIFIED:20250108T181832Z
UID:142560-1740508200-1740513600@www.conejochurch.com
SUMMARY:Prayer Night
DESCRIPTION:
URL:https://www.conejochurch.com/event-archive/prayer-night-11/
LOCATION:Conejo Church\, 480 West Gainsborough\, Thousand Oaks\, CA\, 91360
CATEGORIES:Prayer Meetings
ATTACH;FMTTYPE=image/png:https://www.conejochurch.com/wp-content/uploads/2025/01/225.png
ORGANIZER;CN="Conejo Church":MAILTO:info@conejochurch.com
END:VEVENT
BEGIN:VEVENT
DTSTART;TZID=America/Los_Angeles:20250223T113000
DTEND;TZID=America/Los_Angeles:20250223T120000
DTSTAMP:20260423T154100
CREATED:20250212T233102Z
LAST-MODIFIED:20250212T233102Z
UID:142614-1740310200-1740312000@www.conejochurch.com
SUMMARY:Burrito Fundraiser for Winter Camp
DESCRIPTION:Come to Sunday service hungry and with some cash! Our youth are raising funds to get to Winter Camp.
URL:https://www.conejochurch.com/event-archive/burrito-fundraiser-for-winter-camp/
LOCATION:Conejo Church\, 480 West Gainsborough\, Thousand Oaks\, CA\, 91360
CATEGORIES:Conejo Youth
ATTACH;FMTTYPE=image/png:https://www.conejochurch.com/wp-content/uploads/2025/02/Burritos-Fund-Raiser-M-Presentation.png
ORGANIZER;CN="Conejo Youth":MAILTO:youth@conejochurch.com
END:VEVENT
BEGIN:VEVENT
DTSTART;TZID=America/Los_Angeles:20250126T100000
DTEND;TZID=America/Los_Angeles:20250126T113000
DTSTAMP:20260423T154100
CREATED:20250120T231531Z
LAST-MODIFIED:20250120T231531Z
UID:142572-1737885600-1737891000@www.conejochurch.com
SUMMARY:A Fruitful Life | Teaching Series
DESCRIPTION:Our new teaching series begins this Sunday and will continue for the next few months. See you at 10 AM each Sunday morning.
URL:https://www.conejochurch.com/event-archive/a-fruitful-life-teaching-series/
LOCATION:Conejo Church\, 480 West Gainsborough\, Thousand Oaks\, CA\, 91360
ATTACH;FMTTYPE=image/png:https://www.conejochurch.com/wp-content/uploads/2025/01/peaches.png
ORGANIZER;CN="Conejo Church":MAILTO:info@conejochurch.com
END:VEVENT
END:VCALENDAR