BEGIN:VCALENDAR
VERSION:2.0
PRODID:-//Conejo Church - ECPv6.15.20//NONSGML v1.0//EN
CALSCALE:GREGORIAN
METHOD:PUBLISH
X-ORIGINAL-URL:https://www.conejochurch.com
X-WR-CALDESC:Events for Conejo Church
REFRESH-INTERVAL;VALUE=DURATION:PT1H
X-Robots-Tag:noindex
X-PUBLISHED-TTL:PT1H
BEGIN:VTIMEZONE
TZID:America/Los_Angeles
BEGIN:DAYLIGHT
TZOFFSETFROM:-0800
TZOFFSETTO:-0700
TZNAME:PDT
DTSTART:20180311T100000
END:DAYLIGHT
BEGIN:STANDARD
TZOFFSETFROM:-0700
TZOFFSETTO:-0800
TZNAME:PST
DTSTART:20181104T090000
END:STANDARD
BEGIN:DAYLIGHT
TZOFFSETFROM:-0800
TZOFFSETTO:-0700
TZNAME:PDT
DTSTART:20190310T100000
END:DAYLIGHT
BEGIN:STANDARD
TZOFFSETFROM:-0700
TZOFFSETTO:-0800
TZNAME:PST
DTSTART:20191103T090000
END:STANDARD
BEGIN:DAYLIGHT
TZOFFSETFROM:-0800
TZOFFSETTO:-0700
TZNAME:PDT
DTSTART:20200308T100000
END:DAYLIGHT
BEGIN:STANDARD
TZOFFSETFROM:-0700
TZOFFSETTO:-0800
TZNAME:PST
DTSTART:20201101T090000
END:STANDARD
END:VTIMEZONE
BEGIN:VTIMEZONE
TZID:UTC
BEGIN:STANDARD
TZOFFSETFROM:+0000
TZOFFSETTO:+0000
TZNAME:UTC
DTSTART:20170101T000000
END:STANDARD
END:VTIMEZONE
BEGIN:VEVENT
DTSTART;TZID=America/Los_Angeles:20190928T070000
DTEND;TZID=America/Los_Angeles:20190928T070000
DTSTAMP:20260425T112124
CREATED:20190913T205534Z
LAST-MODIFIED:20190923T214718Z
UID:71278-1569654000-1569654000@www.conejochurch.com
SUMMARY:Conejo Church Men's Breakfast
DESCRIPTION:Men of Conejo Church gather bi-monthly for fellowship. Food and drink are available to order from the Country Harvest restaurant menu\, but there is no obligation. \nSee you there!
URL:https://www.conejochurch.com/event-archive/conejo-church-mens-breakfast/
END:VEVENT
BEGIN:VEVENT
DTSTART;TZID=UTC:20190825T113000
DTEND;TZID=UTC:20190825T130000
DTSTAMP:20260425T112124
CREATED:20190813T051610Z
LAST-MODIFIED:20190813T052028Z
UID:69472-1566732600-1566738000@www.conejochurch.com
SUMMARY:Pizza and Popsicles
DESCRIPTION:Come one and all! Students are moving up to Middle School and what’s the best way to welcome them into Conejo Youth?? PIZZA AND POPSICLES! On August 25\, right after church\, the whole Youth Group is invited to hang out for lunch and welcome our new students! Can’t wait to see you there!
URL:https://www.conejochurch.com/event-archive/pizza-and-popsicles/
LOCATION:Conejo Church\, 480 West Gainsborough\, Thousand Oaks\, CA\, 91360
END:VEVENT
BEGIN:VEVENT
DTSTART;TZID=UTC:20190818T173000
DTEND;TZID=UTC:20190818T203000
DTSTAMP:20260425T112124
CREATED:20190813T051031Z
LAST-MODIFIED:20190813T051031Z
UID:69467-1566149400-1566160200@www.conejochurch.com
SUMMARY:Worship Night
DESCRIPTION:Come and join us for a night of worship. John and Anne Barbour and some very talented friends will be leading us as we enjoy and appreciate God together. Invite a few friends! Bring your own dinner and fellowship with us beginning at 5:30. Worship music will begin around 6:30. We look forward to seeing you then!
URL:https://www.conejochurch.com/event-archive/worship-night/
LOCATION:Conejo Church\, 480 West Gainsborough\, Thousand Oaks\, CA\, 91360
END:VEVENT
BEGIN:VEVENT
DTSTART;TZID=UTC:20190317T190000
DTEND;TZID=UTC:20190317T210000
DTSTAMP:20260425T112124
CREATED:20190304T115520Z
LAST-MODIFIED:20190807T041310Z
UID:57768-1552849200-1552856400@www.conejochurch.com
SUMMARY:Night of Worship
DESCRIPTION:Join us for a night of worship led by our own John and Anne Barbour on Sunday\, March 17\, 2019. Be there early as we expect a good turnout!
URL:https://www.conejochurch.com/event-archive/night-of-worship/
LOCATION:Conejo Church\, 480 West Gainsborough\, Thousand Oaks\, CA\, 91360
CATEGORIES:Special Events
ATTACH;FMTTYPE=image/jpeg:https://www.conejochurch.com/wp-content/uploads/2019/03/NightofWorship_FACEBK.PNG.jpeg
ORGANIZER;CN="Conejo Church":MAILTO:info@conejochurch.com
END:VEVENT
BEGIN:VEVENT
DTSTART;TZID=UTC:20181224T160000
DTEND;TZID=UTC:20181224T170000
DTSTAMP:20260425T112124
CREATED:20181220T212115Z
LAST-MODIFIED:20181220T215126Z
UID:45463-1545667200-1545670800@www.conejochurch.com
SUMMARY:Christmas Eve at Conejo
DESCRIPTION:Join us on Christmas Eve for a beautiful\, kid-friendly service with candlelight\, carols and teaching.  \nEveryone is welcome!
URL:https://www.conejochurch.com/event-archive/christmas-eve-at-conejo/
LOCATION:Conejo Church\, 480 West Gainsborough\, Thousand Oaks\, CA\, 91360
ATTACH;FMTTYPE=image/jpeg:https://www.conejochurch.com/wp-content/uploads/2018/12/christmas-eve-conejo-4.jpg
ORGANIZER;CN="Conejo Church":MAILTO:info@conejochurch.com
END:VEVENT
BEGIN:VEVENT
DTSTART;TZID=UTC:20180728T193000
DTEND;TZID=UTC:20180728T213000
DTSTAMP:20260425T112124
CREATED:20180724T183814Z
LAST-MODIFIED:20180724T184715Z
UID:29090-1532806200-1532813400@www.conejochurch.com
SUMMARY:Family Movie Night
DESCRIPTION:Popcorn\, Glow Sticks\, S’mores! FREE
URL:https://www.conejochurch.com/event-archive/family-movie-night/
LOCATION:Conejo Church\, 480 West Gainsborough\, Thousand Oaks\, CA\, 91360
ATTACH;FMTTYPE=image/png:https://www.conejochurch.com/wp-content/uploads/2018/07/movie-night-conejo-church.png
ORGANIZER;CN="Conejo Church":MAILTO:info@conejochurch.com
END:VEVENT
BEGIN:VEVENT
DTSTART;VALUE=DATE:20180506
DTEND;VALUE=DATE:20180507
DTSTAMP:20260425T112124
CREATED:20180415T204423Z
LAST-MODIFIED:20180504T231305Z
UID:4671-1525564800-1525651199@www.conejochurch.com
SUMMARY:New Church Home
DESCRIPTION:⛪ Thank you\, everyone\, for your prayers! Conejo Church will be holding services at the Seventh Day Adventist Church facility on 480 West Gainsborough! This is a beautiful park-like property with a fantastic kids space\, a huge kitchen\, indoor and outdoor gathering areas\, and a more intimate & reverent sanctuary. We can’t wait to reach out and invite all the new neighbors to come join us! This weekend\, Pastor Kirk will be sharing details of the move\, miracles that have happened to make it possible\, and how we can all get involved! \nNew Location Starting Sunday\, May 6\, 2018: 10am\n480 W Gainsborough Rd\nThousand Oaks\, CA 91360
URL:https://www.conejochurch.com/event-archive/new-church-home/
LOCATION:Conejo Church\, 480 West Gainsborough\, Thousand Oaks\, CA\, 91360
ORGANIZER;CN="Conejo Church":MAILTO:info@conejochurch.com
END:VEVENT
END:VCALENDAR