BEGIN:VCALENDAR
VERSION:2.0
PRODID:-//Conejo Church - ECPv6.15.20//NONSGML v1.0//EN
CALSCALE:GREGORIAN
METHOD:PUBLISH
X-WR-CALNAME:Conejo Church
X-ORIGINAL-URL:https://www.conejochurch.com
X-WR-CALDESC:Events for Conejo Church
REFRESH-INTERVAL;VALUE=DURATION:PT1H
X-Robots-Tag:noindex
X-PUBLISHED-TTL:PT1H
BEGIN:VTIMEZONE
TZID:America/Los_Angeles
BEGIN:DAYLIGHT
TZOFFSETFROM:-0800
TZOFFSETTO:-0700
TZNAME:PDT
DTSTART:20190310T100000
END:DAYLIGHT
BEGIN:STANDARD
TZOFFSETFROM:-0700
TZOFFSETTO:-0800
TZNAME:PST
DTSTART:20191103T090000
END:STANDARD
BEGIN:DAYLIGHT
TZOFFSETFROM:-0800
TZOFFSETTO:-0700
TZNAME:PDT
DTSTART:20200308T100000
END:DAYLIGHT
BEGIN:STANDARD
TZOFFSETFROM:-0700
TZOFFSETTO:-0800
TZNAME:PST
DTSTART:20201101T090000
END:STANDARD
BEGIN:DAYLIGHT
TZOFFSETFROM:-0800
TZOFFSETTO:-0700
TZNAME:PDT
DTSTART:20210314T100000
END:DAYLIGHT
BEGIN:STANDARD
TZOFFSETFROM:-0700
TZOFFSETTO:-0800
TZNAME:PST
DTSTART:20211107T090000
END:STANDARD
BEGIN:DAYLIGHT
TZOFFSETFROM:-0800
TZOFFSETTO:-0700
TZNAME:PDT
DTSTART:20220313T100000
END:DAYLIGHT
BEGIN:STANDARD
TZOFFSETFROM:-0700
TZOFFSETTO:-0800
TZNAME:PST
DTSTART:20221106T090000
END:STANDARD
BEGIN:DAYLIGHT
TZOFFSETFROM:-0800
TZOFFSETTO:-0700
TZNAME:PDT
DTSTART:20230312T100000
END:DAYLIGHT
BEGIN:STANDARD
TZOFFSETFROM:-0700
TZOFFSETTO:-0800
TZNAME:PST
DTSTART:20231105T090000
END:STANDARD
END:VTIMEZONE
BEGIN:VEVENT
DTSTART;TZID=America/Los_Angeles:20220505T120000
DTEND;TZID=America/Los_Angeles:20220505T130000
DTSTAMP:20260425T042135
CREATED:20220427T171623Z
LAST-MODIFIED:20220427T171623Z
UID:73169-1651752000-1651755600@www.conejochurch.com
SUMMARY:National Day of Prayer | Community Gathering
DESCRIPTION:
URL:https://www.conejochurch.com/event-archive/national-day-of-prayer-community-gathering/
LOCATION:Thousand Oaks Civic Arts Plaza\, 2100 E. Thousand Oaks Blvd.\, Thousand Oaks\, CA\, 91362\, United States
ORGANIZER;CN="Conejo Church":MAILTO:info@conejochurch.com
END:VEVENT
BEGIN:VEVENT
DTSTART;TZID=America/Los_Angeles:20220501T113000
DTEND;TZID=America/Los_Angeles:20220501T130000
DTSTAMP:20260425T042135
CREATED:20220326T180452Z
LAST-MODIFIED:20220419T201325Z
UID:73076-1651404600-1651410000@www.conejochurch.com
SUMMARY:Conejo Church Sunday Lunch
DESCRIPTION:
URL:https://www.conejochurch.com/event-archive/conejo-church-sunday-lunch-2/
LOCATION:Conejo Church\, 480 West Gainsborough\, Thousand Oaks\, CA\, 91360
ORGANIZER;CN="Conejo Church":MAILTO:info@conejochurch.com
END:VEVENT
BEGIN:VEVENT
DTSTART;TZID=America/Los_Angeles:20220417T100000
DTEND;TZID=America/Los_Angeles:20220417T113000
DTSTAMP:20260425T042135
CREATED:20220326T175508Z
LAST-MODIFIED:20220413T161048Z
UID:73070-1650189600-1650195000@www.conejochurch.com
SUMMARY:Easter Sunday Service
DESCRIPTION:Join us this Sunday for one big Easter service at 10am. If you’re unable to come to us\, please find a place of worship near you! Use this link for locations: https://easterinconejovalley.com/church-list/
URL:https://www.conejochurch.com/event-archive/easter-sunday-service/
LOCATION:Conejo Church\, 480 West Gainsborough\, Thousand Oaks\, CA\, 91360
ORGANIZER;CN="Conejo Church":MAILTO:info@conejochurch.com
END:VEVENT
BEGIN:VEVENT
DTSTART;VALUE=DATE:20220415
DTEND;VALUE=DATE:20220418
DTSTAMP:20260425T042135
CREATED:20220326T174147Z
LAST-MODIFIED:20220413T161740Z
UID:73067-1649980800-1650239999@www.conejochurch.com
SUMMARY:Stations of the Cross | Walk Through
DESCRIPTION:This on campus experience will be in place for you for three days.\n1. Good Friday from 3 to 6PM.\n2. All day Saturday.\n3. Easter Sunday until noon.
URL:https://www.conejochurch.com/event-archive/stations-of-the-cross/
LOCATION:Conejo Church\, 480 West Gainsborough\, Thousand Oaks\, CA\, 91360
ORGANIZER;CN="Conejo Church":MAILTO:info@conejochurch.com
END:VEVENT
BEGIN:VEVENT
DTSTART;TZID=America/Los_Angeles:20220410T140000
DTEND;TZID=America/Los_Angeles:20220410T160000
DTSTAMP:20260425T042135
CREATED:20220307T192246Z
LAST-MODIFIED:20220326T182126Z
UID:72969-1649599200-1649606400@www.conejochurch.com
SUMMARY:Spring Easter Festival
DESCRIPTION:This is a great opportunity to invite\nyour family\, friends and neighbors!\nWe’re partnering once again\nwith the TO Adventist Church.
URL:https://www.conejochurch.com/event-archive/spring-easter-festival/
LOCATION:Conejo Church\, 480 West Gainsborough\, Thousand Oaks\, CA\, 91360
CATEGORIES:Special Events
ORGANIZER;CN="Conejo Church":MAILTO:info@conejochurch.com
END:VEVENT
BEGIN:VEVENT
DTSTART;TZID=America/Los_Angeles:20220409T100000
DTEND;TZID=America/Los_Angeles:20220409T140000
DTSTAMP:20260425T042135
CREATED:20220307T193136Z
LAST-MODIFIED:20220326T182035Z
UID:72973-1649498400-1649512800@www.conejochurch.com
SUMMARY:James Storehouse | Beautiful You
DESCRIPTION:Volunteers needed!
URL:https://www.conejochurch.com/event-archive/james-storehouse-beautiful-you/
CATEGORIES:Special Events
ORGANIZER;CN="Conejo Church":MAILTO:info@conejochurch.com
END:VEVENT
BEGIN:VEVENT
DTSTART;TZID=America/Los_Angeles:20220402T080000
DTEND;TZID=America/Los_Angeles:20220402T200000
DTSTAMP:20260425T042135
CREATED:20220116T034905Z
LAST-MODIFIED:20220519T122943Z
UID:72636-1648886400-1648929600@www.conejochurch.com
SUMMARY:WOC | Day Retreat
DESCRIPTION:Women of Conejo!\nComplete the form below to register! \nPlease enable JavaScript in your browser to complete this form.Name *FirstLastPhone NumberEmail *Save My SpotI'm attending!Dietary RestrictionsSubmit   \nCost for the day is $40 which includes three meals. \nYou may pay by check any Sunday morning\,\nor click here to pay using our on-line giving page.\nDesignate your payment to WOC Retreat 2022.
URL:https://www.conejochurch.com/event-archive/woc-day-retreat/
CATEGORIES:Women of Conejo
ORGANIZER;CN="Conejo Women's Ministry":MAILTO:women@conejochurch.com
END:VEVENT
BEGIN:VEVENT
DTSTART;VALUE=DATE:20220329
DTEND;VALUE=DATE:20220330
DTSTAMP:20260425T042135
CREATED:20220323T015432Z
LAST-MODIFIED:20220326T182413Z
UID:73062-1648512000-1648598399@www.conejochurch.com
SUMMARY:Day of Prayer
DESCRIPTION:At noon and at 7pm.
URL:https://www.conejochurch.com/event-archive/day-of-prayer-4/
LOCATION:Conejo Church\, 480 West Gainsborough\, Thousand Oaks\, CA\, 91360
ORGANIZER;CN="Conejo Church":MAILTO:info@conejochurch.com
END:VEVENT
BEGIN:VEVENT
DTSTART;TZID=America/Los_Angeles:20220327T113000
DTEND;TZID=America/Los_Angeles:20220327T130000
DTSTAMP:20260425T042135
CREATED:20220202T221345Z
LAST-MODIFIED:20220307T185834Z
UID:72664-1648380600-1648386000@www.conejochurch.com
SUMMARY:Conejo Church Sunday Lunch
DESCRIPTION:Sign up to bring an entrée @ info@conejochurch.com.
URL:https://www.conejochurch.com/event-archive/conejo-church-sunday-lunch/
LOCATION:Conejo Church\, 480 West Gainsborough\, Thousand Oaks\, CA\, 91360
ORGANIZER;CN="Conejo Church":MAILTO:info@conejochurch.com
END:VEVENT
BEGIN:VEVENT
DTSTART;TZID=America/Los_Angeles:20220313T123000
DTEND;TZID=America/Los_Angeles:20220313T160000
DTSTAMP:20260425T042135
CREATED:20220116T033058Z
LAST-MODIFIED:20220216T185707Z
UID:72630-1647174600-1647187200@www.conejochurch.com
SUMMARY:Men's Church Grounds Beautification Day
DESCRIPTION:
URL:https://www.conejochurch.com/event-archive/mens-church-grounds-beautification-day/
LOCATION:Conejo Church\, 480 West Gainsborough\, Thousand Oaks\, CA\, 91360
END:VEVENT
BEGIN:VEVENT
DTSTART;TZID=America/Los_Angeles:20220311T180000
DTEND;TZID=America/Los_Angeles:20220311T203000
DTSTAMP:20260425T042135
CREATED:20220116T034520Z
LAST-MODIFIED:20220216T191309Z
UID:72634-1647021600-1647030600@www.conejochurch.com
SUMMARY:WOC | Girl's Night Out
DESCRIPTION:Come out for an evening of fun and girl time!\nPlease bring an appetizer with you. Beverages provided.\nEmail women@conejochurch.com for location and directions.
URL:https://www.conejochurch.com/event-archive/woc-girls-night-out/
END:VEVENT
BEGIN:VEVENT
DTSTART;VALUE=DATE:20220301
DTEND;VALUE=DATE:20220302
DTSTAMP:20260425T042135
CREATED:20220116T032422Z
LAST-MODIFIED:20220211T044843Z
UID:72627-1646092800-1646179199@www.conejochurch.com
SUMMARY:Day of Prayer
DESCRIPTION:Note the time change for this Day of Prayer:\n12pm – 1pm;\n7pm – 8pm
URL:https://www.conejochurch.com/event-archive/day-of-prayer-3/
LOCATION:Conejo Church\, 480 West Gainsborough\, Thousand Oaks\, CA\, 91360
ORGANIZER;CN="Conejo Church":MAILTO:info@conejochurch.com
END:VEVENT
BEGIN:VEVENT
DTSTART;VALUE=DATE:20220201
DTEND;VALUE=DATE:20220202
DTSTAMP:20260425T042135
CREATED:20220114T194320Z
LAST-MODIFIED:20220114T194320Z
UID:72616-1643673600-1643759999@www.conejochurch.com
SUMMARY:Day Of Prayer
DESCRIPTION:Please join us on Tuesday\, February 1st\,\nfrom 7 to 8am\, or from 7 to 8pm!\nWe will gather in the church sanctuary.
URL:https://www.conejochurch.com/event-archive/day-of-prayer-2/
END:VEVENT
BEGIN:VEVENT
DTSTART;TZID=America/Los_Angeles:20220128T183000
DTEND;TZID=America/Los_Angeles:20220128T210000
DTSTAMP:20260425T042135
CREATED:20220114T193644Z
LAST-MODIFIED:20220114T193644Z
UID:72609-1643394600-1643403600@www.conejochurch.com
SUMMARY:Conejo Men’s Bonfire
DESCRIPTION:
URL:https://www.conejochurch.com/event-archive/conejo-mens-bonfire/
END:VEVENT
BEGIN:VEVENT
DTSTART;VALUE=DATE:20220108
DTEND;VALUE=DATE:20220109
DTSTAMP:20260425T042135
CREATED:20211124T030807Z
LAST-MODIFIED:20211124T031059Z
UID:72549-1641600000-1641686399@www.conejochurch.com
SUMMARY:Women of Conejo New Year's Brunch
DESCRIPTION:
URL:https://www.conejochurch.com/event-archive/women-of-conejo-new-years-brunch/
END:VEVENT
BEGIN:VEVENT
DTSTART;TZID=America/Los_Angeles:20211213T190000
DTEND;TZID=America/Los_Angeles:20211213T203000
DTSTAMP:20260425T042135
CREATED:20211124T030303Z
LAST-MODIFIED:20211124T030303Z
UID:72546-1639422000-1639427400@www.conejochurch.com
SUMMARY:Women's Bible Journaling
DESCRIPTION:
URL:https://www.conejochurch.com/event-archive/womens-bible-journaling/
END:VEVENT
BEGIN:VEVENT
DTSTART;TZID=America/Los_Angeles:20211205T173000
DTEND;TZID=America/Los_Angeles:20211205T190000
DTSTAMP:20260425T042135
CREATED:20211103T182407Z
LAST-MODIFIED:20211103T182407Z
UID:72508-1638725400-1638730800@www.conejochurch.com
SUMMARY:Christmas Carols and S'more
DESCRIPTION:
URL:https://www.conejochurch.com/event-archive/christmas-carols-and-smore/
END:VEVENT
BEGIN:VEVENT
DTSTART;TZID=America/Los_Angeles:20211130T070000
DTEND;TZID=America/Los_Angeles:20211130T190000
DTSTAMP:20260425T042135
CREATED:20211117T230433Z
LAST-MODIFIED:20211117T231604Z
UID:72529-1638255600-1638298800@www.conejochurch.com
SUMMARY:Day of Prayer
DESCRIPTION:
URL:https://www.conejochurch.com/event-archive/day-of-prayer/
LOCATION:Conejo Church\, 480 West Gainsborough\, Thousand Oaks\, CA\, 91360
END:VEVENT
BEGIN:VEVENT
DTSTART;TZID=America/Los_Angeles:20211114T113000
DTEND;TZID=America/Los_Angeles:20211114T130000
DTSTAMP:20260425T042135
CREATED:20211103T180936Z
LAST-MODIFIED:20211103T181107Z
UID:72502-1636889400-1636894800@www.conejochurch.com
SUMMARY:Thanksgiving lunch after service
DESCRIPTION:
URL:https://www.conejochurch.com/event-archive/thanksgiving-lunch-after-service-nov-14/
END:VEVENT
BEGIN:VEVENT
DTSTART;TZID=America/Los_Angeles:20211104T070000
DTEND;TZID=America/Los_Angeles:20211104T190000
DTSTAMP:20260425T042135
CREATED:20211103T180728Z
LAST-MODIFIED:20211103T181037Z
UID:72498-1636009200-1636052400@www.conejochurch.com
SUMMARY:All-Church Day of Prayer
DESCRIPTION:
URL:https://www.conejochurch.com/event-archive/all-church-day-of-prayer/
END:VEVENT
BEGIN:VEVENT
DTSTART;TZID=America/Los_Angeles:20211030T170000
DTEND;TZID=America/Los_Angeles:20211030T190000
DTSTAMP:20260425T042135
CREATED:20211007T202049Z
LAST-MODIFIED:20211008T230857Z
UID:72455-1635613200-1635620400@www.conejochurch.com
SUMMARY:Fall Festival and Trunk or Treat
DESCRIPTION:Invite some friends!  Let’s celebrate fall. \nThis outdoor event will have lots of games and prizes\, a costume contest\, decorated cars with candy\, food\, pumpkin decorating & bowling\, and tons of fun. \nOpen to kids and adults of all ages.  Free!
URL:https://www.conejochurch.com/event-archive/fall-festival-and-trunk-or-treat/
LOCATION:Conejo Church\, 480 West Gainsborough\, Thousand Oaks\, CA\, 91360
ATTACH;FMTTYPE=image/png:https://www.conejochurch.com/wp-content/uploads/2021/10/Fall-Harvest-Festival.png
END:VEVENT
BEGIN:VEVENT
DTSTART;TZID=America/Los_Angeles:20211017T120000
DTEND;TZID=America/Los_Angeles:20211017T130000
DTSTAMP:20260425T042135
CREATED:20211007T201800Z
LAST-MODIFIED:20211007T201800Z
UID:72452-1634472000-1634475600@www.conejochurch.com
SUMMARY:October 17 Lunch together and Chili cook-off
DESCRIPTION:Once a month we get together after Conejo’s morning service for lunch and friendship. \nPlease join us! \nThis month will also be a chili cook-off.  If you’d like to bring your chili\, please let us know at info@conejochurch.com. \n 
URL:https://www.conejochurch.com/event-archive/october-17-lunch-together-and-chili-cook-off/
LOCATION:Conejo Church\, 480 West Gainsborough\, Thousand Oaks\, CA\, 91360
END:VEVENT
BEGIN:VEVENT
DTSTART;TZID=America/Los_Angeles:20211014T070000
DTEND;TZID=America/Los_Angeles:20211014T190000
DTSTAMP:20260425T042135
CREATED:20211007T201522Z
LAST-MODIFIED:20211007T201522Z
UID:72449-1634194800-1634238000@www.conejochurch.com
SUMMARY:October 14 Day of Prayer
DESCRIPTION:Please pray for our community and for our church family from wherever you are all day!\nJoin us at the building on Gainsborough at 7AM or 7PM to pray together as well.\nConsider fasting from food\, social media\, etc to sharpen your prayer. \n 
URL:https://www.conejochurch.com/event-archive/october-14-day-of-prayer/
LOCATION:Conejo Church\, 480 West Gainsborough\, Thousand Oaks\, CA\, 91360
END:VEVENT
BEGIN:VEVENT
DTSTART;TZID=America/Los_Angeles:20210930T160000
DTEND;TZID=America/Los_Angeles:20211003T160000
DTSTAMP:20260425T042135
CREATED:20210825T222504Z
LAST-MODIFIED:20210825T222504Z
UID:72342-1633017600-1633276800@www.conejochurch.com
SUMMARY:Men's Lake Nacimiento Retreat
DESCRIPTION:
URL:https://www.conejochurch.com/event-archive/mens-lake-nacimiento-retreat/
END:VEVENT
BEGIN:VEVENT
DTSTART;TZID=America/Los_Angeles:20210321T100000
DTEND;TZID=America/Los_Angeles:20210321T113000
DTSTAMP:20260425T042135
CREATED:20210305T192315Z
LAST-MODIFIED:20210305T192315Z
UID:72216-1616320800-1616326200@www.conejochurch.com
SUMMARY:Baptism Sunday March 21!
DESCRIPTION:Have you been baptized since believing in Jesus?  March 21 will be our first baptisms of 2021.  Please let us know if you\, or one of your kids or youth would like to be baptized during the morning service.  Reach out to info@conejochurch.com.  We pray that this will be a year of much spiritual fruit and many baptisms!!
URL:https://www.conejochurch.com/event-archive/baptism-sunday-march-21/
LOCATION:Conejo Church\, 480 West Gainsborough\, Thousand Oaks\, CA\, 91360
END:VEVENT
BEGIN:VEVENT
DTSTART;TZID=America/Los_Angeles:20210307T120000
DTEND;TZID=America/Los_Angeles:20210307T150000
DTSTAMP:20260425T042135
CREATED:20210305T192200Z
LAST-MODIFIED:20210305T192200Z
UID:72214-1615118400-1615129200@www.conejochurch.com
SUMMARY:Church Spring Cleaning Work Day
DESCRIPTION:Please join us right after the service this Sunday\, March 7\, for a property beautification day.  We will be doing indoor and outdoor projects to make the building and grounds more presentable and welcoming for new people who will join us over the next few months.  Pack a lunch and bring some gardening tools or window cleaning supplies.  Thank you for caring about Conejo and our outreach in our community!
URL:https://www.conejochurch.com/event-archive/church-spring-cleaning-work-day/
LOCATION:Conejo Church\, 480 West Gainsborough\, Thousand Oaks\, CA\, 91360
END:VEVENT
BEGIN:VEVENT
DTSTART;TZID=America/Los_Angeles:20210307T100000
DTEND;TZID=America/Los_Angeles:20210307T113000
DTSTAMP:20260425T042135
CREATED:20210305T192623Z
LAST-MODIFIED:20210305T192623Z
UID:72218-1615111200-1615116600@www.conejochurch.com
SUMMARY:New Sunday series: "What does the Bible say about _______ ?"
DESCRIPTION:On Sunday\, March 7\, we begin a new series on “What does the Bible say about ______?”  With the collective confusion happening around us in our culture right now\, we need to come back to God’s Word to find His answers.  What are you curious or concerned about and you need to know what God’s Word says? Please send subjects you like to see us tackle on Sundays to: info@conejochurch.com.
URL:https://www.conejochurch.com/event-archive/new-sunday-series-what-does-the-bible-say-about-_______/
END:VEVENT
BEGIN:VEVENT
DTSTART;TZID=America/Los_Angeles:20201108T100000
DTEND;TZID=America/Los_Angeles:20201108T110000
DTSTAMP:20260425T042135
CREATED:20201023T052159Z
LAST-MODIFIED:20201023T052318Z
UID:72080-1604829600-1604833200@www.conejochurch.com
SUMMARY:First Indoor Worship Service
DESCRIPTION:With the weather getting a bit colder\, we will begin meeting inside again.  You can join us inside\, outside\, and online starting Sunday\, November 8.  If you’ll be sitting in the sanctuary\, please wear a mask on your way in.  You’re free to take it off when you’re situated. \n  \n 
URL:https://www.conejochurch.com/event-archive/first-indoor-worship-service/
CATEGORIES:Worship
END:VEVENT
BEGIN:VEVENT
DTSTART;TZID=America/Los_Angeles:20201107T083000
DTEND;TZID=America/Los_Angeles:20201107T120000
DTSTAMP:20260425T042135
CREATED:20201104T184057Z
LAST-MODIFIED:20201104T184057Z
UID:72101-1604737800-1604750400@www.conejochurch.com
SUMMARY:Thunderbird Mobile Home Park Service Project
DESCRIPTION:This event is for EVERYONE! We would love to bless the elderly community at Thunderbird by helping to spruce up their homes and fix things that they might not have help with. This is a great way to help the community and love our neighbors. We will be doing some yard work\, so if you have any gardening tools please bring them! \nFor more info\, email men@conejochurch.com
URL:https://www.conejochurch.com/event-archive/thunderbird-mobile-home-park-service-project/
END:VEVENT
BEGIN:VEVENT
DTSTART;VALUE=DATE:20201101
DTEND;VALUE=DATE:20201102
DTSTAMP:20260425T042135
CREATED:20201023T051833Z
LAST-MODIFIED:20201023T051910Z
UID:72078-1604188800-1604275199@www.conejochurch.com
SUMMARY:Daylight Saving
DESCRIPTION:Fall back one hour!
URL:https://www.conejochurch.com/event-archive/daylight-saving/
CATEGORIES:Special Events
END:VEVENT
END:VCALENDAR