BEGIN:VCALENDAR
VERSION:2.0
PRODID:-//Conejo Church - ECPv6.15.20//NONSGML v1.0//EN
CALSCALE:GREGORIAN
METHOD:PUBLISH
X-ORIGINAL-URL:https://www.conejochurch.com
X-WR-CALDESC:Events for Conejo Church
REFRESH-INTERVAL;VALUE=DURATION:PT1H
X-Robots-Tag:noindex
X-PUBLISHED-TTL:PT1H
BEGIN:VTIMEZONE
TZID:America/Los_Angeles
BEGIN:DAYLIGHT
TZOFFSETFROM:-0800
TZOFFSETTO:-0700
TZNAME:PDT
DTSTART:20220313T100000
END:DAYLIGHT
BEGIN:STANDARD
TZOFFSETFROM:-0700
TZOFFSETTO:-0800
TZNAME:PST
DTSTART:20221106T090000
END:STANDARD
BEGIN:DAYLIGHT
TZOFFSETFROM:-0800
TZOFFSETTO:-0700
TZNAME:PDT
DTSTART:20230312T100000
END:DAYLIGHT
BEGIN:STANDARD
TZOFFSETFROM:-0700
TZOFFSETTO:-0800
TZNAME:PST
DTSTART:20231105T090000
END:STANDARD
BEGIN:DAYLIGHT
TZOFFSETFROM:-0800
TZOFFSETTO:-0700
TZNAME:PDT
DTSTART:20240310T100000
END:DAYLIGHT
BEGIN:STANDARD
TZOFFSETFROM:-0700
TZOFFSETTO:-0800
TZNAME:PST
DTSTART:20241103T090000
END:STANDARD
END:VTIMEZONE
BEGIN:VEVENT
DTSTART;VALUE=DATE:20231014
DTEND;VALUE=DATE:20231016
DTSTAMP:20260424T122747
CREATED:20230922T011019Z
LAST-MODIFIED:20230922T011024Z
UID:141070-1697241600-1697414399@www.conejochurch.com
SUMMARY:Worship Weekend
DESCRIPTION:
URL:https://www.conejochurch.com/event-archive/worship-weekend/
LOCATION:Conejo Church\, 480 West Gainsborough\, Thousand Oaks\, CA\, 91360
CATEGORIES:Special Events
ATTACH;FMTTYPE=image/png:https://www.conejochurch.com/wp-content/uploads/2023/09/Worship-Weekend-1014-15.png
ORGANIZER;CN="Conejo Church":MAILTO:info@conejochurch.com
END:VEVENT
BEGIN:VEVENT
DTSTART;VALUE=DATE:20230928
DTEND;VALUE=DATE:20231002
DTSTAMP:20260424T122747
CREATED:20230626T193604Z
LAST-MODIFIED:20230712T194833Z
UID:140777-1695859200-1696204799@www.conejochurch.com
SUMMARY:2023 Fall Men's Retreat
DESCRIPTION:Registration opens on August 1st. Watch for a link!
URL:https://www.conejochurch.com/event-archive/2023-fall-mens-retreat/
LOCATION:Lake Nacimiento
CATEGORIES:Conejo Men
ATTACH;FMTTYPE=image/png:https://www.conejochurch.com/wp-content/uploads/2023/06/Conejo-Mens-Retreat-23-Presentation-169.png
ORGANIZER;CN="Men's Ministries":MAILTO:lenkrukowski@yahoo.com
END:VEVENT
BEGIN:VEVENT
DTSTART;TZID=America/Los_Angeles:20230923T083000
DTEND;TZID=America/Los_Angeles:20230923T200000
DTSTAMP:20260424T122747
CREATED:20230524T212715Z
LAST-MODIFIED:20230822T224834Z
UID:140574-1695457800-1695499200@www.conejochurch.com
SUMMARY:WOC Day Retreat
DESCRIPTION:Please RSVP to women@conejochurch.com. There are only 30 spots available\, so let us know you’re coming as soon as you can.
URL:https://www.conejochurch.com/event-archive/woc-day-retreat-2/
LOCATION:Serra Retreat\, 3401 Serra Road\, Malibu\, CA\, 90265
CATEGORIES:Women of Conejo
ATTACH;FMTTYPE=image/png:https://www.conejochurch.com/wp-content/uploads/2023/05/WOC-Retreat-23.png
ORGANIZER;CN="Conejo Women's Ministry":MAILTO:women@conejochurch.com
END:VEVENT
BEGIN:VEVENT
DTSTART;TZID=America/Los_Angeles:20230921T183000
DTEND;TZID=America/Los_Angeles:20230921T200000
DTSTAMP:20260424T122747
CREATED:20230902T032520Z
LAST-MODIFIED:20230902T032607Z
UID:140997-1695321000-1695326400@www.conejochurch.com
SUMMARY:Family Game Night
DESCRIPTION:
URL:https://www.conejochurch.com/event-archive/family-game-night/
LOCATION:Conejo Church\, 480 West Gainsborough\, Thousand Oaks\, CA\, 91360
CATEGORIES:Family Events
ATTACH;FMTTYPE=image/png:https://www.conejochurch.com/wp-content/uploads/2023/09/Family-Game-Night.png
ORGANIZER;CN="Conejo Church | Families":MAILTO:families@conejochurch.com
END:VEVENT
BEGIN:VEVENT
DTSTART;TZID=America/Los_Angeles:20230917T130000
DTEND;TZID=America/Los_Angeles:20230917T150000
DTSTAMP:20260424T122747
CREATED:20230916T235140Z
LAST-MODIFIED:20230916T235308Z
UID:141025-1694955600-1694962800@www.conejochurch.com
SUMMARY:Family Serve Day
DESCRIPTION:
URL:https://www.conejochurch.com/event-archive/family-serve-day-2/
CATEGORIES:Outreach
ATTACH;FMTTYPE=image/png:https://www.conejochurch.com/wp-content/uploads/2023/09/family-service-project-9-17-23.png
ORGANIZER;CN="Conejo Church | Families":MAILTO:families@conejochurch.com
END:VEVENT
BEGIN:VEVENT
DTSTART;TZID=America/Los_Angeles:20230917T120000
DTEND;TZID=America/Los_Angeles:20230917T123000
DTSTAMP:20260424T122747
CREATED:20230720T014150Z
LAST-MODIFIED:20230808T225317Z
UID:140891-1694952000-1694953800@www.conejochurch.com
SUMMARY:Family Chat
DESCRIPTION:
URL:https://www.conejochurch.com/event-archive/family-chat-4/
LOCATION:Conejo Church\, 480 West Gainsborough\, Thousand Oaks\, CA\, 91360
CATEGORIES:Special Events
ATTACH;FMTTYPE=image/png:https://www.conejochurch.com/wp-content/uploads/2023/07/Conejo-Family-Chat-091723-Presentation-169.png
ORGANIZER;CN="Conejo Church":MAILTO:info@conejochurch.com
END:VEVENT
BEGIN:VEVENT
DTSTART;TZID=America/Los_Angeles:20230910T123000
DTEND;TZID=America/Los_Angeles:20230910T133000
DTSTAMP:20260424T122747
CREATED:20230720T014336Z
LAST-MODIFIED:20230809T205742Z
UID:140894-1694349000-1694352600@www.conejochurch.com
SUMMARY:Leadership Gathering
DESCRIPTION:
URL:https://www.conejochurch.com/event-archive/leadership-gathering/
LOCATION:Conejo Church\, 480 West Gainsborough\, Thousand Oaks\, CA\, 91360
CATEGORIES:Special Events
ATTACH;FMTTYPE=image/png:https://www.conejochurch.com/wp-content/uploads/2023/07/Conejo-Leadership-Meeting-Dinner-rev-9-10-23.png
ORGANIZER;CN="Conejo Church":MAILTO:info@conejochurch.com
END:VEVENT
BEGIN:VEVENT
DTSTART;TZID=America/Los_Angeles:20230830T190000
DTEND;TZID=America/Los_Angeles:20230830T203000
DTSTAMP:20260424T122747
CREATED:20230817T123544Z
LAST-MODIFIED:20230817T123701Z
UID:140983-1693422000-1693427400@www.conejochurch.com
SUMMARY:Prayer Night
DESCRIPTION:We’re setting aside this evening to pray for our kids and adult kids who are not walking with the Lord. Please come and intercede with us.
URL:https://www.conejochurch.com/event-archive/prayer-night-2/
LOCATION:Conejo Church\, 480 West Gainsborough\, Thousand Oaks\, CA\, 91360
CATEGORIES:Prayer Meetings
ATTACH;FMTTYPE=image/png:https://www.conejochurch.com/wp-content/uploads/2023/08/Prayer-Night-August-30-@-7pm.png
ORGANIZER;CN="Conejo Church":MAILTO:info@conejochurch.com
END:VEVENT
BEGIN:VEVENT
DTSTART;TZID=America/Los_Angeles:20230820T130000
DTEND;TZID=America/Los_Angeles:20230820T153000
DTSTAMP:20260424T122747
CREATED:20230809T031635Z
LAST-MODIFIED:20230809T032605Z
UID:140968-1692536400-1692545400@www.conejochurch.com
SUMMARY:Family Serve Day
DESCRIPTION:
URL:https://www.conejochurch.com/event-archive/family-serve-day/
CATEGORIES:Outreach
ATTACH;FMTTYPE=image/png:https://www.conejochurch.com/wp-content/uploads/2023/08/family-service-project-82023.png
ORGANIZER;CN="Conejo Outreach":MAILTO:outreach@conejochurch.com
END:VEVENT
BEGIN:VEVENT
DTSTART;TZID=America/Los_Angeles:20230820T100000
DTEND;TZID=America/Los_Angeles:20230820T113000
DTSTAMP:20260424T122747
CREATED:20230809T032026Z
LAST-MODIFIED:20230809T032026Z
UID:140974-1692525600-1692531000@www.conejochurch.com
SUMMARY:Promotion Sunday
DESCRIPTION:
URL:https://www.conejochurch.com/event-archive/promotion-sunday/
LOCATION:Conejo Church\, 480 West Gainsborough\, Thousand Oaks\, CA\, 91360
CATEGORIES:Conejo Kids
ATTACH;FMTTYPE=image/png:https://www.conejochurch.com/wp-content/uploads/2023/08/Sunday.png
ORGANIZER;CN="Conejo Church":MAILTO:info@conejochurch.com
END:VEVENT
BEGIN:VEVENT
DTSTART;TZID=America/Los_Angeles:20230819T160000
DTEND;TZID=America/Los_Angeles:20230819T190000
DTSTAMP:20260424T122747
CREATED:20230729T235145Z
LAST-MODIFIED:20230729T235912Z
UID:140954-1692460800-1692471600@www.conejochurch.com
SUMMARY:Family Pool Party
DESCRIPTION:Hey\, mom and dad! If you’re looking for a really fun evening to spend with your kids\, this is for you.  RSVP to families@conejochurch\,com to let us know you’ll attend and how many are in your family. Burgers and dogs are provided. Bring whatever else you like for the evening.
URL:https://www.conejochurch.com/event-archive/family-pool-party/
CATEGORIES:Family Events
ATTACH;FMTTYPE=image/png:https://www.conejochurch.com/wp-content/uploads/2023/07/Family-Pool-Party-Aug.-19-Presentation-169.png
ORGANIZER;CN="Conejo Church | Families":MAILTO:families@conejochurch.com
END:VEVENT
BEGIN:VEVENT
DTSTART;VALUE=DATE:20230806
DTEND;VALUE=DATE:20230813
DTSTAMP:20260424T122747
CREATED:20230421T213713Z
LAST-MODIFIED:20230710T214253Z
UID:140433-1691280000-1691884799@www.conejochurch.com
SUMMARY:Youth Summer Camp
DESCRIPTION:
URL:https://www.conejochurch.com/event-archive/youth-summer-camp/
LOCATION:Hume\, CA\, 64144 Hume Lake Rd\, Hume\, CA\, 93628
CATEGORIES:Conejo Youth
ATTACH;FMTTYPE=image/png:https://www.conejochurch.com/wp-content/uploads/2023/04/Youth-Summer-Camp-August-6-12.png
ORGANIZER;CN="Conejo Youth":MAILTO:youth@conejochurch.com
END:VEVENT
BEGIN:VEVENT
DTSTART;TZID=America/Los_Angeles:20230730T123000
DTEND;TZID=America/Los_Angeles:20230730T160000
DTSTAMP:20260424T122747
CREATED:20230707T002548Z
LAST-MODIFIED:20230710T215855Z
UID:140810-1690720200-1690732800@www.conejochurch.com
SUMMARY:Grounds Beautification Day
DESCRIPTION:
URL:https://www.conejochurch.com/event-archive/grounds-beautification-day/
LOCATION:Conejo Church\, 480 West Gainsborough\, Thousand Oaks\, CA\, 91360
CATEGORIES:Special Events
ATTACH;FMTTYPE=image/png:https://www.conejochurch.com/wp-content/uploads/2023/07/Grounds-Beautification-73023-vs.2-Presentation-169.png
ORGANIZER;CN="Conejo Church":MAILTO:info@conejochurch.com
END:VEVENT
BEGIN:VEVENT
DTSTART;TZID=America/Los_Angeles:20230730T090000
DTEND;TZID=America/Los_Angeles:20230730T123000
DTSTAMP:20260424T122747
CREATED:20230707T002307Z
LAST-MODIFIED:20230712T031502Z
UID:140805-1690707600-1690720200@www.conejochurch.com
SUMMARY:Youth Camp Fundraiser | Car Wash
DESCRIPTION:
URL:https://www.conejochurch.com/event-archive/youth-fundraiser-car-wash/
LOCATION:Conejo Church\, 480 West Gainsborough\, Thousand Oaks\, CA\, 91360
CATEGORIES:Conejo Youth
ATTACH;FMTTYPE=image/png:https://www.conejochurch.com/wp-content/uploads/2023/07/Car-Wash-vs.3.png
ORGANIZER;CN="Conejo Youth":MAILTO:youth@conejochurch.com
END:VEVENT
BEGIN:VEVENT
DTSTART;TZID=America/Los_Angeles:20230723T120000
DTEND;TZID=America/Los_Angeles:20230723T133000
DTSTAMP:20260424T122747
CREATED:20230719T190922Z
LAST-MODIFIED:20230719T191530Z
UID:140875-1690113600-1690119000@www.conejochurch.com
SUMMARY:Sunday Lunch
DESCRIPTION:
URL:https://www.conejochurch.com/event-archive/sunday-lunch/
LOCATION:Sharky’s in Newbury Park\, 1930 Newbury Rd\, NEWBURY PARK\, CA\, 91320\, United States
CATEGORIES:Special Events
ATTACH;FMTTYPE=image/png:https://www.conejochurch.com/wp-content/uploads/2023/07/Next-Sunday-@-Sharkys-w-time.png
ORGANIZER;CN="Conejo Church":MAILTO:info@conejochurch.com
END:VEVENT
BEGIN:VEVENT
DTSTART;TZID=America/Los_Angeles:20230722T090000
DTEND;TZID=America/Los_Angeles:20230722T150000
DTSTAMP:20260424T122747
CREATED:20230518T225735Z
LAST-MODIFIED:20230710T214548Z
UID:140540-1690016400-1690038000@www.conejochurch.com
SUMMARY:Youth Beach Day
DESCRIPTION:
URL:https://www.conejochurch.com/event-archive/youth-beach-day/
LOCATION:Mondos Beach\, 3674 Pacific Coast Hwy\, Ventura\, 93001\, United States
CATEGORIES:Conejo Youth
ATTACH;FMTTYPE=image/png:https://www.conejochurch.com/wp-content/uploads/2023/05/Youth-Beach-Day-Presentation-169-1.png
ORGANIZER;CN="Conejo Youth":MAILTO:youth@conejochurch.com
END:VEVENT
BEGIN:VEVENT
DTSTART;TZID=America/Los_Angeles:20230716T113000
DTEND;TZID=America/Los_Angeles:20230716T120000
DTSTAMP:20260424T122747
CREATED:20230707T002047Z
LAST-MODIFIED:20230707T002047Z
UID:140801-1689507000-1689508800@www.conejochurch.com
SUMMARY:Youth Camp Fundraiser | Burrito Day
DESCRIPTION:
URL:https://www.conejochurch.com/event-archive/youth-camp-fundraiser-burrito-day/
LOCATION:Conejo Church\, 480 West Gainsborough\, Thousand Oaks\, CA\, 91360
CATEGORIES:Conejo Youth
ATTACH;FMTTYPE=image/png:https://www.conejochurch.com/wp-content/uploads/2023/07/Burritos.png
ORGANIZER;CN="Conejo Youth":MAILTO:youth@conejochurch.com
END:VEVENT
BEGIN:VEVENT
DTSTART;TZID=America/Los_Angeles:20230711T180000
DTEND;TZID=America/Los_Angeles:20230711T210000
DTSTAMP:20260424T122747
CREATED:20230518T225511Z
LAST-MODIFIED:20230710T214341Z
UID:140536-1689098400-1689109200@www.conejochurch.com
SUMMARY:Youth Pool Party
DESCRIPTION:
URL:https://www.conejochurch.com/event-archive/youth-pool-party/
CATEGORIES:Conejo Youth
ATTACH;FMTTYPE=image/png:https://www.conejochurch.com/wp-content/uploads/2023/05/Youth-Summer-Pool-Party.png
ORGANIZER;CN="Conejo Youth":MAILTO:youth@conejochurch.com
END:VEVENT
BEGIN:VEVENT
DTSTART;TZID=America/Los_Angeles:20230707T183000
DTEND;TZID=America/Los_Angeles:20230707T203000
DTSTAMP:20260424T122747
CREATED:20230626T193109Z
LAST-MODIFIED:20230626T193109Z
UID:140769-1688754600-1688761800@www.conejochurch.com
SUMMARY:Dude's Night Out
DESCRIPTION:
URL:https://www.conejochurch.com/event-archive/dudes-night-out-3/
CATEGORIES:Conejo Men
ATTACH;FMTTYPE=image/png:https://www.conejochurch.com/wp-content/uploads/2023/06/dudes-night-out-July-07.png
ORGANIZER;CN="Men's Ministries":MAILTO:lenkrukowski@yahoo.com
END:VEVENT
BEGIN:VEVENT
DTSTART;TZID=America/Los_Angeles:20230704T183000
DTEND;TZID=America/Los_Angeles:20230704T213000
DTSTAMP:20260424T122747
CREATED:20230602T204052Z
LAST-MODIFIED:20230602T204052Z
UID:140634-1688495400-1688506200@www.conejochurch.com
SUMMARY:July 4th Celebration
DESCRIPTION:
URL:https://www.conejochurch.com/event-archive/july-4th-celebration/
LOCATION:Conejo Church\, 480 West Gainsborough\, Thousand Oaks\, CA\, 91360
CATEGORIES:Special Events
ATTACH;FMTTYPE=image/png:https://www.conejochurch.com/wp-content/uploads/2023/06/July-4-23-Celebration.png
ORGANIZER;CN="Conejo Church":MAILTO:info@conejochurch.com
END:VEVENT
BEGIN:VEVENT
DTSTART;TZID=America/Los_Angeles:20230701T070000
DTEND;TZID=America/Los_Angeles:20230701T083000
DTSTAMP:20260424T122747
CREATED:20230626T193235Z
LAST-MODIFIED:20230626T193235Z
UID:140773-1688194800-1688200200@www.conejochurch.com
SUMMARY:Men's Bible Study
DESCRIPTION:
URL:https://www.conejochurch.com/event-archive/mens-bible-study-4/
CATEGORIES:Conejo Men
ATTACH;FMTTYPE=image/png:https://www.conejochurch.com/wp-content/uploads/2023/06/July-01.png
ORGANIZER;CN="Men's Ministries":MAILTO:lenkrukowski@yahoo.com
END:VEVENT
BEGIN:VEVENT
DTSTART;TZID=America/Los_Angeles:20230625T113000
DTEND;TZID=America/Los_Angeles:20230625T130000
DTSTAMP:20260424T122747
CREATED:20230524T214335Z
LAST-MODIFIED:20230524T214420Z
UID:140577-1687692600-1687698000@www.conejochurch.com
SUMMARY:Sunday Lunch BBQ
DESCRIPTION:
URL:https://www.conejochurch.com/event-archive/sunday-lunch-bbq/
LOCATION:Conejo Church\, 480 West Gainsborough\, Thousand Oaks\, CA\, 91360
CATEGORIES:Special Events
ATTACH;FMTTYPE=image/png:https://www.conejochurch.com/wp-content/uploads/2023/05/BBQ-Sunday-Lunch-June-25-rev.png
ORGANIZER;CN="Conejo Church":MAILTO:info@conejochurch.com
END:VEVENT
BEGIN:VEVENT
DTSTART;TZID=America/Los_Angeles:20230623T190000
DTEND;TZID=America/Los_Angeles:20230623T210000
DTSTAMP:20260424T122747
CREATED:20230518T224236Z
LAST-MODIFIED:20230518T224309Z
UID:140517-1687546800-1687554000@www.conejochurch.com
SUMMARY:WOC | Worship Under the Stars
DESCRIPTION:
URL:https://www.conejochurch.com/event-archive/woc-worship-under-the-stars/
LOCATION:Conejo Church\, 480 West Gainsborough\, Thousand Oaks\, CA\, 91360
CATEGORIES:Women of Conejo
ATTACH;FMTTYPE=image/png:https://www.conejochurch.com/wp-content/uploads/2023/05/Worship-Under-the-Stars.png
ORGANIZER;CN="Conejo Women's Ministry":MAILTO:women@conejochurch.com
END:VEVENT
BEGIN:VEVENT
DTSTART;VALUE=DATE:20230620
DTEND;VALUE=DATE:20230621
DTSTAMP:20260424T122747
CREATED:20230519T042648Z
LAST-MODIFIED:20230519T042859Z
UID:140566-1687219200-1687305599@www.conejochurch.com
SUMMARY:Youth | 6 Flags Magic Mountain
DESCRIPTION:
URL:https://www.conejochurch.com/event-archive/youth-6-flags-magic-mountain/
LOCATION:Magic Mountain Valencia\, 26101 Magic Mountain Pkwy\, Valencia\, CA\, 91355
CATEGORIES:Conejo Youth
ATTACH;FMTTYPE=image/png:https://www.conejochurch.com/wp-content/uploads/2023/05/6-flags-MM-Conejo-Youth.png
ORGANIZER;CN="Conejo Youth":MAILTO:youth@conejochurch.com
END:VEVENT
BEGIN:VEVENT
DTSTART;TZID=America/Los_Angeles:20230617T100000
DTEND;TZID=America/Los_Angeles:20230617T140000
DTSTAMP:20260424T122747
CREATED:20230525T213228Z
LAST-MODIFIED:20230526T182445Z
UID:140612-1686996000-1687010400@www.conejochurch.com
SUMMARY:Family Beach Day
DESCRIPTION:
URL:https://www.conejochurch.com/event-archive/fathers-day-beach-day/
LOCATION:Harbor Cove Beach\, Ventura CA
CATEGORIES:Special Events
ATTACH;FMTTYPE=image/png:https://www.conejochurch.com/wp-content/uploads/2023/05/Conejo-Beach-Day-June-17-23-Presentation-169-final.png
ORGANIZER;CN="Conejo Church":MAILTO:info@conejochurch.com
END:VEVENT
BEGIN:VEVENT
DTSTART;TZID=America/Los_Angeles:20230608T190000
DTEND;TZID=America/Los_Angeles:20230608T200000
DTSTAMP:20260424T122747
CREATED:20230518T225310Z
LAST-MODIFIED:20230518T225310Z
UID:140532-1686250800-1686254400@www.conejochurch.com
SUMMARY:Prayer Night
DESCRIPTION:
URL:https://www.conejochurch.com/event-archive/prayer-night/
LOCATION:Conejo Church\, 480 West Gainsborough\, Thousand Oaks\, CA\, 91360
CATEGORIES:Prayer Meetings
ATTACH;FMTTYPE=image/png:https://www.conejochurch.com/wp-content/uploads/2023/05/Prayer-Night-June-08-7pm-Presentation-169.png
ORGANIZER;CN="Conejo Church":MAILTO:info@conejochurch.com
END:VEVENT
BEGIN:VEVENT
DTSTART;TZID=America/Los_Angeles:20230604T130000
DTEND;TZID=America/Los_Angeles:20230604T150000
DTSTAMP:20260424T122747
CREATED:20230511T160224Z
LAST-MODIFIED:20230511T161724Z
UID:140485-1685883600-1685890800@www.conejochurch.com
SUMMARY:Foster Love - James Storehouse Fundraiser
DESCRIPTION:
URL:https://www.conejochurch.com/event-archive/foster-love-james-storehouse-fundraiser/
LOCATION:Westlake Village Inn\, 31943 Agoura Road\, Westlake Village\, CA\, 91361\, United States
CATEGORIES:Special Events
ATTACH;FMTTYPE=image/png:https://www.conejochurch.com/wp-content/uploads/2023/05/Foster-Love-Must-RSVP-to-attend-rev.png
ORGANIZER;CN="Conejo Church":MAILTO:info@conejochurch.com
END:VEVENT
BEGIN:VEVENT
DTSTART;TZID=America/Los_Angeles:20230603T070000
DTEND;TZID=America/Los_Angeles:20230603T083000
DTSTAMP:20260424T122747
CREATED:20230518T224549Z
LAST-MODIFIED:20230518T224549Z
UID:140522-1685775600-1685781000@www.conejochurch.com
SUMMARY:Conejo Men's Study
DESCRIPTION:
URL:https://www.conejochurch.com/event-archive/conejo-mens-study/
CATEGORIES:Conejo Men
ATTACH;FMTTYPE=image/png:https://www.conejochurch.com/wp-content/uploads/2023/05/June-03.png
ORGANIZER;CN="Men's Ministries":MAILTO:lenkrukowski@yahoo.com
END:VEVENT
BEGIN:VEVENT
DTSTART;TZID=America/Los_Angeles:20230530T190000
DTEND;TZID=America/Los_Angeles:20230530T203000
DTSTAMP:20260424T122747
CREATED:20230511T184414Z
LAST-MODIFIED:20230526T175214Z
UID:140494-1685473200-1685478600@www.conejochurch.com
SUMMARY:Youth BBQ & Worship Night
DESCRIPTION:
URL:https://www.conejochurch.com/event-archive/bbq-worship-night/
LOCATION:Conejo Church\, 480 West Gainsborough\, Thousand Oaks\, CA\, 91360
CATEGORIES:Conejo Youth
ATTACH;FMTTYPE=image/png:https://www.conejochurch.com/wp-content/uploads/2023/05/BBQ-Worship-Conejo-Youth-rev.png
ORGANIZER;CN="Conejo Youth":MAILTO:youth@conejochurch.com
END:VEVENT
BEGIN:VEVENT
DTSTART;TZID=America/Los_Angeles:20230528T113000
DTEND;TZID=America/Los_Angeles:20230528T120000
DTSTAMP:20260424T122748
CREATED:20230518T225943Z
LAST-MODIFIED:20230518T225943Z
UID:140544-1685273400-1685275200@www.conejochurch.com
SUMMARY:Family Chat
DESCRIPTION:
URL:https://www.conejochurch.com/event-archive/family-chat-3/
LOCATION:Conejo Church\, 480 West Gainsborough\, Thousand Oaks\, CA\, 91360
CATEGORIES:Meetings
ATTACH;FMTTYPE=image/png:https://www.conejochurch.com/wp-content/uploads/2023/05/Conejo-Family-Chat-52823-Presentation-169.png
ORGANIZER;CN="Conejo Church":MAILTO:info@conejochurch.com
END:VEVENT
END:VCALENDAR