BEGIN:VCALENDAR
VERSION:2.0
PRODID:-//Conejo Church - ECPv6.15.20//NONSGML v1.0//EN
CALSCALE:GREGORIAN
METHOD:PUBLISH
X-ORIGINAL-URL:https://www.conejochurch.com
X-WR-CALDESC:Events for Conejo Church
REFRESH-INTERVAL;VALUE=DURATION:PT1H
X-Robots-Tag:noindex
X-PUBLISHED-TTL:PT1H
BEGIN:VTIMEZONE
TZID:America/Los_Angeles
BEGIN:DAYLIGHT
TZOFFSETFROM:-0800
TZOFFSETTO:-0700
TZNAME:PDT
DTSTART:20190310T100000
END:DAYLIGHT
BEGIN:STANDARD
TZOFFSETFROM:-0700
TZOFFSETTO:-0800
TZNAME:PST
DTSTART:20191103T090000
END:STANDARD
BEGIN:DAYLIGHT
TZOFFSETFROM:-0800
TZOFFSETTO:-0700
TZNAME:PDT
DTSTART:20200308T100000
END:DAYLIGHT
BEGIN:STANDARD
TZOFFSETFROM:-0700
TZOFFSETTO:-0800
TZNAME:PST
DTSTART:20201101T090000
END:STANDARD
BEGIN:DAYLIGHT
TZOFFSETFROM:-0800
TZOFFSETTO:-0700
TZNAME:PDT
DTSTART:20210314T100000
END:DAYLIGHT
BEGIN:STANDARD
TZOFFSETFROM:-0700
TZOFFSETTO:-0800
TZNAME:PST
DTSTART:20211107T090000
END:STANDARD
END:VTIMEZONE
BEGIN:VEVENT
DTSTART;TZID=America/Los_Angeles:20201108T100000
DTEND;TZID=America/Los_Angeles:20201108T110000
DTSTAMP:20260424T111250
CREATED:20201023T052159Z
LAST-MODIFIED:20201023T052318Z
UID:72080-1604829600-1604833200@www.conejochurch.com
SUMMARY:First Indoor Worship Service
DESCRIPTION:With the weather getting a bit colder\, we will begin meeting inside again.  You can join us inside\, outside\, and online starting Sunday\, November 8.  If you’ll be sitting in the sanctuary\, please wear a mask on your way in.  You’re free to take it off when you’re situated. \n  \n 
URL:https://www.conejochurch.com/event-archive/first-indoor-worship-service/
CATEGORIES:Worship
END:VEVENT
BEGIN:VEVENT
DTSTART;TZID=America/Los_Angeles:20200412T100000
DTEND;TZID=America/Los_Angeles:20200412T113000
DTSTAMP:20260424T111250
CREATED:20200409T170814Z
LAST-MODIFIED:20200409T171719Z
UID:71762-1586685600-1586691000@www.conejochurch.com
SUMMARY:Easter Sunday Worship
DESCRIPTION:This Easter we will broadcast our livestream from a surprise location here in the community.  I think you will love the place we chose! Please be part of it on Facebook with us.  Invite friends to watch with you.  (Share it like crazy\, since this is likely the biggest day in recent history for un-churched friends to join in.  Watch parties work great as well!)  If you don’t have Facebook\, no problem at all. Just to go to conejochurch.com and click the link to the livestream.
URL:https://www.conejochurch.com/event-archive/easter-sunday-worship/
CATEGORIES:Worship
ATTACH;FMTTYPE=image/jpeg:https://www.conejochurch.com/wp-content/uploads/2020/04/easter-16-9-1.jpg
ORGANIZER;CN="Conejo Church":MAILTO:info@conejochurch.com
END:VEVENT
END:VCALENDAR