BEGIN:VCALENDAR
VERSION:2.0
PRODID:-//Conejo Church - ECPv6.15.20//NONSGML v1.0//EN
CALSCALE:GREGORIAN
METHOD:PUBLISH
X-ORIGINAL-URL:https://www.conejochurch.com
X-WR-CALDESC:Events for Conejo Church
REFRESH-INTERVAL;VALUE=DURATION:PT1H
X-Robots-Tag:noindex
X-PUBLISHED-TTL:PT1H
BEGIN:VTIMEZONE
TZID:America/Los_Angeles
BEGIN:DAYLIGHT
TZOFFSETFROM:-0800
TZOFFSETTO:-0700
TZNAME:PDT
DTSTART:20210314T100000
END:DAYLIGHT
BEGIN:STANDARD
TZOFFSETFROM:-0700
TZOFFSETTO:-0800
TZNAME:PST
DTSTART:20211107T090000
END:STANDARD
BEGIN:DAYLIGHT
TZOFFSETFROM:-0800
TZOFFSETTO:-0700
TZNAME:PDT
DTSTART:20220313T100000
END:DAYLIGHT
BEGIN:STANDARD
TZOFFSETFROM:-0700
TZOFFSETTO:-0800
TZNAME:PST
DTSTART:20221106T090000
END:STANDARD
BEGIN:DAYLIGHT
TZOFFSETFROM:-0800
TZOFFSETTO:-0700
TZNAME:PDT
DTSTART:20230312T100000
END:DAYLIGHT
BEGIN:STANDARD
TZOFFSETFROM:-0700
TZOFFSETTO:-0800
TZNAME:PST
DTSTART:20231105T090000
END:STANDARD
END:VTIMEZONE
BEGIN:VEVENT
DTSTART;TZID=America/Los_Angeles:20220924T070000
DTEND;TZID=America/Los_Angeles:20220924T203000
DTSTAMP:20260423T164643
CREATED:20220804T195009Z
LAST-MODIFIED:20220804T195158Z
UID:85246-1664002800-1664051400@www.conejochurch.com
SUMMARY:WOC | Morning Hike
DESCRIPTION:Join us for a simple 2 to 3 mile early morning hike! We’re headed to Bard Lake\, which is local and a total hidden gem! 7am start time and you can still get to yoga with Kathleen Warner for her 9am start.
URL:https://www.conejochurch.com/event-archive/woc-morning-hike/
LOCATION:Bard Lake\, Simi Valley\, CA
CATEGORIES:Women of Conejo
ATTACH;FMTTYPE=image/png:https://www.conejochurch.com/wp-content/uploads/2022/08/WOC-Hike.png
ORGANIZER;CN="Conejo Women's Ministry":MAILTO:women@conejochurch.com
END:VEVENT
BEGIN:VEVENT
DTSTART;TZID=America/Los_Angeles:20220916T180000
DTEND;TZID=America/Los_Angeles:20220916T210000
DTSTAMP:20260423T164643
CREATED:20220804T205133Z
LAST-MODIFIED:20220913T105431Z
UID:85251-1663351200-1663362000@www.conejochurch.com
SUMMARY:WOC | Girls Night Out
DESCRIPTION:RSVP to women@conejochurch.com.
URL:https://www.conejochurch.com/event-archive/woc-girls-night-out-2/
CATEGORIES:Women of Conejo
ATTACH;FMTTYPE=image/png:https://www.conejochurch.com/wp-content/uploads/2022/08/WOC-Girls-Night-Out-rev..png
ORGANIZER;CN="Conejo Women's Ministry":MAILTO:women@conejochurch.com
END:VEVENT
BEGIN:VEVENT
DTSTART;TZID=America/Los_Angeles:20220625T113000
DTEND;TZID=America/Los_Angeles:20220625T133000
DTSTAMP:20260423T164643
CREATED:20220525T212130Z
LAST-MODIFIED:20220526T204332Z
UID:73230-1656156600-1656163800@www.conejochurch.com
SUMMARY:Women of Conejo | Summer Lunch
DESCRIPTION:
URL:https://www.conejochurch.com/event-archive/women-of-conejo-summer-lunch/
CATEGORIES:Women of Conejo
ORGANIZER;CN="Conejo Women's Ministry":MAILTO:women@conejochurch.com
END:VEVENT
BEGIN:VEVENT
DTSTART;TZID=America/Los_Angeles:20220402T080000
DTEND;TZID=America/Los_Angeles:20220402T200000
DTSTAMP:20260423T164643
CREATED:20220116T034905Z
LAST-MODIFIED:20220519T122943Z
UID:72636-1648886400-1648929600@www.conejochurch.com
SUMMARY:WOC | Day Retreat
DESCRIPTION:Women of Conejo!\nComplete the form below to register! \nPlease enable JavaScript in your browser to complete this form.Name *FirstLastPhone NumberEmail *Save My SpotI'm attending!Dietary RestrictionsSubmit   \nCost for the day is $40 which includes three meals. \nYou may pay by check any Sunday morning\,\nor click here to pay using our on-line giving page.\nDesignate your payment to WOC Retreat 2022.
URL:https://www.conejochurch.com/event-archive/woc-day-retreat/
CATEGORIES:Women of Conejo
ORGANIZER;CN="Conejo Women's Ministry":MAILTO:women@conejochurch.com
END:VEVENT
END:VCALENDAR