BEGIN:VCALENDAR
VERSION:2.0
PRODID:-//Conejo Church - ECPv6.15.20//NONSGML v1.0//EN
CALSCALE:GREGORIAN
METHOD:PUBLISH
X-WR-CALNAME:Conejo Church
X-ORIGINAL-URL:https://www.conejochurch.com
X-WR-CALDESC:Events for Conejo Church
REFRESH-INTERVAL;VALUE=DURATION:PT1H
X-Robots-Tag:noindex
X-PUBLISHED-TTL:PT1H
BEGIN:VTIMEZONE
TZID:America/Los_Angeles
BEGIN:DAYLIGHT
TZOFFSETFROM:-0800
TZOFFSETTO:-0700
TZNAME:PDT
DTSTART:20210314T100000
END:DAYLIGHT
BEGIN:STANDARD
TZOFFSETFROM:-0700
TZOFFSETTO:-0800
TZNAME:PST
DTSTART:20211107T090000
END:STANDARD
BEGIN:DAYLIGHT
TZOFFSETFROM:-0800
TZOFFSETTO:-0700
TZNAME:PDT
DTSTART:20220313T100000
END:DAYLIGHT
BEGIN:STANDARD
TZOFFSETFROM:-0700
TZOFFSETTO:-0800
TZNAME:PST
DTSTART:20221106T090000
END:STANDARD
BEGIN:DAYLIGHT
TZOFFSETFROM:-0800
TZOFFSETTO:-0700
TZNAME:PDT
DTSTART:20230312T100000
END:DAYLIGHT
BEGIN:STANDARD
TZOFFSETFROM:-0700
TZOFFSETTO:-0800
TZNAME:PST
DTSTART:20231105T090000
END:STANDARD
BEGIN:DAYLIGHT
TZOFFSETFROM:-0800
TZOFFSETTO:-0700
TZNAME:PDT
DTSTART:20240310T100000
END:DAYLIGHT
BEGIN:STANDARD
TZOFFSETFROM:-0700
TZOFFSETTO:-0800
TZNAME:PST
DTSTART:20241103T090000
END:STANDARD
BEGIN:DAYLIGHT
TZOFFSETFROM:-0800
TZOFFSETTO:-0700
TZNAME:PDT
DTSTART:20250309T100000
END:DAYLIGHT
BEGIN:STANDARD
TZOFFSETFROM:-0700
TZOFFSETTO:-0800
TZNAME:PST
DTSTART:20251102T090000
END:STANDARD
BEGIN:DAYLIGHT
TZOFFSETFROM:-0800
TZOFFSETTO:-0700
TZNAME:PDT
DTSTART:20260308T100000
END:DAYLIGHT
BEGIN:STANDARD
TZOFFSETFROM:-0700
TZOFFSETTO:-0800
TZNAME:PST
DTSTART:20261101T090000
END:STANDARD
BEGIN:DAYLIGHT
TZOFFSETFROM:-0800
TZOFFSETTO:-0700
TZNAME:PDT
DTSTART:20270314T100000
END:DAYLIGHT
BEGIN:STANDARD
TZOFFSETFROM:-0700
TZOFFSETTO:-0800
TZNAME:PST
DTSTART:20271107T090000
END:STANDARD
END:VTIMEZONE
BEGIN:VEVENT
DTSTART;TZID=America/Los_Angeles:20260120T173000
DTEND;TZID=America/Los_Angeles:20260120T193000
DTSTAMP:20260423T134552
CREATED:20251015T011656Z
LAST-MODIFIED:20251119T234948Z
UID:143066-1768930200-1768937400@www.conejochurch.com
SUMMARY:WOC Dinner Crew
DESCRIPTION:
URL:https://www.conejochurch.com/event-archive/dinner-crew/
LOCATION:Urban Plates\, 162 W Hillcrest Dr #100\, Thousand Oaks\, 91360
CATEGORIES:Women of Conejo
ATTACH;FMTTYPE=image/png:https://www.conejochurch.com/wp-content/uploads/2025/06/WOC-Dinner-Crew-vs2.png
ORGANIZER;CN="Conejo Women's Ministry":MAILTO:women@conejochurch.com
END:VEVENT
BEGIN:VEVENT
DTSTART;TZID=America/Los_Angeles:20251123T100000
DTEND;TZID=America/Los_Angeles:20251123T120000
DTSTAMP:20260423T134552
CREATED:20251015T015926Z
LAST-MODIFIED:20251015T202454Z
UID:143071-1763892000-1763899200@www.conejochurch.com
SUMMARY:Christmas Toy Drive
DESCRIPTION:It won’t be long before you can start bringing in your toys for James Storehouse’s annual toy drive. We’ll collect them every Sunday beginning Nov. 23.
URL:https://www.conejochurch.com/event-archive/christmas-toy-drive/
LOCATION:Conejo Church\, 480 West Gainsborough\, Thousand Oaks\, CA\, 91360
CATEGORIES:Women of Conejo
ATTACH;FMTTYPE=image/png:https://www.conejochurch.com/wp-content/uploads/2025/10/Conejo-Toy-Drive-2025-1.png
ORGANIZER;CN="Conejo Church":MAILTO:info@conejochurch.com
END:VEVENT
BEGIN:VEVENT
DTSTART;TZID=America/Los_Angeles:20251024T183000
DTEND;TZID=America/Los_Angeles:20251024T210000
DTSTAMP:20260423T134552
CREATED:20250820T204211Z
LAST-MODIFIED:20250909T202425Z
UID:142868-1761330600-1761339600@www.conejochurch.com
SUMMARY:WOC Worship Under the Stars
DESCRIPTION:Ladies\, please bring a jacket or blanket with you. This will be a very special evening of prayer\, Scripture reading and worship. Let us know you’re attending at women@conejochurch.com. And__ bring a friend!
URL:https://www.conejochurch.com/event-archive/woc-worship-under-the-stars-2/
LOCATION:Conejo Church\, 480 West Gainsborough\, Thousand Oaks\, CA\, 91360
CATEGORIES:Women of Conejo
ATTACH;FMTTYPE=image/png:https://www.conejochurch.com/wp-content/uploads/2025/08/Worship-Under-the-Stars-Oct.-24.png
ORGANIZER;CN="Conejo Women's Ministry":MAILTO:women@conejochurch.com
END:VEVENT
BEGIN:VEVENT
DTSTART;TZID=America/Los_Angeles:20251019T100000
DTEND;TZID=America/Los_Angeles:20251019T113000
DTSTAMP:20260423T134552
CREATED:20251015T013110Z
LAST-MODIFIED:20251016T183046Z
UID:143068-1760868000-1760873400@www.conejochurch.com
SUMMARY:Thanksgiving Day Basket Collection
DESCRIPTION:It’s time to start our collection of Thanksgiving day baskets! Use the list on the graphic to buy your ingredients and drop them off  Sunday mornings at Conejo Church\, or drop them at James Storehouse during their collection hours. You can also buy/deliver everything on Amazon by clicking here. Thank you for helping!
URL:https://www.conejochurch.com/event-archive/thanksgiving-day-basket-collection/
LOCATION:Conejo Church\, 480 West Gainsborough\, Thousand Oaks\, CA\, 91360
CATEGORIES:Women of Conejo
ATTACH;FMTTYPE=image/png:https://www.conejochurch.com/wp-content/uploads/2025/10/New-Thanksgiving-Basket-vs3.png
ORGANIZER;CN="Conejo Church":MAILTO:info@conejochurch.com
END:VEVENT
BEGIN:VEVENT
DTSTART;TZID=America/Los_Angeles:20250809T083000
DTEND;TZID=America/Los_Angeles:20250809T093000
DTSTAMP:20260423T134552
CREATED:20250709T135417Z
LAST-MODIFIED:20250709T184326Z
UID:142806-1754728200-1754731800@www.conejochurch.com
SUMMARY:WOC Morning Walk
DESCRIPTION:
URL:https://www.conejochurch.com/event-archive/woc-morning-walk/
LOCATION:Lynn Oaks Park\, 359 Capitan St.\, Thousand Oaks\, 91360
CATEGORIES:Women of Conejo
ATTACH;FMTTYPE=image/png:https://www.conejochurch.com/wp-content/uploads/2025/07/WOC-Walk.png
END:VEVENT
BEGIN:VEVENT
DTSTART;TZID=America/Los_Angeles:20250725T180000
DTEND;TZID=America/Los_Angeles:20250725T203000
DTSTAMP:20260423T134552
CREATED:20250703T050607Z
LAST-MODIFIED:20250703T050658Z
UID:142798-1753466400-1753475400@www.conejochurch.com
SUMMARY:WOC Girl's Night Out
DESCRIPTION:
URL:https://www.conejochurch.com/event-archive/woc-ladies-night-out/
CATEGORIES:Women of Conejo
ATTACH;FMTTYPE=image/png:https://www.conejochurch.com/wp-content/uploads/2025/07/WOC-Girls-Night-Out-072525-Presentation.png
ORGANIZER;CN="Conejo Women's Ministry":MAILTO:women@conejochurch.com
END:VEVENT
BEGIN:VEVENT
DTSTART;TZID=America/Los_Angeles:20250715T173000
DTEND;TZID=America/Los_Angeles:20250715T193000
DTSTAMP:20260423T134552
CREATED:20250610T185922Z
LAST-MODIFIED:20250610T193017Z
UID:142754-1752600600-1752607800@www.conejochurch.com
SUMMARY:WOC Dinner Crew
DESCRIPTION:Ladies\, join us at Urban Plates\, in the T.O. Mall\, the third Tuesday of every month for dinner with the amazing women of Conejo. You’re invited to be part of the Dinner Crew!
URL:https://www.conejochurch.com/event-archive/woc-dinner-crew-2/
LOCATION:Urban Plates\, 162 W Hillcrest Dr #100\, Thousand Oaks\, 91360
CATEGORIES:Women of Conejo
ATTACH;FMTTYPE=image/png:https://www.conejochurch.com/wp-content/uploads/2025/06/WOC-Dinner-Crew-vs2.png
ORGANIZER;CN="Conejo Women's Ministry":MAILTO:women@conejochurch.com
END:VEVENT
BEGIN:VEVENT
DTSTART;TZID=America/Los_Angeles:20250617T173000
DTEND;TZID=America/Los_Angeles:20250617T193000
DTSTAMP:20260423T134552
CREATED:20250610T185137Z
LAST-MODIFIED:20250610T192927Z
UID:142748-1750181400-1750188600@www.conejochurch.com
SUMMARY:WOC Dinner Crew
DESCRIPTION:Ladies\, join us at Urban Plates\, in the T.O. Mall\, the third Tuesday of every month for dinner with the amazing women of Conejo. You’re invited to be part of the Dinner Crew!
URL:https://www.conejochurch.com/event-archive/woc-dinner-crew/
LOCATION:Urban Plates\, 162 W Hillcrest Dr #100\, Thousand Oaks\, 91360
CATEGORIES:Women of Conejo
ATTACH;FMTTYPE=image/png:https://www.conejochurch.com/wp-content/uploads/2025/06/WOC-Dinner-Crew-vs2.png
ORGANIZER;CN="Conejo Women's Ministry":MAILTO:women@conejochurch.com
END:VEVENT
BEGIN:VEVENT
DTSTART;TZID=America/Los_Angeles:20250307T180000
DTEND;TZID=America/Los_Angeles:20250307T203000
DTSTAMP:20260423T134552
CREATED:20250205T221116Z
LAST-MODIFIED:20250205T221116Z
UID:142604-1741370400-1741379400@www.conejochurch.com
SUMMARY:WOC Bunco Night
DESCRIPTION:
URL:https://www.conejochurch.com/event-archive/woc-bunco-night-3/
CATEGORIES:Women of Conejo
ATTACH;FMTTYPE=image/png:https://www.conejochurch.com/wp-content/uploads/2025/02/WOC-Bunco-2.png
ORGANIZER;CN="Conejo Women's Ministry":MAILTO:women@conejochurch.com
END:VEVENT
BEGIN:VEVENT
DTSTART;TZID=America/Los_Angeles:20241012T083000
DTEND;TZID=America/Los_Angeles:20241012T160000
DTSTAMP:20260423T134552
CREATED:20240813T172647Z
LAST-MODIFIED:20240813T174030Z
UID:142247-1728721800-1728748800@www.conejochurch.com
SUMMARY:WOC | 2024 Day Retreat
DESCRIPTION:Ladies! Join us for a wonderful restful day\, October 12\, from 8:30 AM til 4 PM. Songwriter\, speaker and artist Jamie Owens Collins will be our guest speaker. We’ll have time to pray\, learn\, rest\, play and get to know each other. Breakfast and lunch are provided. Stay tuned for cost\, but it’s not too early to RSVP and let us know you can attend. Email women@conejochurch.com. We have a limited number of spaces so be sure you take one of them! Our location is in Anne Barbour’s beautiful backyard park. See you there.
URL:https://www.conejochurch.com/event-archive/woc-day-retreat-3/
CATEGORIES:Women of Conejo
ATTACH;FMTTYPE=image/png:https://www.conejochurch.com/wp-content/uploads/2024/08/Day-Retreat-October-12-2024.png
ORGANIZER;CN="Conejo Women's Ministry":MAILTO:women@conejochurch.com
END:VEVENT
BEGIN:VEVENT
DTSTART;TZID=America/Los_Angeles:20240906T180000
DTEND;TZID=America/Los_Angeles:20240906T203000
DTSTAMP:20260423T134552
CREATED:20240814T165917Z
LAST-MODIFIED:20240814T170034Z
UID:142257-1725645600-1725654600@www.conejochurch.com
SUMMARY:WOC | Girls Night Out
DESCRIPTION:Hey\, Conejo Gals. RSVP to let us know you’re coming to our next Girls Night Out\, hosted by Julie Thurman. Bring an appetizer to share and we’ll see you on the 6th.
URL:https://www.conejochurch.com/event-archive/woc-girls-night-out-4/
CATEGORIES:Women of Conejo
ATTACH;FMTTYPE=image/png:https://www.conejochurch.com/wp-content/uploads/2024/08/WOC-Girls-Night-Out-090624-Presentation.png
ORGANIZER;CN="Conejo Women's Ministry":MAILTO:women@conejochurch.com
END:VEVENT
BEGIN:VEVENT
DTSTART;TZID=America/Los_Angeles:20240426T173000
DTEND;TZID=America/Los_Angeles:20240426T203000
DTSTAMP:20260423T134552
CREATED:20240308T181253Z
LAST-MODIFIED:20240424T211027Z
UID:141469-1714152600-1714163400@www.conejochurch.com
SUMMARY:WOC | Girls Night Out
DESCRIPTION:
URL:https://www.conejochurch.com/event-archive/woc-girls-night-out-3/
CATEGORIES:Women of Conejo
ATTACH;FMTTYPE=image/png:https://www.conejochurch.com/wp-content/uploads/2024/03/WOC-Girls-Night-Out-42624-Presentation.png
ORGANIZER;CN="Conejo Women's Ministry":MAILTO:women@conejochurch.com
END:VEVENT
BEGIN:VEVENT
DTSTART;TZID=America/Los_Angeles:20240209T180000
DTEND;TZID=America/Los_Angeles:20240209T210000
DTSTAMP:20260423T134552
CREATED:20240119T205834Z
LAST-MODIFIED:20240119T210240Z
UID:141266-1707501600-1707512400@www.conejochurch.com
SUMMARY:WOC | Bunco Night
DESCRIPTION:
URL:https://www.conejochurch.com/event-archive/woc-bunco-night-2/
CATEGORIES:Women of Conejo
ATTACH;FMTTYPE=image/png:https://www.conejochurch.com/wp-content/uploads/2024/01/WOC-bunco-.png
ORGANIZER;CN="Conejo Women's Ministry":MAILTO:women@conejochurch.com
END:VEVENT
BEGIN:VEVENT
DTSTART;TZID=America/Los_Angeles:20240120T093000
DTEND;TZID=America/Los_Angeles:20240120T110000
DTSTAMP:20260423T134552
CREATED:20231203T153025Z
LAST-MODIFIED:20240104T234614Z
UID:141163-1705743000-1705748400@www.conejochurch.com
SUMMARY:WOC | New Year Brunch
DESCRIPTION:
URL:https://www.conejochurch.com/event-archive/woc-new-year-brunch/
CATEGORIES:Women of Conejo
ATTACH;FMTTYPE=image/png:https://www.conejochurch.com/wp-content/uploads/2023/12/WOC-brunch-1-20-24.png
ORGANIZER;CN="Conejo Women's Ministry":MAILTO:women@conejochurch.com
END:VEVENT
BEGIN:VEVENT
DTSTART;TZID=America/Los_Angeles:20230923T083000
DTEND;TZID=America/Los_Angeles:20230923T200000
DTSTAMP:20260423T134552
CREATED:20230524T212715Z
LAST-MODIFIED:20230822T224834Z
UID:140574-1695457800-1695499200@www.conejochurch.com
SUMMARY:WOC Day Retreat
DESCRIPTION:Please RSVP to women@conejochurch.com. There are only 30 spots available\, so let us know you’re coming as soon as you can.
URL:https://www.conejochurch.com/event-archive/woc-day-retreat-2/
LOCATION:Serra Retreat\, 3401 Serra Road\, Malibu\, CA\, 90265
CATEGORIES:Women of Conejo
ATTACH;FMTTYPE=image/png:https://www.conejochurch.com/wp-content/uploads/2023/05/WOC-Retreat-23.png
ORGANIZER;CN="Conejo Women's Ministry":MAILTO:women@conejochurch.com
END:VEVENT
BEGIN:VEVENT
DTSTART;TZID=America/Los_Angeles:20230623T190000
DTEND;TZID=America/Los_Angeles:20230623T210000
DTSTAMP:20260423T134552
CREATED:20230518T224236Z
LAST-MODIFIED:20230518T224309Z
UID:140517-1687546800-1687554000@www.conejochurch.com
SUMMARY:WOC | Worship Under the Stars
DESCRIPTION:
URL:https://www.conejochurch.com/event-archive/woc-worship-under-the-stars/
LOCATION:Conejo Church\, 480 West Gainsborough\, Thousand Oaks\, CA\, 91360
CATEGORIES:Women of Conejo
ATTACH;FMTTYPE=image/png:https://www.conejochurch.com/wp-content/uploads/2023/05/Worship-Under-the-Stars.png
ORGANIZER;CN="Conejo Women's Ministry":MAILTO:women@conejochurch.com
END:VEVENT
BEGIN:VEVENT
DTSTART;TZID=America/Los_Angeles:20230520T090000
DTEND;TZID=America/Los_Angeles:20230520T110000
DTSTAMP:20260423T134552
CREATED:20230426T141904Z
LAST-MODIFIED:20230426T141904Z
UID:140457-1684573200-1684580400@www.conejochurch.com
SUMMARY:WOC Brunch
DESCRIPTION:
URL:https://www.conejochurch.com/event-archive/woc-brunch/
CATEGORIES:Women of Conejo
ATTACH;FMTTYPE=image/png:https://www.conejochurch.com/wp-content/uploads/2023/04/WOC-brunch.png
ORGANIZER;CN="Conejo Women's Ministry":MAILTO:women@conejochurch.com
END:VEVENT
BEGIN:VEVENT
DTSTART;TZID=America/Los_Angeles:20230324T180000
DTEND;TZID=America/Los_Angeles:20230324T210000
DTSTAMP:20260423T134552
CREATED:20230106T191307Z
LAST-MODIFIED:20230224T192902Z
UID:140280-1679680800-1679691600@www.conejochurch.com
SUMMARY:WOC BUNCO Night
DESCRIPTION:
URL:https://www.conejochurch.com/event-archive/woc-bunco-night/
CATEGORIES:Women of Conejo
ATTACH;FMTTYPE=image/png:https://www.conejochurch.com/wp-content/uploads/2023/01/WOC-bunco-new-date.png
ORGANIZER;CN="Conejo Women's Ministry":MAILTO:women@conejochurch.com
END:VEVENT
BEGIN:VEVENT
DTSTART;TZID=America/Los_Angeles:20230119T190000
DTEND;TZID=America/Los_Angeles:20230119T210000
DTSTAMP:20260423T134552
CREATED:20230106T184551Z
LAST-MODIFIED:20230106T184551Z
UID:140277-1674154800-1674162000@www.conejochurch.com
SUMMARY:WOC Bible Journaling
DESCRIPTION:
URL:https://www.conejochurch.com/event-archive/woc-bible-journaling-2/
CATEGORIES:Women of Conejo
ATTACH;FMTTYPE=image/png:https://www.conejochurch.com/wp-content/uploads/2023/01/WOC-Bible-Journaling.png
ORGANIZER;CN="Conejo Women's Ministry":MAILTO:women@conejochurch.com
END:VEVENT
BEGIN:VEVENT
DTSTART;TZID=America/Los_Angeles:20221018T190000
DTEND;TZID=America/Los_Angeles:20221018T210000
DTSTAMP:20260423T134552
CREATED:20221009T073356Z
LAST-MODIFIED:20221009T073356Z
UID:140110-1666119600-1666126800@www.conejochurch.com
SUMMARY:WOC | Bible Journaling
DESCRIPTION:
URL:https://www.conejochurch.com/event-archive/woc-bible-journaling/
CATEGORIES:Women of Conejo
ATTACH;FMTTYPE=image/png:https://www.conejochurch.com/wp-content/uploads/2022/10/WOC-Art-Lesson-w-Wendy-Presentation-169.png
END:VEVENT
BEGIN:VEVENT
DTSTART;TZID=America/Los_Angeles:20220924T070000
DTEND;TZID=America/Los_Angeles:20220924T203000
DTSTAMP:20260423T134552
CREATED:20220804T195009Z
LAST-MODIFIED:20220804T195158Z
UID:85246-1664002800-1664051400@www.conejochurch.com
SUMMARY:WOC | Morning Hike
DESCRIPTION:Join us for a simple 2 to 3 mile early morning hike! We’re headed to Bard Lake\, which is local and a total hidden gem! 7am start time and you can still get to yoga with Kathleen Warner for her 9am start.
URL:https://www.conejochurch.com/event-archive/woc-morning-hike/
LOCATION:Bard Lake\, Simi Valley\, CA
CATEGORIES:Women of Conejo
ATTACH;FMTTYPE=image/png:https://www.conejochurch.com/wp-content/uploads/2022/08/WOC-Hike.png
ORGANIZER;CN="Conejo Women's Ministry":MAILTO:women@conejochurch.com
END:VEVENT
BEGIN:VEVENT
DTSTART;TZID=America/Los_Angeles:20220916T180000
DTEND;TZID=America/Los_Angeles:20220916T210000
DTSTAMP:20260423T134552
CREATED:20220804T205133Z
LAST-MODIFIED:20220913T105431Z
UID:85251-1663351200-1663362000@www.conejochurch.com
SUMMARY:WOC | Girls Night Out
DESCRIPTION:RSVP to women@conejochurch.com.
URL:https://www.conejochurch.com/event-archive/woc-girls-night-out-2/
CATEGORIES:Women of Conejo
ATTACH;FMTTYPE=image/png:https://www.conejochurch.com/wp-content/uploads/2022/08/WOC-Girls-Night-Out-rev..png
ORGANIZER;CN="Conejo Women's Ministry":MAILTO:women@conejochurch.com
END:VEVENT
BEGIN:VEVENT
DTSTART;TZID=America/Los_Angeles:20220625T113000
DTEND;TZID=America/Los_Angeles:20220625T133000
DTSTAMP:20260423T134552
CREATED:20220525T212130Z
LAST-MODIFIED:20220526T204332Z
UID:73230-1656156600-1656163800@www.conejochurch.com
SUMMARY:Women of Conejo | Summer Lunch
DESCRIPTION:
URL:https://www.conejochurch.com/event-archive/women-of-conejo-summer-lunch/
CATEGORIES:Women of Conejo
ORGANIZER;CN="Conejo Women's Ministry":MAILTO:women@conejochurch.com
END:VEVENT
BEGIN:VEVENT
DTSTART;TZID=America/Los_Angeles:20220402T080000
DTEND;TZID=America/Los_Angeles:20220402T200000
DTSTAMP:20260423T134552
CREATED:20220116T034905Z
LAST-MODIFIED:20220519T122943Z
UID:72636-1648886400-1648929600@www.conejochurch.com
SUMMARY:WOC | Day Retreat
DESCRIPTION:Women of Conejo!\nComplete the form below to register! \nPlease enable JavaScript in your browser to complete this form.Name *FirstLastPhone NumberEmail *Save My SpotI'm attending!Dietary RestrictionsSubmit   \nCost for the day is $40 which includes three meals. \nYou may pay by check any Sunday morning\,\nor click here to pay using our on-line giving page.\nDesignate your payment to WOC Retreat 2022.
URL:https://www.conejochurch.com/event-archive/woc-day-retreat/
CATEGORIES:Women of Conejo
ORGANIZER;CN="Conejo Women's Ministry":MAILTO:women@conejochurch.com
END:VEVENT
END:VCALENDAR