BEGIN:VCALENDAR
VERSION:2.0
PRODID:-//Conejo Church - ECPv6.15.20//NONSGML v1.0//EN
CALSCALE:GREGORIAN
METHOD:PUBLISH
X-ORIGINAL-URL:https://www.conejochurch.com
X-WR-CALDESC:Events for Conejo Church
REFRESH-INTERVAL;VALUE=DURATION:PT1H
X-Robots-Tag:noindex
X-PUBLISHED-TTL:PT1H
BEGIN:VTIMEZONE
TZID:America/Los_Angeles
BEGIN:DAYLIGHT
TZOFFSETFROM:-0800
TZOFFSETTO:-0700
TZNAME:PDT
DTSTART:20180311T100000
END:DAYLIGHT
BEGIN:STANDARD
TZOFFSETFROM:-0700
TZOFFSETTO:-0800
TZNAME:PST
DTSTART:20181104T090000
END:STANDARD
BEGIN:DAYLIGHT
TZOFFSETFROM:-0800
TZOFFSETTO:-0700
TZNAME:PDT
DTSTART:20190310T100000
END:DAYLIGHT
BEGIN:STANDARD
TZOFFSETFROM:-0700
TZOFFSETTO:-0800
TZNAME:PST
DTSTART:20191103T090000
END:STANDARD
BEGIN:DAYLIGHT
TZOFFSETFROM:-0800
TZOFFSETTO:-0700
TZNAME:PDT
DTSTART:20200308T100000
END:DAYLIGHT
BEGIN:STANDARD
TZOFFSETFROM:-0700
TZOFFSETTO:-0800
TZNAME:PST
DTSTART:20201101T090000
END:STANDARD
BEGIN:DAYLIGHT
TZOFFSETFROM:-0800
TZOFFSETTO:-0700
TZNAME:PDT
DTSTART:20210314T100000
END:DAYLIGHT
BEGIN:STANDARD
TZOFFSETFROM:-0700
TZOFFSETTO:-0800
TZNAME:PST
DTSTART:20211107T090000
END:STANDARD
BEGIN:DAYLIGHT
TZOFFSETFROM:-0800
TZOFFSETTO:-0700
TZNAME:PDT
DTSTART:20220313T100000
END:DAYLIGHT
BEGIN:STANDARD
TZOFFSETFROM:-0700
TZOFFSETTO:-0800
TZNAME:PST
DTSTART:20221106T090000
END:STANDARD
BEGIN:DAYLIGHT
TZOFFSETFROM:-0800
TZOFFSETTO:-0700
TZNAME:PDT
DTSTART:20230312T100000
END:DAYLIGHT
BEGIN:STANDARD
TZOFFSETFROM:-0700
TZOFFSETTO:-0800
TZNAME:PST
DTSTART:20231105T090000
END:STANDARD
END:VTIMEZONE
BEGIN:VTIMEZONE
TZID:UTC
BEGIN:STANDARD
TZOFFSETFROM:+0000
TZOFFSETTO:+0000
TZNAME:UTC
DTSTART:20180101T000000
END:STANDARD
END:VTIMEZONE
BEGIN:VEVENT
DTSTART;VALUE=DATE:20220711
DTEND;VALUE=DATE:20220716
DTSTAMP:20260424T032436
CREATED:20220326T183237Z
LAST-MODIFIED:20220804T010803Z
UID:73093-1657497600-1657929599@www.conejochurch.com
SUMMARY:VBS | God's Wonder Lab
DESCRIPTION:
URL:https://www.conejochurch.com/event-archive/gods-wonder-lab/
LOCATION:Conejo Church\, 480 West Gainsborough\, Thousand Oaks\, CA\, 91360
CATEGORIES:Special Events
ATTACH;FMTTYPE=image/png:https://www.conejochurch.com/wp-content/uploads/2022/06/VBS-2022-8.5-×-5.5-in-rev.-6622-Instagram-Post.png
ORGANIZER;CN="Conejo Church | Families":MAILTO:families@conejochurch.com
END:VEVENT
BEGIN:VEVENT
DTSTART;TZID=America/Los_Angeles:20220702T100000
DTEND;TZID=America/Los_Angeles:20220702T140000
DTSTAMP:20260424T032436
CREATED:20220326T183037Z
LAST-MODIFIED:20220609T174950Z
UID:73090-1656756000-1656770400@www.conejochurch.com
SUMMARY:Conejo Beach Day | July 2
DESCRIPTION:
URL:https://www.conejochurch.com/event-archive/conejo-beach-day/
LOCATION:Harbor Cove Beach (Mothers Beach)\, 1950 Spinnaker Drive\, Ventura\, CA\, 93001
CATEGORIES:Special Events
ORGANIZER;CN="Conejo Church":MAILTO:info@conejochurch.com
END:VEVENT
BEGIN:VEVENT
DTSTART;TZID=America/Los_Angeles:20220605T113000
DTEND;TZID=America/Los_Angeles:20220605T130000
DTSTAMP:20260424T032436
CREATED:20220525T183712Z
LAST-MODIFIED:20220525T183712Z
UID:73221-1654428600-1654434000@www.conejochurch.com
SUMMARY:Conejo Church Sunday Lunch
DESCRIPTION:
URL:https://www.conejochurch.com/event-archive/conejo-church-sunday-lunch-3/
LOCATION:Conejo Church\, 480 West Gainsborough\, Thousand Oaks\, CA\, 91360
CATEGORIES:Special Events
ORGANIZER;CN="Conejo Church":MAILTO:info@conejochurch.com
END:VEVENT
BEGIN:VEVENT
DTSTART;TZID=America/Los_Angeles:20220410T140000
DTEND;TZID=America/Los_Angeles:20220410T160000
DTSTAMP:20260424T032436
CREATED:20220307T192246Z
LAST-MODIFIED:20220326T182126Z
UID:72969-1649599200-1649606400@www.conejochurch.com
SUMMARY:Spring Easter Festival
DESCRIPTION:This is a great opportunity to invite\nyour family\, friends and neighbors!\nWe’re partnering once again\nwith the TO Adventist Church.
URL:https://www.conejochurch.com/event-archive/spring-easter-festival/
LOCATION:Conejo Church\, 480 West Gainsborough\, Thousand Oaks\, CA\, 91360
CATEGORIES:Special Events
ORGANIZER;CN="Conejo Church":MAILTO:info@conejochurch.com
END:VEVENT
BEGIN:VEVENT
DTSTART;TZID=America/Los_Angeles:20220409T100000
DTEND;TZID=America/Los_Angeles:20220409T140000
DTSTAMP:20260424T032436
CREATED:20220307T193136Z
LAST-MODIFIED:20220326T182035Z
UID:72973-1649498400-1649512800@www.conejochurch.com
SUMMARY:James Storehouse | Beautiful You
DESCRIPTION:Volunteers needed!
URL:https://www.conejochurch.com/event-archive/james-storehouse-beautiful-you/
CATEGORIES:Special Events
ORGANIZER;CN="Conejo Church":MAILTO:info@conejochurch.com
END:VEVENT
BEGIN:VEVENT
DTSTART;VALUE=DATE:20201101
DTEND;VALUE=DATE:20201102
DTSTAMP:20260424T032436
CREATED:20201023T051833Z
LAST-MODIFIED:20201023T051910Z
UID:72078-1604188800-1604275199@www.conejochurch.com
SUMMARY:Daylight Saving
DESCRIPTION:Fall back one hour!
URL:https://www.conejochurch.com/event-archive/daylight-saving/
CATEGORIES:Special Events
END:VEVENT
BEGIN:VEVENT
DTSTART;TZID=America/Los_Angeles:20201024T073000
DTEND;TZID=America/Los_Angeles:20201024T083000
DTSTAMP:20260424T032436
CREATED:20201023T051704Z
LAST-MODIFIED:20201023T051704Z
UID:72076-1603524600-1603528200@www.conejochurch.com
SUMMARY:Men of Conejo Breakfast in the park
DESCRIPTION:Join us at Dover Hendrix Park for Bible study\, prayer\, and man stuff. \nBring Your Own Burrito & Bible. \nReach out to men@conejochurch.com for more info…
URL:https://www.conejochurch.com/event-archive/men-of-conejo-breakfast-in-the-park/
CATEGORIES:Special Events
END:VEVENT
BEGIN:VEVENT
DTSTART;TZID=America/Los_Angeles:20201023T190000
DTEND;TZID=America/Los_Angeles:20201023T200000
DTSTAMP:20260424T032436
CREATED:20201023T051435Z
LAST-MODIFIED:20201023T051435Z
UID:72074-1603479600-1603483200@www.conejochurch.com
SUMMARY:Women of Conejo Friday Night Zoom
DESCRIPTION:Please join us each Friday night for connection and encouragement.  You can find our Zoom link on the People of Conejo Facebook group or reach out to women@conejochurch.com.  Hope to see you!
URL:https://www.conejochurch.com/event-archive/women-of-conejo-friday-night-zoom/
CATEGORIES:Special Events
END:VEVENT
BEGIN:VEVENT
DTSTART;TZID=America/Los_Angeles:20191214T093000
DTEND;TZID=America/Los_Angeles:20191214T093000
DTSTAMP:20260424T032436
CREATED:20191213T190503Z
LAST-MODIFIED:20191213T191917Z
UID:71431-1576315800-1576315800@www.conejochurch.com
SUMMARY:Women's Christmas Brunch
DESCRIPTION:[trx_button type=”square” style=”filled” size=”small” link=”https://conejo.churchcenter.com/registrations/events/344001″ popup=”no”]Register[/trx_button]
URL:https://www.conejochurch.com/event-archive/womens-christmas-brunch/
CATEGORIES:Special Events
ORGANIZER;CN="Conejo Women's Ministry":MAILTO:women@conejochurch.com
END:VEVENT
BEGIN:VEVENT
DTSTART;TZID=UTC:20190317T190000
DTEND;TZID=UTC:20190317T210000
DTSTAMP:20260424T032436
CREATED:20190304T115520Z
LAST-MODIFIED:20190807T041310Z
UID:57768-1552849200-1552856400@www.conejochurch.com
SUMMARY:Night of Worship
DESCRIPTION:Join us for a night of worship led by our own John and Anne Barbour on Sunday\, March 17\, 2019. Be there early as we expect a good turnout!
URL:https://www.conejochurch.com/event-archive/night-of-worship/
LOCATION:Conejo Church\, 480 West Gainsborough\, Thousand Oaks\, CA\, 91360
CATEGORIES:Special Events
ATTACH;FMTTYPE=image/jpeg:https://www.conejochurch.com/wp-content/uploads/2019/03/NightofWorship_FACEBK.PNG.jpeg
ORGANIZER;CN="Conejo Church":MAILTO:info@conejochurch.com
END:VEVENT
END:VCALENDAR