BEGIN:VCALENDAR
VERSION:2.0
PRODID:-//Conejo Church - ECPv6.15.20//NONSGML v1.0//EN
CALSCALE:GREGORIAN
METHOD:PUBLISH
X-ORIGINAL-URL:https://www.conejochurch.com
X-WR-CALDESC:Events for Conejo Church
REFRESH-INTERVAL;VALUE=DURATION:PT1H
X-Robots-Tag:noindex
X-PUBLISHED-TTL:PT1H
BEGIN:VTIMEZONE
TZID:America/Los_Angeles
BEGIN:DAYLIGHT
TZOFFSETFROM:-0800
TZOFFSETTO:-0700
TZNAME:PDT
DTSTART:20230312T100000
END:DAYLIGHT
BEGIN:STANDARD
TZOFFSETFROM:-0700
TZOFFSETTO:-0800
TZNAME:PST
DTSTART:20231105T090000
END:STANDARD
BEGIN:DAYLIGHT
TZOFFSETFROM:-0800
TZOFFSETTO:-0700
TZNAME:PDT
DTSTART:20240310T100000
END:DAYLIGHT
BEGIN:STANDARD
TZOFFSETFROM:-0700
TZOFFSETTO:-0800
TZNAME:PST
DTSTART:20241103T090000
END:STANDARD
BEGIN:DAYLIGHT
TZOFFSETFROM:-0800
TZOFFSETTO:-0700
TZNAME:PDT
DTSTART:20250309T100000
END:DAYLIGHT
BEGIN:STANDARD
TZOFFSETFROM:-0700
TZOFFSETTO:-0800
TZNAME:PST
DTSTART:20251102T090000
END:STANDARD
BEGIN:DAYLIGHT
TZOFFSETFROM:-0800
TZOFFSETTO:-0700
TZNAME:PDT
DTSTART:20260308T100000
END:DAYLIGHT
BEGIN:STANDARD
TZOFFSETFROM:-0700
TZOFFSETTO:-0800
TZNAME:PST
DTSTART:20261101T090000
END:STANDARD
END:VTIMEZONE
BEGIN:VEVENT
DTSTART;TZID=America/Los_Angeles:20251206T170000
DTEND;TZID=America/Los_Angeles:20251206T200000
DTSTAMP:20260423T110546
CREATED:20251119T191953Z
LAST-MODIFIED:20251119T191953Z
UID:143163-1765040400-1765051200@www.conejochurch.com
SUMMARY:Waffle Wednesday on Saturday!
DESCRIPTION:
URL:https://www.conejochurch.com/event-archive/waffle-wednesday-on-saturday/
LOCATION:Larry and Bobs Park\, 1033 El Segundo Dr\, Thousand Oaks\, CA\, 91359\, United States
CATEGORIES:SHP
ATTACH;FMTTYPE=image/png:https://www.conejochurch.com/wp-content/uploads/2025/11/Waffle-Wednesday.png
ORGANIZER;CN="Conejo Outreach":MAILTO:outreach@conejochurch.com
END:VEVENT
BEGIN:VEVENT
DTSTART;TZID=America/Los_Angeles:20250913T080000
DTEND;TZID=America/Los_Angeles:20250913T120000
DTSTAMP:20260423T110546
CREATED:20250829T221614Z
LAST-MODIFIED:20250829T230318Z
UID:142907-1757750400-1757764800@www.conejochurch.com
SUMMARY:SHP Bed Build
DESCRIPTION:CLICK HERE TO REGISTER TO WORK \n\n\nVolunteers will work together to build 50 beds. Tasks include cutting lumber\, drilling\, sanding\, assembling bed components\, & branding. NO EXPERIENCE NECESSARY \n\n\nJoin us at Lowe’s Newbury Park\n1027 Academy Dr\, Thousand Oaks\, CA 91320 \n\n\nThe community\, along with Lowes employees\, will be working together to build 50 beds for local kids who don’t have a bed to sleep on\, so that… \n\n\n\nNO KID SLEEPS ON THE FLOOR IN OUR TOWN
URL:https://www.conejochurch.com/event-archive/shp-bed-build/
LOCATION:CA
CATEGORIES:SHP
ATTACH;FMTTYPE=image/png:https://www.conejochurch.com/wp-content/uploads/2025/08/SHP-Bed-Build-9-13-25.png
ORGANIZER;CN="SHP | Beds":MAILTO:Linda.Krukowski@shpbeds.org
END:VEVENT
BEGIN:VEVENT
DTSTART;TZID=America/Los_Angeles:20241026T080000
DTEND;TZID=America/Los_Angeles:20241026T120000
DTSTAMP:20260423T110546
CREATED:20240910T193246Z
LAST-MODIFIED:20240925T163119Z
UID:142292-1729929600-1729944000@www.conejochurch.com
SUMMARY:SHP Bed Build Day
DESCRIPTION:
URL:https://www.conejochurch.com/event-archive/shp-bed-build-day/
LOCATION:James Storehouse\, 3543 Old Conejo Rd #105\, Newbury Park\, CA\, 91320
CATEGORIES:SHP
ATTACH;FMTTYPE=image/png:https://www.conejochurch.com/wp-content/uploads/2024/09/SHP-1st-Bed-Build.png
ORGANIZER;CN="SHP | Beds":MAILTO:Linda.Krukowski@shpbeds.org
END:VEVENT
BEGIN:VEVENT
DTSTART;TZID=America/Los_Angeles:20240922T190000
DTEND;TZID=America/Los_Angeles:20240922T201500
DTSTAMP:20260423T110546
CREATED:20240910T211746Z
LAST-MODIFIED:20240918T014332Z
UID:142301-1727031600-1727036100@www.conejochurch.com
SUMMARY:SHP Volunteer Meeting  #3
DESCRIPTION:
URL:https://www.conejochurch.com/event-archive/shp-volunteer-meeting-3/
LOCATION:CA
CATEGORIES:SHP
ORGANIZER;CN="SHP | Beds":MAILTO:Linda.Krukowski@shpbeds.org
END:VEVENT
BEGIN:VEVENT
DTSTART;TZID=America/Los_Angeles:20240918T190000
DTEND;TZID=America/Los_Angeles:20240918T201500
DTSTAMP:20260423T110546
CREATED:20240910T210818Z
LAST-MODIFIED:20240910T212725Z
UID:142299-1726686000-1726690500@www.conejochurch.com
SUMMARY:SHP Volunteer Meeting  #2
DESCRIPTION:
URL:https://www.conejochurch.com/event-archive/shp-volunteer-meeting-2/
LOCATION:CA
CATEGORIES:SHP
ORGANIZER;CN="SHP | Beds":MAILTO:Linda.Krukowski@shpbeds.org
END:VEVENT
BEGIN:VEVENT
DTSTART;TZID=America/Los_Angeles:20240917T190000
DTEND;TZID=America/Los_Angeles:20240917T201500
DTSTAMP:20260423T110546
CREATED:20240910T210707Z
LAST-MODIFIED:20240910T212652Z
UID:142296-1726599600-1726604100@www.conejochurch.com
SUMMARY:SHP Volunteer Meeting  #1
DESCRIPTION:
URL:https://www.conejochurch.com/event-archive/shp-volunteer-meeting-1/
LOCATION:CA
CATEGORIES:SHP
ORGANIZER;CN="SHP | Beds":MAILTO:Linda.Krukowski@shpbeds.org
END:VEVENT
END:VCALENDAR