BEGIN:VCALENDAR
VERSION:2.0
PRODID:-//Conejo Church - ECPv6.15.20//NONSGML v1.0//EN
CALSCALE:GREGORIAN
METHOD:PUBLISH
X-ORIGINAL-URL:https://www.conejochurch.com
X-WR-CALDESC:Events for Conejo Church
REFRESH-INTERVAL;VALUE=DURATION:PT1H
X-Robots-Tag:noindex
X-PUBLISHED-TTL:PT1H
BEGIN:VTIMEZONE
TZID:America/Los_Angeles
BEGIN:DAYLIGHT
TZOFFSETFROM:-0800
TZOFFSETTO:-0700
TZNAME:PDT
DTSTART:20210314T100000
END:DAYLIGHT
BEGIN:STANDARD
TZOFFSETFROM:-0700
TZOFFSETTO:-0800
TZNAME:PST
DTSTART:20211107T090000
END:STANDARD
BEGIN:DAYLIGHT
TZOFFSETFROM:-0800
TZOFFSETTO:-0700
TZNAME:PDT
DTSTART:20220313T100000
END:DAYLIGHT
BEGIN:STANDARD
TZOFFSETFROM:-0700
TZOFFSETTO:-0800
TZNAME:PST
DTSTART:20221106T090000
END:STANDARD
BEGIN:DAYLIGHT
TZOFFSETFROM:-0800
TZOFFSETTO:-0700
TZNAME:PDT
DTSTART:20230312T100000
END:DAYLIGHT
BEGIN:STANDARD
TZOFFSETFROM:-0700
TZOFFSETTO:-0800
TZNAME:PST
DTSTART:20231105T090000
END:STANDARD
BEGIN:DAYLIGHT
TZOFFSETFROM:-0800
TZOFFSETTO:-0700
TZNAME:PDT
DTSTART:20240310T100000
END:DAYLIGHT
BEGIN:STANDARD
TZOFFSETFROM:-0700
TZOFFSETTO:-0800
TZNAME:PST
DTSTART:20241103T090000
END:STANDARD
BEGIN:DAYLIGHT
TZOFFSETFROM:-0800
TZOFFSETTO:-0700
TZNAME:PDT
DTSTART:20250309T100000
END:DAYLIGHT
BEGIN:STANDARD
TZOFFSETFROM:-0700
TZOFFSETTO:-0800
TZNAME:PST
DTSTART:20251102T090000
END:STANDARD
BEGIN:DAYLIGHT
TZOFFSETFROM:-0800
TZOFFSETTO:-0700
TZNAME:PDT
DTSTART:20260308T100000
END:DAYLIGHT
BEGIN:STANDARD
TZOFFSETFROM:-0700
TZOFFSETTO:-0800
TZNAME:PST
DTSTART:20261101T090000
END:STANDARD
END:VTIMEZONE
BEGIN:VEVENT
DTSTART;TZID=America/Los_Angeles:20251028T183000
DTEND;TZID=America/Los_Angeles:20251028T200000
DTSTAMP:20260423T151501
CREATED:20251002T021309Z
LAST-MODIFIED:20251002T021309Z
UID:143035-1761676200-1761681600@www.conejochurch.com
SUMMARY:Prayer Night
DESCRIPTION:
URL:https://www.conejochurch.com/event-archive/prayer-night-14/
LOCATION:Conejo Church\, 480 West Gainsborough\, Thousand Oaks\, CA\, 91360
CATEGORIES:Prayer Meetings
ATTACH;FMTTYPE=image/png:https://www.conejochurch.com/wp-content/uploads/2025/10/Prayer-Night-102825.png
ORGANIZER;CN="Conejo Church":MAILTO:info@conejochurch.com
END:VEVENT
BEGIN:VEVENT
DTSTART;TZID=America/Los_Angeles:20250929T183000
DTEND;TZID=America/Los_Angeles:20250929T200000
DTSTAMP:20260423T151501
CREATED:20250901T010612Z
LAST-MODIFIED:20250901T010612Z
UID:142939-1759170600-1759176000@www.conejochurch.com
SUMMARY:Prayer Night
DESCRIPTION:
URL:https://www.conejochurch.com/event-archive/prayer-night-13/
LOCATION:Conejo Church\, 480 West Gainsborough\, Thousand Oaks\, CA\, 91360
CATEGORIES:Prayer Meetings
ATTACH;FMTTYPE=image/png:https://www.conejochurch.com/wp-content/uploads/2025/08/Prayer-Night-92925.png
ORGANIZER;CN="Conejo Church":MAILTO:info@conejochurch.com
END:VEVENT
BEGIN:VEVENT
DTSTART;TZID=America/Los_Angeles:20250714T183000
DTEND;TZID=America/Los_Angeles:20250714T200000
DTSTAMP:20260423T151501
CREATED:20250610T194454Z
LAST-MODIFIED:20250704T142704Z
UID:142762-1752517800-1752523200@www.conejochurch.com
SUMMARY:Prayer Night
DESCRIPTION:
URL:https://www.conejochurch.com/event-archive/prayer-night-12/
LOCATION:Conejo Church\, 480 West Gainsborough\, Thousand Oaks\, CA\, 91360
CATEGORIES:Prayer Meetings
ATTACH;FMTTYPE=image/png:https://www.conejochurch.com/wp-content/uploads/2025/06/Prayer-Night-71425.png
ORGANIZER;CN="Conejo Church":MAILTO:info@conejochurch.com
END:VEVENT
BEGIN:VEVENT
DTSTART;TZID=America/Los_Angeles:20250619T183000
DTEND;TZID=America/Los_Angeles:20250619T193000
DTSTAMP:20260423T151501
CREATED:20250607T171709Z
LAST-MODIFIED:20250610T195009Z
UID:142741-1750357800-1750361400@www.conejochurch.com
SUMMARY:Night of Prayer
DESCRIPTION:
URL:https://www.conejochurch.com/event-archive/night-of-prayer-2/
LOCATION:Conejo Church\, 480 West Gainsborough\, Thousand Oaks\, CA\, 91360
CATEGORIES:Prayer Meetings
ATTACH;FMTTYPE=image/png:https://www.conejochurch.com/wp-content/uploads/2025/06/June-19-Prayer.png
ORGANIZER;CN="Conejo Church":MAILTO:info@conejochurch.com
END:VEVENT
BEGIN:VEVENT
DTSTART;TZID=America/Los_Angeles:20250501T180000
DTEND;TZID=America/Los_Angeles:20250501T190000
DTSTAMP:20260423T151501
CREATED:20250429T012944Z
LAST-MODIFIED:20250429T012944Z
UID:142691-1746122400-1746126000@www.conejochurch.com
SUMMARY:National Day of Prayer
DESCRIPTION:
URL:https://www.conejochurch.com/event-archive/national-day-of-prayer-3/
LOCATION:Newbury Park First Christian Church\, 801 Knollwood Dr\, NEWBURY PARK\, CA\, 91320-5042\, United States
CATEGORIES:Prayer Meetings
ATTACH;FMTTYPE=image/png:https://www.conejochurch.com/wp-content/uploads/2025/04/National-Day-of-Prayer-25-Presentation.png
ORGANIZER;CN="Conejo Church":MAILTO:info@conejochurch.com
END:VEVENT
BEGIN:VEVENT
DTSTART;TZID=America/Los_Angeles:20250225T183000
DTEND;TZID=America/Los_Angeles:20250225T200000
DTSTAMP:20260423T151501
CREATED:20250108T181832Z
LAST-MODIFIED:20250108T181832Z
UID:142560-1740508200-1740513600@www.conejochurch.com
SUMMARY:Prayer Night
DESCRIPTION:
URL:https://www.conejochurch.com/event-archive/prayer-night-11/
LOCATION:Conejo Church\, 480 West Gainsborough\, Thousand Oaks\, CA\, 91360
CATEGORIES:Prayer Meetings
ATTACH;FMTTYPE=image/png:https://www.conejochurch.com/wp-content/uploads/2025/01/225.png
ORGANIZER;CN="Conejo Church":MAILTO:info@conejochurch.com
END:VEVENT
BEGIN:VEVENT
DTSTART;TZID=America/Los_Angeles:20250121T183000
DTEND;TZID=America/Los_Angeles:20250121T200000
DTSTAMP:20260423T151501
CREATED:20250108T172951Z
LAST-MODIFIED:20250108T192834Z
UID:142553-1737484200-1737489600@www.conejochurch.com
SUMMARY:Prayer Night
DESCRIPTION:
URL:https://www.conejochurch.com/event-archive/prayer-night-10/
LOCATION:Conejo Church\, 480 West Gainsborough\, Thousand Oaks\, CA\, 91360
CATEGORIES:Prayer Meetings
ATTACH;FMTTYPE=image/png:https://www.conejochurch.com/wp-content/uploads/2025/01/121.png
ORGANIZER;CN="Conejo Church":MAILTO:info@conejochurch.com
END:VEVENT
BEGIN:VEVENT
DTSTART;TZID=America/Los_Angeles:20241203T183000
DTEND;TZID=America/Los_Angeles:20241203T200000
DTSTAMP:20260423T151501
CREATED:20241114T014850Z
LAST-MODIFIED:20241114T014850Z
UID:142450-1733250600-1733256000@www.conejochurch.com
SUMMARY:Prayer Night
DESCRIPTION:
URL:https://www.conejochurch.com/event-archive/prayer-night-9/
LOCATION:Conejo Church\, 480 West Gainsborough\, Thousand Oaks\, CA\, 91360
CATEGORIES:Prayer Meetings
ATTACH;FMTTYPE=image/png:https://www.conejochurch.com/wp-content/uploads/2024/11/1203.png
ORGANIZER;CN="Conejo Church":MAILTO:info@conejochurch.com
END:VEVENT
BEGIN:VEVENT
DTSTART;TZID=America/Los_Angeles:20240930T184500
DTEND;TZID=America/Los_Angeles:20240930T200000
DTSTAMP:20260423T151501
CREATED:20240903T181821Z
LAST-MODIFIED:20240905T002954Z
UID:142274-1727721900-1727726400@www.conejochurch.com
SUMMARY:Worship & Prayer Night
DESCRIPTION:
URL:https://www.conejochurch.com/event-archive/worship-prayer-night-2/
LOCATION:Conejo Church\, 480 West Gainsborough\, Thousand Oaks\, CA\, 91360
CATEGORIES:Prayer Meetings
ATTACH;FMTTYPE=image/png:https://www.conejochurch.com/wp-content/uploads/2024/09/Sept.-30.png
ORGANIZER;CN="Conejo Church":MAILTO:info@conejochurch.com
END:VEVENT
BEGIN:VEVENT
DTSTART;TZID=America/Los_Angeles:20240909T184500
DTEND;TZID=America/Los_Angeles:20240909T200000
DTSTAMP:20260423T151501
CREATED:20240903T181121Z
LAST-MODIFIED:20240905T002923Z
UID:142271-1725907500-1725912000@www.conejochurch.com
SUMMARY:Worship & Prayer Night
DESCRIPTION:
URL:https://www.conejochurch.com/event-archive/worship-prayer-night/
LOCATION:Conejo Church\, 480 West Gainsborough\, Thousand Oaks\, CA\, 91360
CATEGORIES:Prayer Meetings
ATTACH;FMTTYPE=image/png:https://www.conejochurch.com/wp-content/uploads/2024/09/Sept.-09.png
ORGANIZER;CN="Conejo Church":MAILTO:info@conejochurch.com
END:VEVENT
BEGIN:VEVENT
DTSTART;TZID=America/Los_Angeles:20240617T183000
DTEND;TZID=America/Los_Angeles:20240617T193000
DTSTAMP:20260423T151501
CREATED:20240603T194527Z
LAST-MODIFIED:20240603T194527Z
UID:142060-1718649000-1718652600@www.conejochurch.com
SUMMARY:Prayer Night
DESCRIPTION:
URL:https://www.conejochurch.com/event-archive/prayer-night-8/
LOCATION:Conejo Church\, 480 West Gainsborough\, Thousand Oaks\, CA\, 91360
CATEGORIES:Prayer Meetings
ATTACH;FMTTYPE=image/png:https://www.conejochurch.com/wp-content/uploads/2024/06/Prayer-Night-June-17-24.png
ORGANIZER;CN="Conejo Church":MAILTO:info@conejochurch.com
END:VEVENT
BEGIN:VEVENT
DTSTART;TZID=America/Los_Angeles:20240513T183000
DTEND;TZID=America/Los_Angeles:20240513T200000
DTSTAMP:20260423T151501
CREATED:20240417T021845Z
LAST-MODIFIED:20240417T021845Z
UID:141620-1715625000-1715630400@www.conejochurch.com
SUMMARY:Prayer Night
DESCRIPTION:
URL:https://www.conejochurch.com/event-archive/prayer-night-7/
LOCATION:Conejo Church\, 480 West Gainsborough\, Thousand Oaks\, CA\, 91360
CATEGORIES:Prayer Meetings
ATTACH;FMTTYPE=image/png:https://www.conejochurch.com/wp-content/uploads/2024/04/Prayer-Night-May-13-24.png
ORGANIZER;CN="Conejo Church":MAILTO:info@conejochurch.com
END:VEVENT
BEGIN:VEVENT
DTSTART;TZID=America/Los_Angeles:20240311T183000
DTEND;TZID=America/Los_Angeles:20240311T193000
DTSTAMP:20260423T151501
CREATED:20240124T201145Z
LAST-MODIFIED:20240124T201145Z
UID:141286-1710181800-1710185400@www.conejochurch.com
SUMMARY:Prayer Night
DESCRIPTION:
URL:https://www.conejochurch.com/event-archive/prayer-night-6/
LOCATION:Conejo Church\, 480 West Gainsborough\, Thousand Oaks\, CA\, 91360
CATEGORIES:Prayer Meetings
ATTACH;FMTTYPE=image/png:https://www.conejochurch.com/wp-content/uploads/2024/01/Prayer-Night-31124-630-Presentation-169.png
ORGANIZER;CN="Conejo Church":MAILTO:info@conejochurch.com
END:VEVENT
BEGIN:VEVENT
DTSTART;TZID=America/Los_Angeles:20240212T183000
DTEND;TZID=America/Los_Angeles:20240212T193000
DTSTAMP:20260423T151501
CREATED:20240124T200336Z
LAST-MODIFIED:20240124T201246Z
UID:141282-1707762600-1707766200@www.conejochurch.com
SUMMARY:Prayer Night
DESCRIPTION:
URL:https://www.conejochurch.com/event-archive/prayer-night-5/
LOCATION:Conejo Church\, 480 West Gainsborough\, Thousand Oaks\, CA\, 91360
CATEGORIES:Prayer Meetings
ATTACH;FMTTYPE=image/png:https://www.conejochurch.com/wp-content/uploads/2024/01/Prayer-Night-2122024-630-Presentation-169.png
ORGANIZER;CN="Conejo Church":MAILTO:info@conejochurch.com
END:VEVENT
BEGIN:VEVENT
DTSTART;TZID=America/Los_Angeles:20240117T183000
DTEND;TZID=America/Los_Angeles:20240117T200000
DTSTAMP:20260423T151501
CREATED:20240104T210939Z
LAST-MODIFIED:20240104T210939Z
UID:141187-1705516200-1705521600@www.conejochurch.com
SUMMARY:Prayer Night
DESCRIPTION:
URL:https://www.conejochurch.com/event-archive/prayer-night-4/
LOCATION:Conejo Church\, 480 West Gainsborough\, Thousand Oaks\, CA\, 91360
CATEGORIES:Prayer Meetings
ATTACH;FMTTYPE=image/png:https://www.conejochurch.com/wp-content/uploads/2024/01/Prayer-Night-11724-630-Presentation-169.png
ORGANIZER;CN="Conejo Church":MAILTO:info@conejochurch.com
END:VEVENT
BEGIN:VEVENT
DTSTART;TZID=America/Los_Angeles:20231128T190000
DTEND;TZID=America/Los_Angeles:20231128T203000
DTSTAMP:20260423T151501
CREATED:20231109T155102Z
LAST-MODIFIED:20231109T155102Z
UID:141127-1701198000-1701203400@www.conejochurch.com
SUMMARY:Prayer Night
DESCRIPTION:
URL:https://www.conejochurch.com/event-archive/prayer-night-3/
LOCATION:Conejo Church\, 480 West Gainsborough\, Thousand Oaks\, CA\, 91360
CATEGORIES:Prayer Meetings
ATTACH;FMTTYPE=image/png:https://www.conejochurch.com/wp-content/uploads/2023/11/Prayer-Night-112823-7pm-Presentation-169.png
ORGANIZER;CN="Conejo Church":MAILTO:info@conejochurch.com
END:VEVENT
BEGIN:VEVENT
DTSTART;TZID=America/Los_Angeles:20230830T190000
DTEND;TZID=America/Los_Angeles:20230830T203000
DTSTAMP:20260423T151501
CREATED:20230817T123544Z
LAST-MODIFIED:20230817T123701Z
UID:140983-1693422000-1693427400@www.conejochurch.com
SUMMARY:Prayer Night
DESCRIPTION:We’re setting aside this evening to pray for our kids and adult kids who are not walking with the Lord. Please come and intercede with us.
URL:https://www.conejochurch.com/event-archive/prayer-night-2/
LOCATION:Conejo Church\, 480 West Gainsborough\, Thousand Oaks\, CA\, 91360
CATEGORIES:Prayer Meetings
ATTACH;FMTTYPE=image/png:https://www.conejochurch.com/wp-content/uploads/2023/08/Prayer-Night-August-30-@-7pm.png
ORGANIZER;CN="Conejo Church":MAILTO:info@conejochurch.com
END:VEVENT
BEGIN:VEVENT
DTSTART;TZID=America/Los_Angeles:20230608T190000
DTEND;TZID=America/Los_Angeles:20230608T200000
DTSTAMP:20260423T151501
CREATED:20230518T225310Z
LAST-MODIFIED:20230518T225310Z
UID:140532-1686250800-1686254400@www.conejochurch.com
SUMMARY:Prayer Night
DESCRIPTION:
URL:https://www.conejochurch.com/event-archive/prayer-night/
LOCATION:Conejo Church\, 480 West Gainsborough\, Thousand Oaks\, CA\, 91360
CATEGORIES:Prayer Meetings
ATTACH;FMTTYPE=image/png:https://www.conejochurch.com/wp-content/uploads/2023/05/Prayer-Night-June-08-7pm-Presentation-169.png
ORGANIZER;CN="Conejo Church":MAILTO:info@conejochurch.com
END:VEVENT
BEGIN:VEVENT
DTSTART;TZID=America/Los_Angeles:20230504T170000
DTEND;TZID=America/Los_Angeles:20230504T190000
DTSTAMP:20260423T151501
CREATED:20230405T174059Z
LAST-MODIFIED:20230421T201407Z
UID:140365-1683219600-1683226800@www.conejochurch.com
SUMMARY:National Day of Prayer
DESCRIPTION:Look for information coming soon about this city-wide day of prayer.
URL:https://www.conejochurch.com/event-archive/national-day-of-prayer/
CATEGORIES:Prayer Meetings
ATTACH;FMTTYPE=image/png:https://www.conejochurch.com/wp-content/uploads/2023/04/National-Day-of-Prayer-23.png
ORGANIZER;CN="Conejo Church":MAILTO:info@conejochurch.com
END:VEVENT
BEGIN:VEVENT
DTSTART;TZID=America/Los_Angeles:20230328T190000
DTEND;TZID=America/Los_Angeles:20230328T200000
DTSTAMP:20260423T151501
CREATED:20230322T233436Z
LAST-MODIFIED:20230322T233436Z
UID:140357-1680030000-1680033600@www.conejochurch.com
SUMMARY:Day of Prayer
DESCRIPTION:
URL:https://www.conejochurch.com/event-archive/day-of-prayer-8/
LOCATION:Conejo Church\, 480 West Gainsborough\, Thousand Oaks\, CA\, 91360
CATEGORIES:Prayer Meetings
ATTACH;FMTTYPE=image/png:https://www.conejochurch.com/wp-content/uploads/2023/03/Day-of-Prayer-32823-Presentation-169.png
ORGANIZER;CN="Conejo Church":MAILTO:info@conejochurch.com
END:VEVENT
BEGIN:VEVENT
DTSTART;TZID=America/Los_Angeles:20230228T190000
DTEND;TZID=America/Los_Angeles:20230228T200000
DTSTAMP:20260423T151501
CREATED:20230216T231104Z
LAST-MODIFIED:20230216T231104Z
UID:140318-1677610800-1677614400@www.conejochurch.com
SUMMARY:Day of Prayer
DESCRIPTION:
URL:https://www.conejochurch.com/event-archive/day-of-prayer-7/
LOCATION:Conejo Church\, 480 West Gainsborough\, Thousand Oaks\, CA\, 91360
CATEGORIES:Prayer Meetings
ATTACH;FMTTYPE=image/png:https://www.conejochurch.com/wp-content/uploads/2023/02/Conejo-Day-of-Prayer-22823-Presentation-169.png
ORGANIZER;CN="Conejo Church":MAILTO:info@conejochurch.com
END:VEVENT
BEGIN:VEVENT
DTSTART;VALUE=DATE:20220818
DTEND;VALUE=DATE:20220819
DTSTAMP:20260423T151501
CREATED:20220420T034942Z
LAST-MODIFIED:20220804T010214Z
UID:73153-1660780800-1660867199@www.conejochurch.com
SUMMARY:Day of Prayer
DESCRIPTION:7pm in the church sanctuary.
URL:https://www.conejochurch.com/event-archive/day-of-prayer-5/
LOCATION:Conejo Church\, 480 West Gainsborough\, Thousand Oaks\, CA\, 91360
CATEGORIES:Prayer Meetings
ATTACH;FMTTYPE=image/png:https://www.conejochurch.com/wp-content/uploads/2022/04/Conejo-Day-of-Prayer-Aug.-18.png
END:VEVENT
BEGIN:VEVENT
DTSTART;TZID=America/Los_Angeles:20220623T070000
DTEND;TZID=America/Los_Angeles:20220623T200000
DTSTAMP:20260423T151501
CREATED:20220601T202404Z
LAST-MODIFIED:20220605T013342Z
UID:73259-1655967600-1656014400@www.conejochurch.com
SUMMARY:Day of Prayer
DESCRIPTION:
URL:https://www.conejochurch.com/event-archive/day-of-prayer-6/
LOCATION:Conejo Church\, 480 West Gainsborough\, Thousand Oaks\, CA\, 91360
CATEGORIES:Prayer Meetings
ORGANIZER;CN="Conejo Church":MAILTO:info@conejochurch.com
END:VEVENT
END:VCALENDAR