BEGIN:VCALENDAR
VERSION:2.0
PRODID:-//Conejo Church - ECPv6.15.20//NONSGML v1.0//EN
CALSCALE:GREGORIAN
METHOD:PUBLISH
X-WR-CALNAME:Conejo Church
X-ORIGINAL-URL:https://www.conejochurch.com
X-WR-CALDESC:Events for Conejo Church
REFRESH-INTERVAL;VALUE=DURATION:PT1H
X-Robots-Tag:noindex
X-PUBLISHED-TTL:PT1H
BEGIN:VTIMEZONE
TZID:America/Los_Angeles
BEGIN:DAYLIGHT
TZOFFSETFROM:-0800
TZOFFSETTO:-0700
TZNAME:PDT
DTSTART:20220313T100000
END:DAYLIGHT
BEGIN:STANDARD
TZOFFSETFROM:-0700
TZOFFSETTO:-0800
TZNAME:PST
DTSTART:20221106T090000
END:STANDARD
BEGIN:DAYLIGHT
TZOFFSETFROM:-0800
TZOFFSETTO:-0700
TZNAME:PDT
DTSTART:20230312T100000
END:DAYLIGHT
BEGIN:STANDARD
TZOFFSETFROM:-0700
TZOFFSETTO:-0800
TZNAME:PST
DTSTART:20231105T090000
END:STANDARD
BEGIN:DAYLIGHT
TZOFFSETFROM:-0800
TZOFFSETTO:-0700
TZNAME:PDT
DTSTART:20240310T100000
END:DAYLIGHT
BEGIN:STANDARD
TZOFFSETFROM:-0700
TZOFFSETTO:-0800
TZNAME:PST
DTSTART:20241103T090000
END:STANDARD
BEGIN:DAYLIGHT
TZOFFSETFROM:-0800
TZOFFSETTO:-0700
TZNAME:PDT
DTSTART:20250309T100000
END:DAYLIGHT
BEGIN:STANDARD
TZOFFSETFROM:-0700
TZOFFSETTO:-0800
TZNAME:PST
DTSTART:20251102T090000
END:STANDARD
BEGIN:DAYLIGHT
TZOFFSETFROM:-0800
TZOFFSETTO:-0700
TZNAME:PDT
DTSTART:20260308T100000
END:DAYLIGHT
BEGIN:STANDARD
TZOFFSETFROM:-0700
TZOFFSETTO:-0800
TZNAME:PST
DTSTART:20261101T090000
END:STANDARD
END:VTIMEZONE
BEGIN:VEVENT
DTSTART;TZID=America/Los_Angeles:20250921T100000
DTEND;TZID=America/Los_Angeles:20250921T113000
DTSTAMP:20260423T181655
CREATED:20250917T162753Z
LAST-MODIFIED:20250917T162753Z
UID:143003-1758448800-1758454200@www.conejochurch.com
SUMMARY:Costumes Collection for James Storehouse
DESCRIPTION:We are collecting new halloween costumes every Sunday morning beginning September 21\, through October 18. Look for a collection area in the lobby.
URL:https://www.conejochurch.com/event-archive/costumes-collection-for-james-storehouse/
LOCATION:Conejo Church\, 480 West Gainsborough\, Thousand Oaks\, CA\, 91360
CATEGORIES:Foster Care,Outreach
ATTACH;FMTTYPE=image/png:https://www.conejochurch.com/wp-content/uploads/2025/09/Halloween-Costumes-Collection-for-JS.png
ORGANIZER;CN="Conejo Outreach":MAILTO:outreach@conejochurch.com
END:VEVENT
BEGIN:VEVENT
DTSTART;TZID=America/Los_Angeles:20240803T080000
DTEND;TZID=America/Los_Angeles:20240803T140000
DTSTAMP:20260423T181655
CREATED:20240730T180742Z
LAST-MODIFIED:20240730T180848Z
UID:142205-1722672000-1722693600@www.conejochurch.com
SUMMARY:Back to School Bash 2024
DESCRIPTION:
URL:https://www.conejochurch.com/event-archive/back-to-school-bash-2024/
LOCATION:James Storehouse\, 3543 Old Conejo Rd #105\, Newbury Park\, CA\, 91320
CATEGORIES:Outreach
ATTACH;FMTTYPE=image/png:https://www.conejochurch.com/wp-content/uploads/2024/07/Back-to-School-Bash-2024.png
ORGANIZER;CN="Conejo Outreach":MAILTO:outreach@conejochurch.com
END:VEVENT
BEGIN:VEVENT
DTSTART;TZID=America/Los_Angeles:20240502T170000
DTEND;TZID=America/Los_Angeles:20240502T190000
DTSTAMP:20260423T181655
CREATED:20240418T192813Z
LAST-MODIFIED:20240423T224807Z
UID:141631-1714669200-1714676400@www.conejochurch.com
SUMMARY:National Day of Prayer
DESCRIPTION:
URL:https://www.conejochurch.com/event-archive/national-day-of-prayer-2/
LOCATION:Thousand Oaks Civic Arts Plaza\, 2100 E. Thousand Oaks Blvd.\, Thousand Oaks\, CA\, 91362\, United States
CATEGORIES:Outreach
ATTACH;FMTTYPE=image/jpeg:https://www.conejochurch.com/wp-content/uploads/2024/04/NDOP-2024-Church-Graphic.jpg
ORGANIZER;CN="Conejo Outreach":MAILTO:outreach@conejochurch.com
END:VEVENT
BEGIN:VEVENT
DTSTART;TZID=America/Los_Angeles:20230917T130000
DTEND;TZID=America/Los_Angeles:20230917T150000
DTSTAMP:20260423T181655
CREATED:20230916T235140Z
LAST-MODIFIED:20230916T235308Z
UID:141025-1694955600-1694962800@www.conejochurch.com
SUMMARY:Family Serve Day
DESCRIPTION:
URL:https://www.conejochurch.com/event-archive/family-serve-day-2/
CATEGORIES:Outreach
ATTACH;FMTTYPE=image/png:https://www.conejochurch.com/wp-content/uploads/2023/09/family-service-project-9-17-23.png
ORGANIZER;CN="Conejo Church | Families":MAILTO:families@conejochurch.com
END:VEVENT
BEGIN:VEVENT
DTSTART;TZID=America/Los_Angeles:20230820T130000
DTEND;TZID=America/Los_Angeles:20230820T153000
DTSTAMP:20260423T181655
CREATED:20230809T031635Z
LAST-MODIFIED:20230809T032605Z
UID:140968-1692536400-1692545400@www.conejochurch.com
SUMMARY:Family Serve Day
DESCRIPTION:
URL:https://www.conejochurch.com/event-archive/family-serve-day/
CATEGORIES:Outreach
ATTACH;FMTTYPE=image/png:https://www.conejochurch.com/wp-content/uploads/2023/08/family-service-project-82023.png
ORGANIZER;CN="Conejo Outreach":MAILTO:outreach@conejochurch.com
END:VEVENT
END:VCALENDAR