BEGIN:VCALENDAR
VERSION:2.0
PRODID:-//Conejo Church - ECPv6.15.20//NONSGML v1.0//EN
CALSCALE:GREGORIAN
METHOD:PUBLISH
X-WR-CALNAME:Conejo Church
X-ORIGINAL-URL:https://www.conejochurch.com
X-WR-CALDESC:Events for Conejo Church
REFRESH-INTERVAL;VALUE=DURATION:PT1H
X-Robots-Tag:noindex
X-PUBLISHED-TTL:PT1H
BEGIN:VTIMEZONE
TZID:America/Los_Angeles
BEGIN:DAYLIGHT
TZOFFSETFROM:-0800
TZOFFSETTO:-0700
TZNAME:PDT
DTSTART:20220313T100000
END:DAYLIGHT
BEGIN:STANDARD
TZOFFSETFROM:-0700
TZOFFSETTO:-0800
TZNAME:PST
DTSTART:20221106T090000
END:STANDARD
BEGIN:DAYLIGHT
TZOFFSETFROM:-0800
TZOFFSETTO:-0700
TZNAME:PDT
DTSTART:20230312T100000
END:DAYLIGHT
BEGIN:STANDARD
TZOFFSETFROM:-0700
TZOFFSETTO:-0800
TZNAME:PST
DTSTART:20231105T090000
END:STANDARD
BEGIN:DAYLIGHT
TZOFFSETFROM:-0800
TZOFFSETTO:-0700
TZNAME:PDT
DTSTART:20240310T100000
END:DAYLIGHT
BEGIN:STANDARD
TZOFFSETFROM:-0700
TZOFFSETTO:-0800
TZNAME:PST
DTSTART:20241103T090000
END:STANDARD
BEGIN:DAYLIGHT
TZOFFSETFROM:-0800
TZOFFSETTO:-0700
TZNAME:PDT
DTSTART:20250309T100000
END:DAYLIGHT
BEGIN:STANDARD
TZOFFSETFROM:-0700
TZOFFSETTO:-0800
TZNAME:PST
DTSTART:20251102T090000
END:STANDARD
END:VTIMEZONE
BEGIN:VEVENT
DTSTART;TZID=America/Los_Angeles:20240609T123000
DTEND;TZID=America/Los_Angeles:20240609T133000
DTSTAMP:20260423T181700
CREATED:20240223T204249Z
LAST-MODIFIED:20240223T204249Z
UID:141407-1717936200-1717939800@www.conejochurch.com
SUMMARY:Leadership Cohort | 2024
DESCRIPTION:
URL:https://www.conejochurch.com/event-archive/leadership-cohort-2024-4/
CATEGORIES:Meetings
ATTACH;FMTTYPE=image/png:https://www.conejochurch.com/wp-content/uploads/2024/02/Year-Calendar.png
ORGANIZER;CN="Conejo Church":MAILTO:info@conejochurch.com
END:VEVENT
BEGIN:VEVENT
DTSTART;TZID=America/Los_Angeles:20240519T123000
DTEND;TZID=America/Los_Angeles:20240519T133000
DTSTAMP:20260423T181700
CREATED:20240223T204128Z
LAST-MODIFIED:20240223T204128Z
UID:141405-1716121800-1716125400@www.conejochurch.com
SUMMARY:Leadership Cohort | 2024
DESCRIPTION:
URL:https://www.conejochurch.com/event-archive/leadership-cohort-2024-3/
CATEGORIES:Meetings
ATTACH;FMTTYPE=image/png:https://www.conejochurch.com/wp-content/uploads/2024/02/Year-Calendar.png
ORGANIZER;CN="Conejo Church":MAILTO:info@conejochurch.com
END:VEVENT
BEGIN:VEVENT
DTSTART;TZID=America/Los_Angeles:20240421T123000
DTEND;TZID=America/Los_Angeles:20240421T133000
DTSTAMP:20260423T181700
CREATED:20240223T204000Z
LAST-MODIFIED:20240223T204000Z
UID:141403-1713702600-1713706200@www.conejochurch.com
SUMMARY:Leadership Cohort | 2024
DESCRIPTION:
URL:https://www.conejochurch.com/event-archive/leadership-cohort-2024-2/
CATEGORIES:Meetings
ATTACH;FMTTYPE=image/png:https://www.conejochurch.com/wp-content/uploads/2024/02/Year-Calendar.png
ORGANIZER;CN="Conejo Church":MAILTO:info@conejochurch.com
END:VEVENT
BEGIN:VEVENT
DTSTART;TZID=America/Los_Angeles:20240310T123000
DTEND;TZID=America/Los_Angeles:20240310T133000
DTSTAMP:20260423T181700
CREATED:20240223T203802Z
LAST-MODIFIED:20240223T203802Z
UID:141399-1710073800-1710077400@www.conejochurch.com
SUMMARY:Leadership Cohort | 2024
DESCRIPTION:
URL:https://www.conejochurch.com/event-archive/leadership-cohort-2024/
CATEGORIES:Meetings
ATTACH;FMTTYPE=image/png:https://www.conejochurch.com/wp-content/uploads/2024/02/Year-Calendar.png
ORGANIZER;CN="Conejo Church":MAILTO:info@conejochurch.com
END:VEVENT
BEGIN:VEVENT
DTSTART;TZID=America/Los_Angeles:20230528T113000
DTEND;TZID=America/Los_Angeles:20230528T120000
DTSTAMP:20260423T181700
CREATED:20230518T225943Z
LAST-MODIFIED:20230518T225943Z
UID:140544-1685273400-1685275200@www.conejochurch.com
SUMMARY:Family Chat
DESCRIPTION:
URL:https://www.conejochurch.com/event-archive/family-chat-3/
LOCATION:Conejo Church\, 480 West Gainsborough\, Thousand Oaks\, CA\, 91360
CATEGORIES:Meetings
ATTACH;FMTTYPE=image/png:https://www.conejochurch.com/wp-content/uploads/2023/05/Conejo-Family-Chat-52823-Presentation-169.png
ORGANIZER;CN="Conejo Church":MAILTO:info@conejochurch.com
END:VEVENT
BEGIN:VEVENT
DTSTART;TZID=America/Los_Angeles:20230219T113000
DTEND;TZID=America/Los_Angeles:20230219T120000
DTSTAMP:20260423T181700
CREATED:20230126T163420Z
LAST-MODIFIED:20230126T163420Z
UID:140284-1676806200-1676808000@www.conejochurch.com
SUMMARY:Family Chat
DESCRIPTION:
URL:https://www.conejochurch.com/event-archive/family-chat-2/
LOCATION:Conejo Church\, 480 West Gainsborough\, Thousand Oaks\, CA\, 91360
CATEGORIES:Meetings
ATTACH;FMTTYPE=image/png:https://www.conejochurch.com/wp-content/uploads/2023/01/Conejo-Family-Chat-21923-Presentation-169.png
ORGANIZER;CN="Conejo Church":MAILTO:info@conejochurch.com
END:VEVENT
END:VCALENDAR