BEGIN:VCALENDAR
VERSION:2.0
PRODID:-//Conejo Church - ECPv6.15.20//NONSGML v1.0//EN
CALSCALE:GREGORIAN
METHOD:PUBLISH
X-WR-CALNAME:Conejo Church
X-ORIGINAL-URL:https://www.conejochurch.com
X-WR-CALDESC:Events for Conejo Church
REFRESH-INTERVAL;VALUE=DURATION:PT1H
X-Robots-Tag:noindex
X-PUBLISHED-TTL:PT1H
BEGIN:VTIMEZONE
TZID:America/Los_Angeles
BEGIN:DAYLIGHT
TZOFFSETFROM:-0800
TZOFFSETTO:-0700
TZNAME:PDT
DTSTART:20220313T100000
END:DAYLIGHT
BEGIN:STANDARD
TZOFFSETFROM:-0700
TZOFFSETTO:-0800
TZNAME:PST
DTSTART:20221106T090000
END:STANDARD
BEGIN:DAYLIGHT
TZOFFSETFROM:-0800
TZOFFSETTO:-0700
TZNAME:PDT
DTSTART:20230312T100000
END:DAYLIGHT
BEGIN:STANDARD
TZOFFSETFROM:-0700
TZOFFSETTO:-0800
TZNAME:PST
DTSTART:20231105T090000
END:STANDARD
BEGIN:DAYLIGHT
TZOFFSETFROM:-0800
TZOFFSETTO:-0700
TZNAME:PDT
DTSTART:20240310T100000
END:DAYLIGHT
BEGIN:STANDARD
TZOFFSETFROM:-0700
TZOFFSETTO:-0800
TZNAME:PST
DTSTART:20241103T090000
END:STANDARD
BEGIN:DAYLIGHT
TZOFFSETFROM:-0800
TZOFFSETTO:-0700
TZNAME:PDT
DTSTART:20250309T100000
END:DAYLIGHT
BEGIN:STANDARD
TZOFFSETFROM:-0700
TZOFFSETTO:-0800
TZNAME:PST
DTSTART:20251102T090000
END:STANDARD
BEGIN:DAYLIGHT
TZOFFSETFROM:-0800
TZOFFSETTO:-0700
TZNAME:PDT
DTSTART:20260308T100000
END:DAYLIGHT
BEGIN:STANDARD
TZOFFSETFROM:-0700
TZOFFSETTO:-0800
TZNAME:PST
DTSTART:20261101T090000
END:STANDARD
END:VTIMEZONE
BEGIN:VEVENT
DTSTART;TZID=America/Los_Angeles:20251207T100000
DTEND;TZID=America/Los_Angeles:20251207T160000
DTSTAMP:20260423T141057
CREATED:20251011T003947Z
LAST-MODIFIED:20251011T161204Z
UID:143049-1765101600-1765123200@www.conejochurch.com
SUMMARY:Conejo Church Christmas Market
DESCRIPTION:Come shop and eat from 30 local vendors selling their amazing food and crafts. This is the perfect way to get your Christmas shopping going AND have a great time with your family! Want to have a booth of your own? Email Holidaymarketconejo@gmail.com and let us know. Limited spaces are available.
URL:https://www.conejochurch.com/event-archive/conejo-church-christmas-market/
LOCATION:Conejo Church\, 480 West Gainsborough\, Thousand Oaks\, CA\, 91360
CATEGORIES:Family Events
ATTACH;FMTTYPE=image/png:https://www.conejochurch.com/wp-content/uploads/2025/10/Conejo-Church-Christmas-Market-Presentation-1.png
ORGANIZER;CN="Conejo Church | Families":MAILTO:families@conejochurch.com
END:VEVENT
BEGIN:VEVENT
DTSTART;TZID=America/Los_Angeles:20251025T170000
DTEND;TZID=America/Los_Angeles:20251025T200000
DTSTAMP:20260423T141057
CREATED:20251015T201938Z
LAST-MODIFIED:20251015T202011Z
UID:143079-1761411600-1761422400@www.conejochurch.com
SUMMARY:James Storehouse/ NP First Christian Church | Trunk Or Treat
DESCRIPTION:
URL:https://www.conejochurch.com/event-archive/james-storehouse-newbury-park-first-christian-church-trunk-or-treat/
LOCATION:Newbury Park First Christian Church\, 801 Knollwood Dr\, NEWBURY PARK\, CA\, 91320-5042\, United States
CATEGORIES:Family Events
ATTACH;FMTTYPE=image/png:https://www.conejochurch.com/wp-content/uploads/2025/10/Trunk-or-Treat-2025-vs2.png
ORGANIZER;CN="Conejo Church":MAILTO:info@conejochurch.com
END:VEVENT
BEGIN:VEVENT
DTSTART;VALUE=DATE:20231213
DTEND;VALUE=DATE:20231217
DTSTAMP:20260423T141057
CREATED:20231003T221151Z
LAST-MODIFIED:20231003T221151Z
UID:141079-1702425600-1702771199@www.conejochurch.com
SUMMARY:The 2023 Holiday Toy Store
DESCRIPTION:
URL:https://www.conejochurch.com/event-archive/the-2023-holiday-toy-store/
LOCATION:CA
CATEGORIES:Family Events
ATTACH;FMTTYPE=image/png:https://www.conejochurch.com/wp-content/uploads/2023/10/JS-CHRISTMAS-Toy-Store-23-Presentation.png
ORGANIZER;CN="Conejo Church":MAILTO:info@conejochurch.com
END:VEVENT
BEGIN:VEVENT
DTSTART;TZID=America/Los_Angeles:20230921T183000
DTEND;TZID=America/Los_Angeles:20230921T200000
DTSTAMP:20260423T141057
CREATED:20230902T032520Z
LAST-MODIFIED:20230902T032607Z
UID:140997-1695321000-1695326400@www.conejochurch.com
SUMMARY:Family Game Night
DESCRIPTION:
URL:https://www.conejochurch.com/event-archive/family-game-night/
LOCATION:Conejo Church\, 480 West Gainsborough\, Thousand Oaks\, CA\, 91360
CATEGORIES:Family Events
ATTACH;FMTTYPE=image/png:https://www.conejochurch.com/wp-content/uploads/2023/09/Family-Game-Night.png
ORGANIZER;CN="Conejo Church | Families":MAILTO:families@conejochurch.com
END:VEVENT
BEGIN:VEVENT
DTSTART;TZID=America/Los_Angeles:20230819T160000
DTEND;TZID=America/Los_Angeles:20230819T190000
DTSTAMP:20260423T141057
CREATED:20230729T235145Z
LAST-MODIFIED:20230729T235912Z
UID:140954-1692460800-1692471600@www.conejochurch.com
SUMMARY:Family Pool Party
DESCRIPTION:Hey\, mom and dad! If you’re looking for a really fun evening to spend with your kids\, this is for you.  RSVP to families@conejochurch\,com to let us know you’ll attend and how many are in your family. Burgers and dogs are provided. Bring whatever else you like for the evening.
URL:https://www.conejochurch.com/event-archive/family-pool-party/
LOCATION:CA
CATEGORIES:Family Events
ATTACH;FMTTYPE=image/png:https://www.conejochurch.com/wp-content/uploads/2023/07/Family-Pool-Party-Aug.-19-Presentation-169.png
ORGANIZER;CN="Conejo Church | Families":MAILTO:families@conejochurch.com
END:VEVENT
END:VCALENDAR