BEGIN:VCALENDAR
VERSION:2.0
PRODID:-//Conejo Church - ECPv6.15.20//NONSGML v1.0//EN
CALSCALE:GREGORIAN
METHOD:PUBLISH
X-WR-CALNAME:Conejo Church
X-ORIGINAL-URL:https://www.conejochurch.com
X-WR-CALDESC:Events for Conejo Church
REFRESH-INTERVAL;VALUE=DURATION:PT1H
X-Robots-Tag:noindex
X-PUBLISHED-TTL:PT1H
BEGIN:VTIMEZONE
TZID:America/Los_Angeles
BEGIN:DAYLIGHT
TZOFFSETFROM:-0800
TZOFFSETTO:-0700
TZNAME:PDT
DTSTART:20210314T100000
END:DAYLIGHT
BEGIN:STANDARD
TZOFFSETFROM:-0700
TZOFFSETTO:-0800
TZNAME:PST
DTSTART:20211107T090000
END:STANDARD
BEGIN:DAYLIGHT
TZOFFSETFROM:-0800
TZOFFSETTO:-0700
TZNAME:PDT
DTSTART:20220313T100000
END:DAYLIGHT
BEGIN:STANDARD
TZOFFSETFROM:-0700
TZOFFSETTO:-0800
TZNAME:PST
DTSTART:20221106T090000
END:STANDARD
BEGIN:DAYLIGHT
TZOFFSETFROM:-0800
TZOFFSETTO:-0700
TZNAME:PDT
DTSTART:20230312T100000
END:DAYLIGHT
BEGIN:STANDARD
TZOFFSETFROM:-0700
TZOFFSETTO:-0800
TZNAME:PST
DTSTART:20231105T090000
END:STANDARD
END:VTIMEZONE
BEGIN:VEVENT
DTSTART;TZID=America/Los_Angeles:20221122T183000
DTEND;TZID=America/Los_Angeles:20221122T203000
DTSTAMP:20260423T195414
CREATED:20221117T154134Z
LAST-MODIFIED:20221117T154134Z
UID:140232-1669141800-1669149000@www.conejochurch.com
SUMMARY:Conejo Youth Thanksgiving Party
DESCRIPTION:
URL:https://www.conejochurch.com/event-archive/conejo-youth-thanksgiving-party/
LOCATION:Conejo Church\, 480 West Gainsborough\, Thousand Oaks\, CA\, 91360
CATEGORIES:Conejo Youth
ATTACH;FMTTYPE=image/png:https://www.conejochurch.com/wp-content/uploads/2022/11/Youth-T-Day-Party-Final.png
ORGANIZER;CN="Conejo Youth":MAILTO:youth@conejochurch.com
END:VEVENT
BEGIN:VEVENT
DTSTART;TZID=America/Los_Angeles:20221031T173000
DTEND;TZID=America/Los_Angeles:20221031T213000
DTSTAMP:20260423T195414
CREATED:20220919T204939Z
LAST-MODIFIED:20220919T205200Z
UID:140075-1667237400-1667251800@www.conejochurch.com
SUMMARY:Conejo Youth Halloween Party
DESCRIPTION:Please reach out to youth@conejochurch.com for location and more. Parents are invited!
URL:https://www.conejochurch.com/event-archive/conejo-youth-halloween-party/
CATEGORIES:Conejo Youth
ATTACH;FMTTYPE=image/png:https://www.conejochurch.com/wp-content/uploads/2022/09/1.png
ORGANIZER;CN="Conejo Youth":MAILTO:youth@conejochurch.com
END:VEVENT
BEGIN:VEVENT
DTSTART;TZID=America/Los_Angeles:20220821T113000
DTEND;TZID=America/Los_Angeles:20220821T123000
DTSTAMP:20260423T195414
CREATED:20220519T121414Z
LAST-MODIFIED:20220810T135106Z
UID:73186-1661081400-1661085000@www.conejochurch.com
SUMMARY:Conejo Youth | Pizza & Popsicles
DESCRIPTION:Conejo Youth will welcome our sixth graders after the Sunday service. Come for pizza and popsicles!
URL:https://www.conejochurch.com/event-archive/conejo-youth-pizza-popsicles/
LOCATION:Conejo Church\, 480 West Gainsborough\, Thousand Oaks\, CA\, 91360
CATEGORIES:Conejo Youth
ATTACH;FMTTYPE=image/png:https://www.conejochurch.com/wp-content/uploads/2022/05/pizzapopsicles-rev.png
ORGANIZER;CN="Conejo Youth":MAILTO:youth@conejochurch.com
END:VEVENT
BEGIN:VEVENT
DTSTART;VALUE=DATE:20220725
DTEND;VALUE=DATE:20220729
DTSTAMP:20260423T195414
CREATED:20220519T121011Z
LAST-MODIFIED:20220804T010703Z
UID:73183-1658707200-1659052799@www.conejochurch.com
SUMMARY:Conejo Youth | Summer Camp in Big Bear
DESCRIPTION:
URL:https://www.conejochurch.com/event-archive/conejo-youth-summer-camp-in-big-bear/
LOCATION:Big Bear\, CA
CATEGORIES:Conejo Youth
ATTACH;FMTTYPE=image/png:https://www.conejochurch.com/wp-content/uploads/2022/05/Conejo-youth-summer-camp.png
ORGANIZER;CN="Conejo Youth":MAILTO:youth@conejochurch.com
END:VEVENT
BEGIN:VEVENT
DTSTART;TZID=America/Los_Angeles:20220711T190000
DTEND;TZID=America/Los_Angeles:20220711T210000
DTSTAMP:20260423T195414
CREATED:20220519T120759Z
LAST-MODIFIED:20220804T010731Z
UID:73181-1657566000-1657573200@www.conejochurch.com
SUMMARY:Conejo Youth | 7 Eleven Day
DESCRIPTION:
URL:https://www.conejochurch.com/event-archive/conejo-youth-7-eleven-day/
LOCATION:Conejo Church\, 480 West Gainsborough\, Thousand Oaks\, CA\, 91360
CATEGORIES:Conejo Youth
ATTACH;FMTTYPE=image/png:https://www.conejochurch.com/wp-content/uploads/2022/05/7-Eleven-Day-1.png
ORGANIZER;CN="Conejo Youth":MAILTO:youth@conejochurch.com
END:VEVENT
BEGIN:VEVENT
DTSTART;TZID=America/Los_Angeles:20220630T073000
DTEND;TZID=America/Los_Angeles:20220630T220000
DTSTAMP:20260423T195414
CREATED:20220519T120500Z
LAST-MODIFIED:20220525T182016Z
UID:73178-1656574200-1656626400@www.conejochurch.com
SUMMARY:Conejo Youth | Disneyland
DESCRIPTION:
URL:https://www.conejochurch.com/event-archive/conejo-youth-disneyland/
LOCATION:Disneyland\, 1313 Disneyland Dr\, Anaheim\, CA\, 92802
CATEGORIES:Conejo Youth
ORGANIZER;CN="Conejo Youth":MAILTO:youth@conejochurch.com
END:VEVENT
BEGIN:VEVENT
DTSTART;TZID=America/Los_Angeles:20220613T180000
DTEND;TZID=America/Los_Angeles:20220613T220000
DTSTAMP:20260423T195414
CREATED:20220519T115833Z
LAST-MODIFIED:20220525T182756Z
UID:73175-1655143200-1655157600@www.conejochurch.com
SUMMARY:Conejo Youth | Beach Bonfire
DESCRIPTION:
URL:https://www.conejochurch.com/event-archive/conejo-youth-beach-bonfire/
CATEGORIES:Conejo Youth
ORGANIZER;CN="Conejo Youth":MAILTO:youth@conejochurch.com
END:VEVENT
END:VCALENDAR