BEGIN:VCALENDAR
VERSION:2.0
PRODID:-//Conejo Church - ECPv6.15.20//NONSGML v1.0//EN
CALSCALE:GREGORIAN
METHOD:PUBLISH
X-WR-CALNAME:Conejo Church
X-ORIGINAL-URL:https://www.conejochurch.com
X-WR-CALDESC:Events for Conejo Church
REFRESH-INTERVAL;VALUE=DURATION:PT1H
X-Robots-Tag:noindex
X-PUBLISHED-TTL:PT1H
BEGIN:VTIMEZONE
TZID:America/Los_Angeles
BEGIN:DAYLIGHT
TZOFFSETFROM:-0800
TZOFFSETTO:-0700
TZNAME:PDT
DTSTART:20220313T100000
END:DAYLIGHT
BEGIN:STANDARD
TZOFFSETFROM:-0700
TZOFFSETTO:-0800
TZNAME:PST
DTSTART:20221106T090000
END:STANDARD
BEGIN:DAYLIGHT
TZOFFSETFROM:-0800
TZOFFSETTO:-0700
TZNAME:PDT
DTSTART:20230312T100000
END:DAYLIGHT
BEGIN:STANDARD
TZOFFSETFROM:-0700
TZOFFSETTO:-0800
TZNAME:PST
DTSTART:20231105T090000
END:STANDARD
BEGIN:DAYLIGHT
TZOFFSETFROM:-0800
TZOFFSETTO:-0700
TZNAME:PDT
DTSTART:20240310T100000
END:DAYLIGHT
BEGIN:STANDARD
TZOFFSETFROM:-0700
TZOFFSETTO:-0800
TZNAME:PST
DTSTART:20241103T090000
END:STANDARD
END:VTIMEZONE
BEGIN:VEVENT
DTSTART;TZID=America/Los_Angeles:20230511T183000
DTEND;TZID=America/Los_Angeles:20230511T200000
DTSTAMP:20260423T200009
CREATED:20230503T205337Z
LAST-MODIFIED:20230503T205337Z
UID:140468-1683829800-1683835200@www.conejochurch.com
SUMMARY:Conejo Recovery
DESCRIPTION:
URL:https://www.conejochurch.com/event-archive/conejo-recovery-6/
LOCATION:Conejo Church\, 480 West Gainsborough\, Thousand Oaks\, CA\, 91360
CATEGORIES:Conejo Recovery
ORGANIZER;CN="Conejo Church":MAILTO:info@conejochurch.com
END:VEVENT
BEGIN:VEVENT
DTSTART;TZID=America/Los_Angeles:20230504T183000
DTEND;TZID=America/Los_Angeles:20230504T200000
DTSTAMP:20260423T200009
CREATED:20230503T204435Z
LAST-MODIFIED:20230503T204435Z
UID:140462-1683225000-1683230400@www.conejochurch.com
SUMMARY:Conejo Recovery
DESCRIPTION:
URL:https://www.conejochurch.com/event-archive/conejo-recovery-5/
LOCATION:Conejo Church\, 480 West Gainsborough\, Thousand Oaks\, CA\, 91360
CATEGORIES:Conejo Recovery
ORGANIZER;CN="Conejo Church":MAILTO:info@conejochurch.com
END:VEVENT
BEGIN:VEVENT
DTSTART;TZID=America/Los_Angeles:20230323T183000
DTEND;TZID=America/Los_Angeles:20230323T200000
DTSTAMP:20260423T200009
CREATED:20230224T195511Z
LAST-MODIFIED:20230224T195511Z
UID:140347-1679596200-1679601600@www.conejochurch.com
SUMMARY:Conejo Recovery
DESCRIPTION:
URL:https://www.conejochurch.com/event-archive/conejo-recovery-3/
LOCATION:Conejo Church\, 480 West Gainsborough\, Thousand Oaks\, CA\, 91360
CATEGORIES:Conejo Recovery
ORGANIZER;CN="Conejo Church":MAILTO:info@conejochurch.com
END:VEVENT
BEGIN:VEVENT
DTSTART;TZID=America/Los_Angeles:20230309T183000
DTEND;TZID=America/Los_Angeles:20230309T200000
DTSTAMP:20260423T200009
CREATED:20230224T192628Z
LAST-MODIFIED:20230224T192628Z
UID:140343-1678386600-1678392000@www.conejochurch.com
SUMMARY:Conejo Recovery
DESCRIPTION:
URL:https://www.conejochurch.com/event-archive/conejo-recovery-2/
LOCATION:Conejo Church\, 480 West Gainsborough\, Thousand Oaks\, CA\, 91360
CATEGORIES:Conejo Recovery
ORGANIZER;CN="Conejo Church":MAILTO:info@conejochurch.com
END:VEVENT
BEGIN:VEVENT
DTSTART;TZID=America/Los_Angeles:20230223T190000
DTEND;TZID=America/Los_Angeles:20230223T203000
DTSTAMP:20260423T200009
CREATED:20230221T220305Z
LAST-MODIFIED:20230221T220607Z
UID:140329-1677178800-1677184200@www.conejochurch.com
SUMMARY:Conejo Recovery
DESCRIPTION:
URL:https://www.conejochurch.com/event-archive/conejo-recovery/
LOCATION:Conejo Church\, 480 West Gainsborough\, Thousand Oaks\, CA\, 91360
CATEGORIES:Conejo Recovery
ORGANIZER;CN="Conejo Church":MAILTO:info@conejochurch.com
END:VEVENT
END:VCALENDAR