BEGIN:VCALENDAR
VERSION:2.0
PRODID:-//Conejo Church - ECPv6.15.20//NONSGML v1.0//EN
CALSCALE:GREGORIAN
METHOD:PUBLISH
X-WR-CALNAME:Conejo Church
X-ORIGINAL-URL:https://www.conejochurch.com
X-WR-CALDESC:Events for Conejo Church
REFRESH-INTERVAL;VALUE=DURATION:PT1H
X-Robots-Tag:noindex
X-PUBLISHED-TTL:PT1H
BEGIN:VTIMEZONE
TZID:America/Los_Angeles
BEGIN:DAYLIGHT
TZOFFSETFROM:-0800
TZOFFSETTO:-0700
TZNAME:PDT
DTSTART:20210314T100000
END:DAYLIGHT
BEGIN:STANDARD
TZOFFSETFROM:-0700
TZOFFSETTO:-0800
TZNAME:PST
DTSTART:20211107T090000
END:STANDARD
BEGIN:DAYLIGHT
TZOFFSETFROM:-0800
TZOFFSETTO:-0700
TZNAME:PDT
DTSTART:20220313T100000
END:DAYLIGHT
BEGIN:STANDARD
TZOFFSETFROM:-0700
TZOFFSETTO:-0800
TZNAME:PST
DTSTART:20221106T090000
END:STANDARD
BEGIN:DAYLIGHT
TZOFFSETFROM:-0800
TZOFFSETTO:-0700
TZNAME:PDT
DTSTART:20230312T100000
END:DAYLIGHT
BEGIN:STANDARD
TZOFFSETFROM:-0700
TZOFFSETTO:-0800
TZNAME:PST
DTSTART:20231105T090000
END:STANDARD
BEGIN:DAYLIGHT
TZOFFSETFROM:-0800
TZOFFSETTO:-0700
TZNAME:PDT
DTSTART:20240310T100000
END:DAYLIGHT
BEGIN:STANDARD
TZOFFSETFROM:-0700
TZOFFSETTO:-0800
TZNAME:PST
DTSTART:20241103T090000
END:STANDARD
END:VTIMEZONE
BEGIN:VEVENT
DTSTART;TZID=America/Los_Angeles:20230701T070000
DTEND;TZID=America/Los_Angeles:20230701T083000
DTSTAMP:20260423T120729
CREATED:20230626T193235Z
LAST-MODIFIED:20230626T193235Z
UID:140773-1688194800-1688200200@www.conejochurch.com
SUMMARY:Men's Bible Study
DESCRIPTION:
URL:https://www.conejochurch.com/event-archive/mens-bible-study-4/
CATEGORIES:Conejo Men
ATTACH;FMTTYPE=image/png:https://www.conejochurch.com/wp-content/uploads/2023/06/July-01.png
ORGANIZER;CN="Men's Ministries":MAILTO:lenkrukowski@yahoo.com
END:VEVENT
BEGIN:VEVENT
DTSTART;TZID=America/Los_Angeles:20230603T070000
DTEND;TZID=America/Los_Angeles:20230603T083000
DTSTAMP:20260423T120729
CREATED:20230518T224549Z
LAST-MODIFIED:20230518T224549Z
UID:140522-1685775600-1685781000@www.conejochurch.com
SUMMARY:Conejo Men's Study
DESCRIPTION:
URL:https://www.conejochurch.com/event-archive/conejo-mens-study/
CATEGORIES:Conejo Men
ATTACH;FMTTYPE=image/png:https://www.conejochurch.com/wp-content/uploads/2023/05/June-03.png
ORGANIZER;CN="Men's Ministries":MAILTO:lenkrukowski@yahoo.com
END:VEVENT
BEGIN:VEVENT
DTSTART;TZID=America/Los_Angeles:20230519T183000
DTEND;TZID=America/Los_Angeles:20230519T203000
DTSTAMP:20260423T120729
CREATED:20230503T205612Z
LAST-MODIFIED:20230503T205612Z
UID:140470-1684521000-1684528200@www.conejochurch.com
SUMMARY:Dudes Night Out
DESCRIPTION:
URL:https://www.conejochurch.com/event-archive/dudes-night-out-2/
CATEGORIES:Conejo Men
ATTACH;FMTTYPE=image/png:https://www.conejochurch.com/wp-content/uploads/2023/05/dudes-night-out-51923.png
ORGANIZER;CN="Men's Ministries":MAILTO:lenkrukowski@yahoo.com
END:VEVENT
BEGIN:VEVENT
DTSTART;TZID=America/Los_Angeles:20230513T070000
DTEND;TZID=America/Los_Angeles:20230513T083000
DTSTAMP:20260423T120729
CREATED:20230503T205928Z
LAST-MODIFIED:20230503T205928Z
UID:140474-1683961200-1683966600@www.conejochurch.com
SUMMARY:Mens Bible Study
DESCRIPTION:
URL:https://www.conejochurch.com/event-archive/mens-bible-study-3/
CATEGORIES:Conejo Men
ORGANIZER;CN="Men's Ministries":MAILTO:lenkrukowski@yahoo.com
END:VEVENT
BEGIN:VEVENT
DTSTART;TZID=America/Los_Angeles:20230415T070000
DTEND;TZID=America/Los_Angeles:20230415T083000
DTSTAMP:20260423T120729
CREATED:20230405T174653Z
LAST-MODIFIED:20230405T174747Z
UID:140374-1681542000-1681547400@www.conejochurch.com
SUMMARY:Men's Bible Study
DESCRIPTION:
URL:https://www.conejochurch.com/event-archive/mens-bible-study-2/
CATEGORIES:Conejo Men
ATTACH;FMTTYPE=image/png:https://www.conejochurch.com/wp-content/uploads/2023/02/Mens-Bible-Study-March-4.png
END:VEVENT
BEGIN:VEVENT
DTSTART;TZID=America/Los_Angeles:20230304T070000
DTEND;TZID=America/Los_Angeles:20230304T083000
DTSTAMP:20260423T120729
CREATED:20230221T220035Z
LAST-MODIFIED:20230221T220035Z
UID:140326-1677913200-1677918600@www.conejochurch.com
SUMMARY:Men's Bible Study
DESCRIPTION:
URL:https://www.conejochurch.com/event-archive/mens-bible-study/
CATEGORIES:Conejo Men
ATTACH;FMTTYPE=image/png:https://www.conejochurch.com/wp-content/uploads/2023/02/Mens-Bible-Study-March-4.png
ORGANIZER;CN="Men's Ministries":MAILTO:lenkrukowski@yahoo.com
END:VEVENT
BEGIN:VEVENT
DTSTART;TZID=America/Los_Angeles:20230210T183000
DTEND;TZID=America/Los_Angeles:20230210T203000
DTSTAMP:20260423T120729
CREATED:20230201T021545Z
LAST-MODIFIED:20230201T025716Z
UID:140294-1676053800-1676061000@www.conejochurch.com
SUMMARY:Dudes Night Out
DESCRIPTION:
URL:https://www.conejochurch.com/event-archive/dudes-night-out/
CATEGORIES:Conejo Men
ATTACH;FMTTYPE=image/png:https://www.conejochurch.com/wp-content/uploads/2023/01/dudes-night-out-final.png
ORGANIZER;CN="Men's Ministries":MAILTO:lenkrukowski@yahoo.com
END:VEVENT
BEGIN:VEVENT
DTSTART;VALUE=DATE:20220929
DTEND;VALUE=DATE:20221003
DTSTAMP:20260423T120729
CREATED:20220809T191918Z
LAST-MODIFIED:20220813T180230Z
UID:96057-1664409600-1664755199@www.conejochurch.com
SUMMARY:2022 Fall Men's Retreat
DESCRIPTION:Use the QR code on the graphic to register. For information\, reach out to men@conejochurch.com.
URL:https://www.conejochurch.com/event-archive/2022-fall-mens-retreat/
LOCATION:Lake Nacimiento
CATEGORIES:Conejo Men
ATTACH;FMTTYPE=image/png:https://www.conejochurch.com/wp-content/uploads/2022/08/Conejo-Mens-Retreat-w-QR-rev..png
ORGANIZER;CN="Men's Ministries":MAILTO:lenkrukowski@yahoo.com
END:VEVENT
BEGIN:VEVENT
DTSTART;TZID=America/Los_Angeles:20220813T150000
DTEND;TZID=America/Los_Angeles:20220813T180000
DTSTAMP:20260423T120729
CREATED:20220609T181809Z
LAST-MODIFIED:20220804T010241Z
UID:73285-1660402800-1660413600@www.conejochurch.com
SUMMARY:Conejo Men | BBQ & Corn Hole
DESCRIPTION:
URL:https://www.conejochurch.com/event-archive/conejo-men-bbq-wiffle-ball/
LOCATION:Dover Hendrix Park\, Dover Ave\, Thousand Oaks\, CA
CATEGORIES:Conejo Men
ATTACH;FMTTYPE=image/png:https://www.conejochurch.com/wp-content/uploads/2022/06/Conejo-Men-BBQ-corn-hole.png
ORGANIZER;CN="Conejo Church":MAILTO:info@conejochurch.com
END:VEVENT
BEGIN:VEVENT
DTSTART;TZID=America/Los_Angeles:20220626T130000
DTEND;TZID=America/Los_Angeles:20220626T150000
DTSTAMP:20260423T120729
CREATED:20220609T175648Z
LAST-MODIFIED:20220614T192642Z
UID:73280-1656248400-1656255600@www.conejochurch.com
SUMMARY:Conejo Men | Prayer Retreat
DESCRIPTION:
URL:https://www.conejochurch.com/event-archive/conejo-men-prayer-retreat/
LOCATION:Botanic Gardens\, 00 W Gainsborough Rd\, Thousand Oaks\, CA\, 91360
CATEGORIES:Conejo Men
ORGANIZER;CN="Men's Ministries":MAILTO:lenkrukowski@yahoo.com
END:VEVENT
END:VCALENDAR