BEGIN:VCALENDAR
VERSION:2.0
PRODID:-//Conejo Church - ECPv6.15.20//NONSGML v1.0//EN
CALSCALE:GREGORIAN
METHOD:PUBLISH
X-ORIGINAL-URL:https://www.conejochurch.com
X-WR-CALDESC:Events for Conejo Church
REFRESH-INTERVAL;VALUE=DURATION:PT1H
X-Robots-Tag:noindex
X-PUBLISHED-TTL:PT1H
BEGIN:VTIMEZONE
TZID:America/Los_Angeles
BEGIN:DAYLIGHT
TZOFFSETFROM:-0800
TZOFFSETTO:-0700
TZNAME:PDT
DTSTART:20220313T100000
END:DAYLIGHT
BEGIN:STANDARD
TZOFFSETFROM:-0700
TZOFFSETTO:-0800
TZNAME:PST
DTSTART:20221106T090000
END:STANDARD
BEGIN:DAYLIGHT
TZOFFSETFROM:-0800
TZOFFSETTO:-0700
TZNAME:PDT
DTSTART:20230312T100000
END:DAYLIGHT
BEGIN:STANDARD
TZOFFSETFROM:-0700
TZOFFSETTO:-0800
TZNAME:PST
DTSTART:20231105T090000
END:STANDARD
BEGIN:DAYLIGHT
TZOFFSETFROM:-0800
TZOFFSETTO:-0700
TZNAME:PDT
DTSTART:20240310T100000
END:DAYLIGHT
BEGIN:STANDARD
TZOFFSETFROM:-0700
TZOFFSETTO:-0800
TZNAME:PST
DTSTART:20241103T090000
END:STANDARD
BEGIN:DAYLIGHT
TZOFFSETFROM:-0800
TZOFFSETTO:-0700
TZNAME:PDT
DTSTART:20250309T100000
END:DAYLIGHT
BEGIN:STANDARD
TZOFFSETFROM:-0700
TZOFFSETTO:-0800
TZNAME:PST
DTSTART:20251102T090000
END:STANDARD
BEGIN:DAYLIGHT
TZOFFSETFROM:-0800
TZOFFSETTO:-0700
TZNAME:PDT
DTSTART:20260308T100000
END:DAYLIGHT
BEGIN:STANDARD
TZOFFSETFROM:-0700
TZOFFSETTO:-0800
TZNAME:PST
DTSTART:20261101T090000
END:STANDARD
END:VTIMEZONE
BEGIN:VEVENT
DTSTART;TZID=America/Los_Angeles:20251221T130000
DTEND;TZID=America/Los_Angeles:20251221T170000
DTSTAMP:20260423T121001
CREATED:20251112T214027Z
LAST-MODIFIED:20251115T034018Z
UID:143148-1766322000-1766336400@www.conejochurch.com
SUMMARY:Conejo Kids Lunch and Movie
DESCRIPTION:Calling all families with kids and anyone who loves the movies! RSVP to kids@conejochurch.com and let us know you want to come and we’ll pre-order ticket for you. Stay tuned for location.
URL:https://www.conejochurch.com/event-archive/conejo-kids-lunch-and-movie/
CATEGORIES:Conejo Kids
ATTACH;FMTTYPE=image/png:https://www.conejochurch.com/wp-content/uploads/2025/11/21.png
ORGANIZER;CN="Conejo Kids":MAILTO:kids@conejochurch.com
END:VEVENT
BEGIN:VEVENT
DTSTART;TZID=America/Los_Angeles:20250907T120000
DTEND;TZID=America/Los_Angeles:20250907T130000
DTSTAMP:20260423T121001
CREATED:20250901T004351Z
LAST-MODIFIED:20250901T004351Z
UID:142928-1757246400-1757250000@www.conejochurch.com
SUMMARY:Kiddos Planning Meeting/Lunch
DESCRIPTION:Calling ALL kids volunteers! Stay after this coming Sunday for a planning meeting for the next season for our kiddos. Please email kids@conejochurch.com to let us know you’re attending. Lunch will be provided.
URL:https://www.conejochurch.com/event-archive/kiddos-planning-meeting-lunch/
LOCATION:Conejo Church\, 480 West Gainsborough\, Thousand Oaks\, CA\, 91360
CATEGORIES:Conejo Kids
ATTACH;FMTTYPE=image/png:https://www.conejochurch.com/wp-content/uploads/2025/08/Kiddos-Planning-Meeting.png
ORGANIZER;CN="Conejo Kids":MAILTO:kids@conejochurch.com
END:VEVENT
BEGIN:VEVENT
DTSTART;TZID=America/Los_Angeles:20250817T100000
DTEND;TZID=America/Los_Angeles:20250817T113000
DTSTAMP:20260423T121001
CREATED:20250803T002423Z
LAST-MODIFIED:20250803T002423Z
UID:142854-1755424800-1755430200@www.conejochurch.com
SUMMARY:Promotion Sunday
DESCRIPTION:
URL:https://www.conejochurch.com/event-archive/promotion-sunday-3/
LOCATION:Conejo Church\, 480 West Gainsborough\, Thousand Oaks\, CA\, 91360
CATEGORIES:Conejo Kids,Conejo Youth
ATTACH;FMTTYPE=image/png:https://www.conejochurch.com/wp-content/uploads/2025/08/SundayPromotion-Sunday-8-17.png
ORGANIZER;CN="Conejo Kids":MAILTO:kids@conejochurch.com
END:VEVENT
BEGIN:VEVENT
DTSTART;TZID=America/Los_Angeles:20241027T170000
DTEND;TZID=America/Los_Angeles:20241027T190000
DTSTAMP:20260423T121001
CREATED:20240910T190913Z
LAST-MODIFIED:20241018T161840Z
UID:142289-1730048400-1730055600@www.conejochurch.com
SUMMARY:Trunk or Treat Fall Festival
DESCRIPTION:
URL:https://www.conejochurch.com/event-archive/trunk-or-treat-fall-festival-2/
LOCATION:Conejo Church\, 480 West Gainsborough\, Thousand Oaks\, CA\, 91360
CATEGORIES:Conejo Kids
ATTACH;FMTTYPE=image/png:https://www.conejochurch.com/wp-content/uploads/2024/10/Trunk-or-Treat-24-vs2.png
ORGANIZER;CN="Conejo Kids":MAILTO:kids@conejochurch.com
END:VEVENT
BEGIN:VEVENT
DTSTART;TZID=America/Los_Angeles:20240831T183000
DTEND;TZID=America/Los_Angeles:20240831T210000
DTSTAMP:20260423T121001
CREATED:20240730T234240Z
LAST-MODIFIED:20240730T234240Z
UID:142209-1725129000-1725138000@www.conejochurch.com
SUMMARY:Club 4-5-6 | Pool Party +
DESCRIPTION:
URL:https://www.conejochurch.com/event-archive/club-4-5-6-pool-party/
CATEGORIES:Conejo Kids
ATTACH;FMTTYPE=image/png:https://www.conejochurch.com/wp-content/uploads/2024/07/Pool-Party.png
END:VEVENT
BEGIN:VEVENT
DTSTART;TZID=America/Los_Angeles:20240719T183000
DTEND;TZID=America/Los_Angeles:20240719T200000
DTSTAMP:20260423T121001
CREATED:20240529T052521Z
LAST-MODIFIED:20240602T023656Z
UID:142034-1721413800-1721419200@www.conejochurch.com
SUMMARY:Summer Club 4-5-6 | Bowling Night
DESCRIPTION:
URL:https://www.conejochurch.com/event-archive/summer-club-4-5-6-escape-room/
LOCATION:Conejo Church\, 480 West Gainsborough\, Thousand Oaks\, CA\, 91360
CATEGORIES:Conejo Kids
ATTACH;FMTTYPE=image/png:https://www.conejochurch.com/wp-content/uploads/2024/05/Bowling-Night.png
ORGANIZER;CN="Conejo Kids":MAILTO:kids@conejochurch.com
END:VEVENT
BEGIN:VEVENT
DTSTART;TZID=America/Los_Angeles:20240617T063000
DTEND;TZID=America/Los_Angeles:20240617T200000
DTSTAMP:20260423T121001
CREATED:20240529T034812Z
LAST-MODIFIED:20240602T024019Z
UID:142019-1718605800-1718654400@www.conejochurch.com
SUMMARY:Summer Club 4-5-6 | Youth Group Takeover Night
DESCRIPTION:
URL:https://www.conejochurch.com/event-archive/summer-club-4-5-6-youth-group-takeover-night/
LOCATION:Conejo Church\, 480 West Gainsborough\, Thousand Oaks\, CA\, 91360
CATEGORIES:Conejo Kids
ATTACH;FMTTYPE=image/png:https://www.conejochurch.com/wp-content/uploads/2024/05/Youth-Group-Takeover.png
ORGANIZER;CN="Conejo Kids":MAILTO:kids@conejochurch.com
END:VEVENT
BEGIN:VEVENT
DTSTART;TZID=America/Los_Angeles:20240331T110000
DTEND;TZID=America/Los_Angeles:20240331T170000
DTSTAMP:20260423T121001
CREATED:20240308T194829Z
LAST-MODIFIED:20240308T194829Z
UID:141474-1711882800-1711904400@www.conejochurch.com
SUMMARY:Easter Egg Hunt
DESCRIPTION:Our kids will have an amazing Easter egg hunt as part of their kids church on Easter morning. Everyone is welcome!
URL:https://www.conejochurch.com/event-archive/easter-egg-hunt/
LOCATION:Conejo Church\, 480 West Gainsborough\, Thousand Oaks\, CA\, 91360
CATEGORIES:Conejo Kids
ATTACH;FMTTYPE=image/png:https://www.conejochurch.com/wp-content/uploads/2024/03/Easter-EGG-Hunt.png
ORGANIZER;CN="Conejo Kids":MAILTO:kids@conejochurch.com
END:VEVENT
BEGIN:VEVENT
DTSTART;TZID=America/Los_Angeles:20231029T170000
DTEND;TZID=America/Los_Angeles:20231029T190000
DTSTAMP:20260423T121001
CREATED:20230902T191515Z
LAST-MODIFIED:20230926T221746Z
UID:141001-1698598800-1698606000@www.conejochurch.com
SUMMARY:Trunk or Treat Fall Festival
DESCRIPTION:
URL:https://www.conejochurch.com/event-archive/trunk-or-treat-fall-festival/
LOCATION:Conejo Church\, 480 West Gainsborough\, Thousand Oaks\, CA\, 91360
CATEGORIES:Conejo Kids
ATTACH;FMTTYPE=image/png:https://www.conejochurch.com/wp-content/uploads/2023/09/D7A44CE3-7B5C-433B-BA70-A81667F6B4BB.png
ORGANIZER;CN="Conejo Kids":MAILTO:kids@conejochurch.com
END:VEVENT
BEGIN:VEVENT
DTSTART;TZID=America/Los_Angeles:20230820T100000
DTEND;TZID=America/Los_Angeles:20230820T113000
DTSTAMP:20260423T121001
CREATED:20230809T032026Z
LAST-MODIFIED:20230809T032026Z
UID:140974-1692525600-1692531000@www.conejochurch.com
SUMMARY:Promotion Sunday
DESCRIPTION:
URL:https://www.conejochurch.com/event-archive/promotion-sunday/
LOCATION:Conejo Church\, 480 West Gainsborough\, Thousand Oaks\, CA\, 91360
CATEGORIES:Conejo Kids
ATTACH;FMTTYPE=image/png:https://www.conejochurch.com/wp-content/uploads/2023/08/Sunday.png
ORGANIZER;CN="Conejo Church":MAILTO:info@conejochurch.com
END:VEVENT
BEGIN:VEVENT
DTSTART;TZID=America/Los_Angeles:20230520T170000
DTEND;TZID=America/Los_Angeles:20230520T200000
DTSTAMP:20260423T121001
CREATED:20230426T125158Z
LAST-MODIFIED:20230426T131405Z
UID:140453-1684602000-1684612800@www.conejochurch.com
SUMMARY:Parents Night Out
DESCRIPTION:
URL:https://www.conejochurch.com/event-archive/parents-night-out/
LOCATION:Conejo Church\, 480 West Gainsborough\, Thousand Oaks\, CA\, 91360
CATEGORIES:Conejo Kids
ATTACH;FMTTYPE=image/png:https://www.conejochurch.com/wp-content/uploads/2023/04/Parents-Night-Out.png
ORGANIZER;CN="Conejo Kids":MAILTO:kids@conejochurch.com
END:VEVENT
END:VCALENDAR